BEGIN:VCALENDAR
VERSION:2.0
PRODID:-//Center for Aging and Health - ECPv6.15.18//NONSGML v1.0//EN
CALSCALE:GREGORIAN
METHOD:PUBLISH
X-ORIGINAL-URL:https://www.med.unc.edu/aging
X-WR-CALDESC:Events for Center for Aging and Health
REFRESH-INTERVAL;VALUE=DURATION:PT1H
X-Robots-Tag:noindex
X-PUBLISHED-TTL:PT1H
BEGIN:VTIMEZONE
TZID:America/New_York
BEGIN:DAYLIGHT
TZOFFSETFROM:-0500
TZOFFSETTO:-0400
TZNAME:EDT
DTSTART:20180311T070000
END:DAYLIGHT
BEGIN:STANDARD
TZOFFSETFROM:-0400
TZOFFSETTO:-0500
TZNAME:EST
DTSTART:20181104T060000
END:STANDARD
BEGIN:DAYLIGHT
TZOFFSETFROM:-0500
TZOFFSETTO:-0400
TZNAME:EDT
DTSTART:20190310T070000
END:DAYLIGHT
BEGIN:STANDARD
TZOFFSETFROM:-0400
TZOFFSETTO:-0500
TZNAME:EST
DTSTART:20191103T060000
END:STANDARD
BEGIN:DAYLIGHT
TZOFFSETFROM:-0500
TZOFFSETTO:-0400
TZNAME:EDT
DTSTART:20200308T070000
END:DAYLIGHT
BEGIN:STANDARD
TZOFFSETFROM:-0400
TZOFFSETTO:-0500
TZNAME:EST
DTSTART:20201101T060000
END:STANDARD
END:VTIMEZONE
BEGIN:VEVENT
DTSTART;TZID=America/New_York:20191114T130000
DTEND;TZID=America/New_York:20191114T140000
DTSTAMP:20260424T213924
CREATED:20191031T191448Z
LAST-MODIFIED:20191031T191543Z
UID:10000080-1573736400-1573740000@www.med.unc.edu
SUMMARY:Fall Seminar | Research with Older Adults: Lessons from the Field
DESCRIPTION:For the first time in U.S. history\, older adults are projected to outnumber children by 2034 — leading to new demands on our healthcare and caregiving systems. How can we design and implement research that engages older adults to help us understand how to best meet these demands? \nJoin Dr. Anna Beeber to learn about recruitment\, retention\, and data collection methods for research with older adults. The presentation will also provide information about informed consent processes as well as conducting qualitative interviews with older adults. \nAnna Beeber\, PhD\, RN\, FAAN\nAssociate Professor\nBeerstecher-Blackwell Distinguished Term Scholar\nUNC School of Nursing \n 
URL:https://www.med.unc.edu/aging/event/fall-seminar-series-research-conducted-with-older-adults-lessons-from-the-field/
LOCATION:Brinkhous-Bullitt\, Room 219
END:VEVENT
END:VCALENDAR