BEGIN:VCALENDAR
VERSION:2.0
PRODID:-//Department of Anesthesiology - ECPv6.15.18//NONSGML v1.0//EN
CALSCALE:GREGORIAN
METHOD:PUBLISH
X-ORIGINAL-URL:https://www.med.unc.edu/anesthesiology
X-WR-CALDESC:Events for Department of Anesthesiology
REFRESH-INTERVAL;VALUE=DURATION:PT1H
X-Robots-Tag:noindex
X-PUBLISHED-TTL:PT1H
BEGIN:VTIMEZONE
TZID:America/New_York
BEGIN:DAYLIGHT
TZOFFSETFROM:-0500
TZOFFSETTO:-0400
TZNAME:EDT
DTSTART:20210314T070000
END:DAYLIGHT
BEGIN:STANDARD
TZOFFSETFROM:-0400
TZOFFSETTO:-0500
TZNAME:EST
DTSTART:20211107T060000
END:STANDARD
BEGIN:DAYLIGHT
TZOFFSETFROM:-0500
TZOFFSETTO:-0400
TZNAME:EDT
DTSTART:20220313T070000
END:DAYLIGHT
BEGIN:STANDARD
TZOFFSETFROM:-0400
TZOFFSETTO:-0500
TZNAME:EST
DTSTART:20221106T060000
END:STANDARD
BEGIN:DAYLIGHT
TZOFFSETFROM:-0500
TZOFFSETTO:-0400
TZNAME:EDT
DTSTART:20230312T070000
END:DAYLIGHT
BEGIN:STANDARD
TZOFFSETFROM:-0400
TZOFFSETTO:-0500
TZNAME:EST
DTSTART:20231105T060000
END:STANDARD
END:VTIMEZONE
BEGIN:VEVENT
DTSTART;TZID=America/New_York:20220325T113000
DTEND;TZID=America/New_York:20220325T143000
DTSTAMP:20260422T200734
CREATED:20220302T202111Z
LAST-MODIFIED:20220302T202111Z
UID:10000285-1648207800-1648218600@www.med.unc.edu
SUMMARY:Racial Justice Workshop
DESCRIPTION:This workshop addresses structural racism in the United States. The workshop explores the history of race as a social construct and the effects of racism on our education and health care systems. It also engages participants in a discussion of how to combat structural racism within the School of Medicine.
URL:https://www.med.unc.edu/anesthesiology/event/racial-justice-workshop/
LOCATION:Virtual
CATEGORIES:Diversity
END:VEVENT
BEGIN:VEVENT
DTSTART;TZID=America/New_York:20220310T090000
DTEND;TZID=America/New_York:20220310T113000
DTSTAMP:20260422T200734
CREATED:20220302T200537Z
LAST-MODIFIED:20220302T200537Z
UID:10000281-1646902800-1646911800@www.med.unc.edu
SUMMARY:Unconscious Bias Awareness
DESCRIPTION:This workshop explores un-intended/implicit bias and introduces foundational concepts that are necessary to addition-al engagement with DEI-related topics and issues.
URL:https://www.med.unc.edu/anesthesiology/event/unconscious-bias-awareness/
CATEGORIES:Diversity
END:VEVENT
BEGIN:VEVENT
DTSTART;TZID=America/New_York:20220309T130000
DTEND;TZID=America/New_York:20220309T160000
DTSTAMP:20260422T200734
CREATED:20220302T200301Z
LAST-MODIFIED:20220302T200301Z
UID:10000280-1646830800-1646841600@www.med.unc.edu
SUMMARY:2022 Paul A. Godley Health Equity Symposium
DESCRIPTION:The 2022 Paul A. Godley Health Equity Symposium is scheduled for Wednesday\, March 9\, 1 – 4 PM ET. This event is hosted by the UNC Center for Health Equity Research and sponsored by the UNC SOM Office of Diversity\, Equity\, and Inclusion. \nAbout\nThe Paul A. Godley Health Equity Symposium brings together faculty\, staff\, students and the community to: \n\nHighlight and encourage health equity research;\nPromote collaboration and networking; and\nEncourage strategic planning and partnerships at the UNC School of Medicine.\n\nAgenda\nMore details to be provided by March 2\, 2022. \n\n1pm: Welcome and Networking\n1:15pm Ignite Research Presentations\n2:15pm Panel: UNC SOM Faculty/Staff Spotlight\n3:15pm Panel: Community-Academic Partnership in Research\n\nLearn more about the inaugural symposium in 2020 here: https://www.med.unc.edu/inclusion/events/paul-a-godley-health-equity-symposium/
URL:https://www.med.unc.edu/anesthesiology/event/2022-paul-a-godley-health-equity-symposium/
CATEGORIES:Diversity
END:VEVENT
BEGIN:VEVENT
DTSTART;TZID=America/New_York:20220216T120000
DTEND;TZID=America/New_York:20220216T150000
DTSTAMP:20260422T200734
CREATED:20220209T174752Z
LAST-MODIFIED:20220209T174752Z
UID:10000254-1645012800-1645023600@www.med.unc.edu
SUMMARY:Respecting All
DESCRIPTION:This workshop explores microaggressions and biased behavior prevalent in the SOM and provides participants tools with which to intervene when witnessing acts of disrespect and discrimination.
URL:https://www.med.unc.edu/anesthesiology/event/respecting-all/
CATEGORIES:Diversity
END:VEVENT
END:VCALENDAR