BEGIN:VCALENDAR
VERSION:2.0
PRODID:-//Department of Anesthesiology - ECPv6.15.18//NONSGML v1.0//EN
CALSCALE:GREGORIAN
METHOD:PUBLISH
X-ORIGINAL-URL:https://www.med.unc.edu/anesthesiology
X-WR-CALDESC:Events for Department of Anesthesiology
REFRESH-INTERVAL;VALUE=DURATION:PT1H
X-Robots-Tag:noindex
X-PUBLISHED-TTL:PT1H
BEGIN:VTIMEZONE
TZID:America/New_York
BEGIN:DAYLIGHT
TZOFFSETFROM:-0500
TZOFFSETTO:-0400
TZNAME:EDT
DTSTART:20220313T070000
END:DAYLIGHT
BEGIN:STANDARD
TZOFFSETFROM:-0400
TZOFFSETTO:-0500
TZNAME:EST
DTSTART:20221106T060000
END:STANDARD
BEGIN:DAYLIGHT
TZOFFSETFROM:-0500
TZOFFSETTO:-0400
TZNAME:EDT
DTSTART:20230312T070000
END:DAYLIGHT
BEGIN:STANDARD
TZOFFSETFROM:-0400
TZOFFSETTO:-0500
TZNAME:EST
DTSTART:20231105T060000
END:STANDARD
BEGIN:DAYLIGHT
TZOFFSETFROM:-0500
TZOFFSETTO:-0400
TZNAME:EDT
DTSTART:20240310T070000
END:DAYLIGHT
BEGIN:STANDARD
TZOFFSETFROM:-0400
TZOFFSETTO:-0500
TZNAME:EST
DTSTART:20241103T060000
END:STANDARD
END:VTIMEZONE
BEGIN:VEVENT
DTSTART;TZID=America/New_York:20230118T070000
DTEND;TZID=America/New_York:20230118T080000
DTSTAMP:20260423T042857
CREATED:20230113T161507Z
LAST-MODIFIED:20230113T161507Z
UID:10000290-1674025200-1674028800@www.med.unc.edu
SUMMARY:Grand Rounds: Dr. Sean Runnels
DESCRIPTION:Join UNC Anesthesiology for Grand Rounds on Wednesday\, January 18th with Visiting Professor Dr. Sean Runnels of the University of Utah Department of Anesthesiology. Dr. Runnels will present\, “Charity\, Hobby or Business: Observations From the Road Less Traveled.”
URL:https://www.med.unc.edu/anesthesiology/event/grand-rounds-dr-sean-runnels/
LOCATION:Bondurant G100
CATEGORIES:Grand Rounds
ATTACH;FMTTYPE=image/png:https://www.med.unc.edu/anesthesiology/wp-content/uploads/sites/470/2023/01/Sean-Runnels-1.18-GR-e1673626490500.png
END:VEVENT
END:VCALENDAR