BEGIN:VCALENDAR
VERSION:2.0
PRODID:-//Bullitt History of Medicine Club - ECPv6.15.18//NONSGML v1.0//EN
CALSCALE:GREGORIAN
METHOD:PUBLISH
X-ORIGINAL-URL:https://www.med.unc.edu/bhomc
X-WR-CALDESC:Events for Bullitt History of Medicine Club
REFRESH-INTERVAL;VALUE=DURATION:PT1H
X-Robots-Tag:noindex
X-PUBLISHED-TTL:PT1H
BEGIN:VTIMEZONE
TZID:America/New_York
BEGIN:DAYLIGHT
TZOFFSETFROM:-0500
TZOFFSETTO:-0400
TZNAME:EDT
DTSTART:20180311T070000
END:DAYLIGHT
BEGIN:STANDARD
TZOFFSETFROM:-0400
TZOFFSETTO:-0500
TZNAME:EST
DTSTART:20181104T060000
END:STANDARD
BEGIN:DAYLIGHT
TZOFFSETFROM:-0500
TZOFFSETTO:-0400
TZNAME:EDT
DTSTART:20190310T070000
END:DAYLIGHT
BEGIN:STANDARD
TZOFFSETFROM:-0400
TZOFFSETTO:-0500
TZNAME:EST
DTSTART:20191103T060000
END:STANDARD
BEGIN:DAYLIGHT
TZOFFSETFROM:-0500
TZOFFSETTO:-0400
TZNAME:EDT
DTSTART:20200308T070000
END:DAYLIGHT
BEGIN:STANDARD
TZOFFSETFROM:-0400
TZOFFSETTO:-0500
TZNAME:EST
DTSTART:20201101T060000
END:STANDARD
END:VTIMEZONE
BEGIN:VEVENT
DTSTART;TZID=America/New_York:20191015T120000
DTEND;TZID=America/New_York:20191015T130000
DTSTAMP:20260424T155043
CREATED:20190524T125344Z
LAST-MODIFIED:20190715T195714Z
UID:10000058-1571140800-1571144400@www.med.unc.edu
SUMMARY:Artificial Hearts:  A Controversial Medical Technology and Its Sensational Patient Cases from Haskell Karp to Dick Cheney
DESCRIPTION:Bullitt Club Lecture Series Presents \nShelley McKellar\, PhD\nHannah Professor in the History of Medicine\nSchulich School of Medicine & Dentistry\nWestern University\, London\, Ontario\, Canada\n \nArtificial Hearts:  A Controversial Medical Technology and Its Sensational Patient Cases from Haskell Karp to Dick Cheney \nBondurant Hall\, Room 2025. \nLecture information: Today artificial hearts are a clinical reality after decades of contentious development.  Former U.S. Vice President Dick Cheney told reporters that it ‘saved his life’ when asked about living with an artificial heart device for 20 months in 2010-2012.  But not all artificial heart implant patients\, like Haskell Karp and Barney Clark\, enjoyed such successful recoveries.  \nIn this presentation\, McKellar examines the clinical use of artificial hearts since the 1960s\, situating the triumphant narrative of this technology and its ‘resurrectionist capacity’ alongside technical device challenges and difficult patient experiences.  Who would not want a life-saving\, off-the-shelf device fix for a loved one dying of heart failure? The appeal was the promissory nature of artificial hearts as a life-sustaining treatment\, a medical technology that might alter the usual course of events that when a person’s heart failed\, that person died.   \nMcKellar argues that desirability—rather than feasibility or practicality of artificial hearts—drove the development of this technology.  Artificial hearts were (and are) an imperfect technology\, and its controversial history speaks to questions of expectations\, limitations and uncertainty in a high-technology medical world. \nSpeaker information: Shelley McKellar\, PhD is the Hannah Chair in the History of Medicine at the Schulich School of Medicine & Dentistry at Western University. She is also a Full Professor in the Department of History at Western University.  She earned her PhD degree in History from the University of Toronto\, after which she worked on a documentary history project at the Smithsonian Institution in Washington\, DC\, and then she accepted her academic position at Western University in London\, Ontario\, Canada.   \nHer research focuses on the history of surgery\, medical technology and the material culture of medicine.  She is the author of several books and articles:  her first book\, entitled Surgical Limits\, is a biography of Canadian surgeon Gordon Murray\, one of Canada’s most prominent and controversial surgeons\, who was also dubbed Canada’s ‘blue baby doctor’ for fixing congenital heart malformations in the era before open-heart surgery; she co-authored the book Medicine and Technology in Canada\, 1900-1950\, which highlights medical devices and practices in Canada\, such as insulin\, TB x-ray screening\, and the use of iron lungs.  Her most recent book is Artificial Hearts: The Allure and Ambivalence of a Controversial Medical Technology published by Johns Hopkins University Press that traces the potential and promise of this medical technology from the 1950s to present day.   \nAt Western University\, she teaches history of disease courses that focus on epidemic outbreaks and social response to history students in the Faculty of Social Science.   She also teaches the history of medicine\, the medical profession\, and related historical aspects of ‘doctoring’ to medical students in the medical school at Western University.  She is also curator of the Medical Artifact Collection at Western – a small research and teaching university collection – that allows her to play with amputation saws\, toothkeys\, bloodletting instruments and more with her students.
URL:https://www.med.unc.edu/bhomc/event/artificial-hearts-a-controversial-medical-technology-and-its-sensational-patient-cases-from-haskell-karp-to-dick-cheney/
LOCATION:Bondurant Hall — Room 2025\, 321 S. Columbia Street\, Chapel Hill\, NC\, 27514
ORGANIZER;CN="Dawne Lucas":MAILTO:dawne_lucas@unc.edu
END:VEVENT
END:VCALENDAR