BEGIN:VCALENDAR
VERSION:2.0
PRODID:-//Biochemistry and Biophysics - ECPv6.15.18//NONSGML v1.0//EN
CALSCALE:GREGORIAN
METHOD:PUBLISH
X-ORIGINAL-URL:https://www.med.unc.edu/biochem
X-WR-CALDESC:Events for Biochemistry and Biophysics
REFRESH-INTERVAL;VALUE=DURATION:PT1H
X-Robots-Tag:noindex
X-PUBLISHED-TTL:PT1H
BEGIN:VTIMEZONE
TZID:America/New_York
BEGIN:DAYLIGHT
TZOFFSETFROM:-0500
TZOFFSETTO:-0400
TZNAME:EDT
DTSTART:20250309T070000
END:DAYLIGHT
BEGIN:STANDARD
TZOFFSETFROM:-0400
TZOFFSETTO:-0500
TZNAME:EST
DTSTART:20251102T060000
END:STANDARD
BEGIN:DAYLIGHT
TZOFFSETFROM:-0500
TZOFFSETTO:-0400
TZNAME:EDT
DTSTART:20260308T070000
END:DAYLIGHT
BEGIN:STANDARD
TZOFFSETFROM:-0400
TZOFFSETTO:-0500
TZNAME:EST
DTSTART:20261101T060000
END:STANDARD
BEGIN:DAYLIGHT
TZOFFSETFROM:-0500
TZOFFSETTO:-0400
TZNAME:EDT
DTSTART:20270314T070000
END:DAYLIGHT
BEGIN:STANDARD
TZOFFSETFROM:-0400
TZOFFSETTO:-0500
TZNAME:EST
DTSTART:20271107T060000
END:STANDARD
END:VTIMEZONE
BEGIN:VEVENT
DTSTART;TZID=America/New_York:20260414T110000
DTEND;TZID=America/New_York:20260414T120000
DTSTAMP:20260419T190051
CREATED:20260211T175237Z
LAST-MODIFIED:20260306T145521Z
UID:10003475-1776164400-1776168000@www.med.unc.edu
SUMMARY:Seminar
DESCRIPTION:2026 Spring Seminar Series
URL:https://www.med.unc.edu/biochem/event/seminar-3-2-2/2026-04-14/
LOCATION:1131 Bioinformatics\, 130 Mason Farm Road\, Chapel Hill\, NC\, 27514\, United States
CATEGORIES:Department Events,Postdoc Events,Student Events
ORGANIZER;CN="Rhonda Strickland":MAILTO:rbrann@email.unc.edu
GEO:35.9016456;-79.0532865
X-APPLE-STRUCTURED-LOCATION;VALUE=URI;X-ADDRESS=1131 Bioinformatics 130 Mason Farm Road Chapel Hill NC 27514 United States;X-APPLE-RADIUS=500;X-TITLE=130 Mason Farm Road:geo:-79.0532865,35.9016456
END:VEVENT
BEGIN:VEVENT
DTSTART;TZID=America/New_York:20260407T110000
DTEND;TZID=America/New_York:20260407T120000
DTSTAMP:20260419T190051
CREATED:20260211T175237Z
LAST-MODIFIED:20260306T145521Z
UID:10003474-1775559600-1775563200@www.med.unc.edu
SUMMARY:Seminar
DESCRIPTION:2026 Spring Seminar Series
URL:https://www.med.unc.edu/biochem/event/seminar-3-2-2/2026-04-07/
LOCATION:1131 Bioinformatics\, 130 Mason Farm Road\, Chapel Hill\, NC\, 27514\, United States
CATEGORIES:Department Events,Postdoc Events,Student Events
ORGANIZER;CN="Rhonda Strickland":MAILTO:rbrann@email.unc.edu
GEO:35.9016456;-79.0532865
X-APPLE-STRUCTURED-LOCATION;VALUE=URI;X-ADDRESS=1131 Bioinformatics 130 Mason Farm Road Chapel Hill NC 27514 United States;X-APPLE-RADIUS=500;X-TITLE=130 Mason Farm Road:geo:-79.0532865,35.9016456
END:VEVENT
BEGIN:VEVENT
DTSTART;TZID=America/New_York:20260331T110000
DTEND;TZID=America/New_York:20260331T120000
DTSTAMP:20260419T190051
CREATED:20260211T175237Z
LAST-MODIFIED:20260306T145521Z
UID:10003473-1774954800-1774958400@www.med.unc.edu
SUMMARY:Seminar
DESCRIPTION:2026 Spring Seminar Series
URL:https://www.med.unc.edu/biochem/event/seminar-3-2-2/2026-03-31/
LOCATION:1131 Bioinformatics\, 130 Mason Farm Road\, Chapel Hill\, NC\, 27514\, United States
CATEGORIES:Department Events,Postdoc Events,Student Events
ORGANIZER;CN="Rhonda Strickland":MAILTO:rbrann@email.unc.edu
GEO:35.9016456;-79.0532865
X-APPLE-STRUCTURED-LOCATION;VALUE=URI;X-ADDRESS=1131 Bioinformatics 130 Mason Farm Road Chapel Hill NC 27514 United States;X-APPLE-RADIUS=500;X-TITLE=130 Mason Farm Road:geo:-79.0532865,35.9016456
END:VEVENT
BEGIN:VEVENT
DTSTART;TZID=America/New_York:20260324T110000
DTEND;TZID=America/New_York:20260324T120000
DTSTAMP:20260419T190051
CREATED:20260211T175237Z
LAST-MODIFIED:20260306T145521Z
UID:10003472-1774350000-1774353600@www.med.unc.edu
SUMMARY:Seminar
DESCRIPTION:2026 Spring Seminar Series
URL:https://www.med.unc.edu/biochem/event/seminar-3-2-2/2026-03-24/
LOCATION:1131 Bioinformatics\, 130 Mason Farm Road\, Chapel Hill\, NC\, 27514\, United States
CATEGORIES:Department Events,Postdoc Events,Student Events
ORGANIZER;CN="Rhonda Strickland":MAILTO:rbrann@email.unc.edu
GEO:35.9016456;-79.0532865
X-APPLE-STRUCTURED-LOCATION;VALUE=URI;X-ADDRESS=1131 Bioinformatics 130 Mason Farm Road Chapel Hill NC 27514 United States;X-APPLE-RADIUS=500;X-TITLE=130 Mason Farm Road:geo:-79.0532865,35.9016456
END:VEVENT
BEGIN:VEVENT
DTSTART;TZID=America/New_York:20260310T110000
DTEND;TZID=America/New_York:20260310T120000
DTSTAMP:20260419T190051
CREATED:20260211T175237Z
LAST-MODIFIED:20260306T145521Z
UID:10003471-1773140400-1773144000@www.med.unc.edu
SUMMARY:Seminar
DESCRIPTION:2026 Spring Seminar Series
URL:https://www.med.unc.edu/biochem/event/seminar-3-2-2/2026-03-10/
LOCATION:1131 Bioinformatics\, 130 Mason Farm Road\, Chapel Hill\, NC\, 27514\, United States
CATEGORIES:Department Events,Postdoc Events,Student Events
ORGANIZER;CN="Rhonda Strickland":MAILTO:rbrann@email.unc.edu
GEO:35.9016456;-79.0532865
X-APPLE-STRUCTURED-LOCATION;VALUE=URI;X-ADDRESS=1131 Bioinformatics 130 Mason Farm Road Chapel Hill NC 27514 United States;X-APPLE-RADIUS=500;X-TITLE=130 Mason Farm Road:geo:-79.0532865,35.9016456
END:VEVENT
BEGIN:VEVENT
DTSTART;TZID=America/New_York:20260309T133000
DTEND;TZID=America/New_York:20260309T143000
DTSTAMP:20260419T190051
CREATED:20260306T184528Z
LAST-MODIFIED:20260306T184528Z
UID:10003484-1773063000-1773066600@www.med.unc.edu
SUMMARY:Defense: Christopher Shelby
DESCRIPTION:Biochemistry and Biophysics Student Defense: \n\nStudent:  \nChristopher Shelby (student of Dr. Brian Kuhlman) \n\nTitle:  \n“Enhancing enzymatic bioconjugation efficiency via computer-based installation of a substrate recruitment domain” \n\nDate/location:  \nMarch 9\, 2026 \n1:45 PM \nBioinformatics 1131
URL:https://www.med.unc.edu/biochem/event/christopher-shelby/
LOCATION:1131 Bioinformatics\, 130 Mason Farm Road\, Chapel Hill\, NC\, 27514\, United States
CATEGORIES:Department Events,Student Events
ORGANIZER;CN="Holly Shepherd":MAILTO:holly_shepherd@med.unc.edu
GEO:35.9016456;-79.0532865
X-APPLE-STRUCTURED-LOCATION;VALUE=URI;X-ADDRESS=1131 Bioinformatics 130 Mason Farm Road Chapel Hill NC 27514 United States;X-APPLE-RADIUS=500;X-TITLE=130 Mason Farm Road:geo:-79.0532865,35.9016456
END:VEVENT
BEGIN:VEVENT
DTSTART;TZID=America/New_York:20260303T110000
DTEND;TZID=America/New_York:20260303T120000
DTSTAMP:20260419T190051
CREATED:20260211T175300Z
LAST-MODIFIED:20260211T175301Z
UID:10003470-1772535600-1772539200@www.med.unc.edu
SUMMARY:Seminar
DESCRIPTION:2026 Spring Seminar Series \nSpecial seminars will occur January through February. 2026 Spring Seminar Series will occur March – April. \nMarch 3\nTitle: “UFMylation Regulates Mitochondrial Metabolism and Development” \nMarch 10\nvacant \nMarch 17 – none\nSpring break \nMarch 24\nMichael Kemp\, Associate Professor\, Department of Pharmacology and Toxicology\nWright State University\nHosts: Laura Lindsey-Boltz and Aziz Sancar \nMarch 31\nvacant \nApril 7\nGuochun Jiang\, Ph.D.\, Assistant Professor\, Biochemistry and Biophysics\nUNC-CH\nHost: Jean Cook\nTitle: “TBD” \nApril 14\nDavid Boehr\, Ph.D.\, Professor of Chemistry (Sabbatical in Craig Campbell’s Lab at UNC)\nPenn State University\nHost: Rebecca Berlow\nTitle: “TBD” \nApril 21\nXiaojun Ren\, Ph.D.\, Associate Professor\, Biological Sciences\nUNC-Charlotte\nHost: Jill Dowen
URL:https://www.med.unc.edu/biochem/event/seminar-3-2-3/
LOCATION:1131 Bioinformatics\, 130 Mason Farm Road\, Chapel Hill\, NC\, 27514\, United States
CATEGORIES:Department Events,Postdoc Events,Student Events
ORGANIZER;CN="Rhonda Strickland":MAILTO:rbrann@email.unc.edu
GEO:35.9016456;-79.0532865
X-APPLE-STRUCTURED-LOCATION;VALUE=URI;X-ADDRESS=1131 Bioinformatics 130 Mason Farm Road Chapel Hill NC 27514 United States;X-APPLE-RADIUS=500;X-TITLE=130 Mason Farm Road:geo:-79.0532865,35.9016456
END:VEVENT
BEGIN:VEVENT
DTSTART;TZID=America/New_York:20260226T140000
DTEND;TZID=America/New_York:20260226T150000
DTSTAMP:20260419T190051
CREATED:20260211T175108Z
LAST-MODIFIED:20260211T175135Z
UID:10003482-1772114400-1772118000@www.med.unc.edu
SUMMARY:Seminar
DESCRIPTION:February 26 (2:00-3:00 pm ) rescheduled from January 27\nTitle: “Engineering bacterial signal transduction”
URL:https://www.med.unc.edu/biochem/event/seminar/
LOCATION:1131 Bioinformatics\, 130 Mason Farm Road\, Chapel Hill\, NC\, 27514\, United States
CATEGORIES:Department Events,Postdoc Events,Student Events
ORGANIZER;CN="Rhonda Strickland":MAILTO:rbrann@email.unc.edu
GEO:35.9016456;-79.0532865
X-APPLE-STRUCTURED-LOCATION;VALUE=URI;X-ADDRESS=1131 Bioinformatics 130 Mason Farm Road Chapel Hill NC 27514 United States;X-APPLE-RADIUS=500;X-TITLE=130 Mason Farm Road:geo:-79.0532865,35.9016456
END:VEVENT
BEGIN:VEVENT
DTSTART;TZID=America/New_York:20260224T110000
DTEND;TZID=America/New_York:20260224T120000
DTSTAMP:20260419T190051
CREATED:20260130T200959Z
LAST-MODIFIED:20260130T201000Z
UID:10003469-1771930800-1771934400@www.med.unc.edu
SUMMARY:Seminar
DESCRIPTION:2026 Spring Seminar Series \nSpecial seminars will occur January through February. 2026 Spring Seminar Series will occur March – April. \nMarch 3\nVacant \nMarch 10\nvacant \nMarch 17 – none\nSpring break \nMarch 24\nMichael Kemp\, Associate Professor\, Department of Pharmacology and Toxicology\nWright State University\nHosts: Laura Lindsey-Boltz and Aziz Sancar \nMarch 31\nvacant \nApril 7\nGuochun Jiang\, Ph.D.\, Assistant Professor\, Biochemistry and Biophysics\nUNC-CH\nHost: Jean Cook\nTitle: “TBD” \nApril 14\nDavid Boehr\, Ph.D.\, Professor of Chemistry (Sabbatical in Craig Campbell’s Lab at UNC)\nPenn State University\nHost: Rebecca Berlow\nTitle: “TBD” \nApril 21\nXiaojun Ren\, Ph.D.\, Associate Professor\, Biological Sciences\nUNC-Charlotte\nHost: Jill Dowen
URL:https://www.med.unc.edu/biochem/event/seminar-3-2/2026-02-24/
LOCATION:1131 Bioinformatics\, 130 Mason Farm Road\, Chapel Hill\, NC\, 27514\, United States
CATEGORIES:Department Events,Postdoc Events,Student Events
ORGANIZER;CN="Rhonda Strickland":MAILTO:rbrann@email.unc.edu
GEO:35.9016456;-79.0532865
X-APPLE-STRUCTURED-LOCATION;VALUE=URI;X-ADDRESS=1131 Bioinformatics 130 Mason Farm Road Chapel Hill NC 27514 United States;X-APPLE-RADIUS=500;X-TITLE=130 Mason Farm Road:geo:-79.0532865,35.9016456
END:VEVENT
BEGIN:VEVENT
DTSTART;TZID=America/New_York:20260217T110000
DTEND;TZID=America/New_York:20260217T120000
DTSTAMP:20260419T190051
CREATED:20260130T200959Z
LAST-MODIFIED:20260130T201000Z
UID:10003468-1771326000-1771329600@www.med.unc.edu
SUMMARY:Seminar
DESCRIPTION:2026 Spring Seminar Series \nSpecial seminars will occur January through February. 2026 Spring Seminar Series will occur March – April. \nMarch 3\nVacant \nMarch 10\nvacant \nMarch 17 – none\nSpring break \nMarch 24\nMichael Kemp\, Associate Professor\, Department of Pharmacology and Toxicology\nWright State University\nHosts: Laura Lindsey-Boltz and Aziz Sancar \nMarch 31\nvacant \nApril 7\nGuochun Jiang\, Ph.D.\, Assistant Professor\, Biochemistry and Biophysics\nUNC-CH\nHost: Jean Cook\nTitle: “TBD” \nApril 14\nDavid Boehr\, Ph.D.\, Professor of Chemistry (Sabbatical in Craig Campbell’s Lab at UNC)\nPenn State University\nHost: Rebecca Berlow\nTitle: “TBD” \nApril 21\nXiaojun Ren\, Ph.D.\, Associate Professor\, Biological Sciences\nUNC-Charlotte\nHost: Jill Dowen
URL:https://www.med.unc.edu/biochem/event/seminar-3-2/2026-02-17/
LOCATION:1131 Bioinformatics\, 130 Mason Farm Road\, Chapel Hill\, NC\, 27514\, United States
CATEGORIES:Department Events,Postdoc Events,Student Events
ORGANIZER;CN="Rhonda Strickland":MAILTO:rbrann@email.unc.edu
GEO:35.9016456;-79.0532865
X-APPLE-STRUCTURED-LOCATION;VALUE=URI;X-ADDRESS=1131 Bioinformatics 130 Mason Farm Road Chapel Hill NC 27514 United States;X-APPLE-RADIUS=500;X-TITLE=130 Mason Farm Road:geo:-79.0532865,35.9016456
END:VEVENT
BEGIN:VEVENT
DTSTART;TZID=America/New_York:20260210T110000
DTEND;TZID=America/New_York:20260210T120000
DTSTAMP:20260419T190051
CREATED:20260130T200959Z
LAST-MODIFIED:20260130T201000Z
UID:10003467-1770721200-1770724800@www.med.unc.edu
SUMMARY:Seminar
DESCRIPTION:2026 Spring Seminar Series \nSpecial seminars will occur January through February. 2026 Spring Seminar Series will occur March – April. \nMarch 3\nVacant \nMarch 10\nvacant \nMarch 17 – none\nSpring break \nMarch 24\nMichael Kemp\, Associate Professor\, Department of Pharmacology and Toxicology\nWright State University\nHosts: Laura Lindsey-Boltz and Aziz Sancar \nMarch 31\nvacant \nApril 7\nGuochun Jiang\, Ph.D.\, Assistant Professor\, Biochemistry and Biophysics\nUNC-CH\nHost: Jean Cook\nTitle: “TBD” \nApril 14\nDavid Boehr\, Ph.D.\, Professor of Chemistry (Sabbatical in Craig Campbell’s Lab at UNC)\nPenn State University\nHost: Rebecca Berlow\nTitle: “TBD” \nApril 21\nXiaojun Ren\, Ph.D.\, Associate Professor\, Biological Sciences\nUNC-Charlotte\nHost: Jill Dowen
URL:https://www.med.unc.edu/biochem/event/seminar-3-2/2026-02-10/
LOCATION:1131 Bioinformatics\, 130 Mason Farm Road\, Chapel Hill\, NC\, 27514\, United States
CATEGORIES:Department Events,Postdoc Events,Student Events
ORGANIZER;CN="Rhonda Strickland":MAILTO:rbrann@email.unc.edu
GEO:35.9016456;-79.0532865
X-APPLE-STRUCTURED-LOCATION;VALUE=URI;X-ADDRESS=1131 Bioinformatics 130 Mason Farm Road Chapel Hill NC 27514 United States;X-APPLE-RADIUS=500;X-TITLE=130 Mason Farm Road:geo:-79.0532865,35.9016456
END:VEVENT
BEGIN:VEVENT
DTSTART;TZID=America/New_York:20260203T110000
DTEND;TZID=America/New_York:20260203T120000
DTSTAMP:20260419T190051
CREATED:20260130T201018Z
LAST-MODIFIED:20260202T144558Z
UID:10003466-1770116400-1770120000@www.med.unc.edu
SUMMARY:Seminar
DESCRIPTION:2026 Spring Seminar Series \nSpecial seminars will occur January through February. \n1/27 and 2/3 seminars canceled due to weather events. \n2026 Spring Seminar Series will occur March – April. \nMarch 3\nVacant \nMarch 10\nvacant \nMarch 17 – none\nSpring break \nMarch 24\nMichael Kemp\, Associate Professor\, Department of Pharmacology and Toxicology\nWright State University\nHosts: Laura Lindsey-Boltz and Aziz Sancar \nMarch 31\nvacant \nApril 7\nGuochun Jiang\, Ph.D.\, Assistant Professor\, Biochemistry and Biophysics\nUNC-CH\nHost: Jean Cook\nTitle: “TBD” \nApril 14\nDavid Boehr\, Ph.D.\, Professor of Chemistry (Sabbatical in Craig Campbell’s Lab at UNC)\nPenn State University\nHost: Rebecca Berlow\nTitle: “TBD” \nApril 21\nXiaojun Ren\, Ph.D.\, Associate Professor\, Biological Sciences\nUNC-Charlotte\nHost: Jill Dowen
URL:https://www.med.unc.edu/biochem/event/seminar-3-3/
LOCATION:1131 Bioinformatics\, 130 Mason Farm Road\, Chapel Hill\, NC\, 27514\, United States
CATEGORIES:Department Events,Postdoc Events,Student Events
ORGANIZER;CN="Rhonda Strickland":MAILTO:rbrann@email.unc.edu
GEO:35.9016456;-79.0532865
X-APPLE-STRUCTURED-LOCATION;VALUE=URI;X-ADDRESS=1131 Bioinformatics 130 Mason Farm Road Chapel Hill NC 27514 United States;X-APPLE-RADIUS=500;X-TITLE=130 Mason Farm Road:geo:-79.0532865,35.9016456
END:VEVENT
BEGIN:VEVENT
DTSTART;TZID=America/New_York:20260127T110000
DTEND;TZID=America/New_York:20260127T120000
DTSTAMP:20260419T190051
CREATED:20260106T184635Z
LAST-MODIFIED:20260130T200938Z
UID:10003465-1769511600-1769515200@www.med.unc.edu
SUMMARY:Seminar
DESCRIPTION:2026 Spring Seminar Series \nSpecial seminars will occur January through February. 2026 Spring Seminar Series will occur March – April. \nMarch 3\nVacant \nMarch 10\nvacant \nMarch 17 – none\nSpring break \nMarch 24\nMichael Kemp\, Associate Professor\, Department of Pharmacology and Toxicology\nWright State University\nHosts: Laura Lindsey-Boltz and Aziz Sancar \nMarch 31\nvacant \nApril 7\nGuochun Jiang\, Ph.D.\, Assistant Professor\, Biochemistry and Biophysics\nUNC-CH\nHost: Jean Cook\nTitle: “TBD” \nApril 14\nDavid Boehr\, Ph.D.\, Professor of Chemistry (Sabbatical in Craig Campbell’s Lab at UNC)\nPenn State University\nHost: Rebecca Berlow\nTitle: “TBD” \nApril 21\nXiaojun Ren\, Ph.D.\, Associate Professor\, Biological Sciences\nUNC-Charlotte\nHost: Jill Dowen
URL:https://www.med.unc.edu/biochem/event/seminar-3/2026-01-27/
LOCATION:1131 Bioinformatics\, 130 Mason Farm Road\, Chapel Hill\, NC\, 27514\, United States
CATEGORIES:Department Events,Postdoc Events,Student Events
ORGANIZER;CN="Rhonda Strickland":MAILTO:rbrann@email.unc.edu
GEO:35.9016456;-79.0532865
X-APPLE-STRUCTURED-LOCATION;VALUE=URI;X-ADDRESS=1131 Bioinformatics 130 Mason Farm Road Chapel Hill NC 27514 United States;X-APPLE-RADIUS=500;X-TITLE=130 Mason Farm Road:geo:-79.0532865,35.9016456
END:VEVENT
BEGIN:VEVENT
DTSTART;TZID=America/New_York:20260120T110000
DTEND;TZID=America/New_York:20260120T120000
DTSTAMP:20260419T190051
CREATED:20260106T184635Z
LAST-MODIFIED:20260130T200938Z
UID:10003464-1768906800-1768910400@www.med.unc.edu
SUMMARY:Seminar
DESCRIPTION:2026 Spring Seminar Series \nSpecial seminars will occur January through February. 2026 Spring Seminar Series will occur March – April. \nMarch 3\nVacant \nMarch 10\nvacant \nMarch 17 – none\nSpring break \nMarch 24\nMichael Kemp\, Associate Professor\, Department of Pharmacology and Toxicology\nWright State University\nHosts: Laura Lindsey-Boltz and Aziz Sancar \nMarch 31\nvacant \nApril 7\nGuochun Jiang\, Ph.D.\, Assistant Professor\, Biochemistry and Biophysics\nUNC-CH\nHost: Jean Cook\nTitle: “TBD” \nApril 14\nDavid Boehr\, Ph.D.\, Professor of Chemistry (Sabbatical in Craig Campbell’s Lab at UNC)\nPenn State University\nHost: Rebecca Berlow\nTitle: “TBD” \nApril 21\nXiaojun Ren\, Ph.D.\, Associate Professor\, Biological Sciences\nUNC-Charlotte\nHost: Jill Dowen
URL:https://www.med.unc.edu/biochem/event/seminar-3/2026-01-20/
LOCATION:1131 Bioinformatics\, 130 Mason Farm Road\, Chapel Hill\, NC\, 27514\, United States
CATEGORIES:Department Events,Postdoc Events,Student Events
ORGANIZER;CN="Rhonda Strickland":MAILTO:rbrann@email.unc.edu
GEO:35.9016456;-79.0532865
X-APPLE-STRUCTURED-LOCATION;VALUE=URI;X-ADDRESS=1131 Bioinformatics 130 Mason Farm Road Chapel Hill NC 27514 United States;X-APPLE-RADIUS=500;X-TITLE=130 Mason Farm Road:geo:-79.0532865,35.9016456
END:VEVENT
BEGIN:VEVENT
DTSTART;TZID=America/New_York:20260113T110000
DTEND;TZID=America/New_York:20260113T120000
DTSTAMP:20260419T190051
CREATED:20260106T184635Z
LAST-MODIFIED:20260130T200938Z
UID:10003463-1768302000-1768305600@www.med.unc.edu
SUMMARY:Seminar
DESCRIPTION:2026 Spring Seminar Series \nSpecial seminars will occur January through February. 2026 Spring Seminar Series will occur March – April. \nMarch 3\nVacant \nMarch 10\nvacant \nMarch 17 – none\nSpring break \nMarch 24\nMichael Kemp\, Associate Professor\, Department of Pharmacology and Toxicology\nWright State University\nHosts: Laura Lindsey-Boltz and Aziz Sancar \nMarch 31\nvacant \nApril 7\nGuochun Jiang\, Ph.D.\, Assistant Professor\, Biochemistry and Biophysics\nUNC-CH\nHost: Jean Cook\nTitle: “TBD” \nApril 14\nDavid Boehr\, Ph.D.\, Professor of Chemistry (Sabbatical in Craig Campbell’s Lab at UNC)\nPenn State University\nHost: Rebecca Berlow\nTitle: “TBD” \nApril 21\nXiaojun Ren\, Ph.D.\, Associate Professor\, Biological Sciences\nUNC-Charlotte\nHost: Jill Dowen
URL:https://www.med.unc.edu/biochem/event/seminar-3/2026-01-13/
LOCATION:1131 Bioinformatics\, 130 Mason Farm Road\, Chapel Hill\, NC\, 27514\, United States
CATEGORIES:Department Events,Postdoc Events,Student Events
ORGANIZER;CN="Rhonda Strickland":MAILTO:rbrann@email.unc.edu
GEO:35.9016456;-79.0532865
X-APPLE-STRUCTURED-LOCATION;VALUE=URI;X-ADDRESS=1131 Bioinformatics 130 Mason Farm Road Chapel Hill NC 27514 United States;X-APPLE-RADIUS=500;X-TITLE=130 Mason Farm Road:geo:-79.0532865,35.9016456
END:VEVENT
END:VCALENDAR