BEGIN:VCALENDAR
VERSION:2.0
PRODID:-//UNC Blood Research Center - ECPv6.15.18//NONSGML v1.0//EN
CALSCALE:GREGORIAN
METHOD:PUBLISH
X-ORIGINAL-URL:https://www.med.unc.edu/bloodresearchcenter
X-WR-CALDESC:Events for UNC Blood Research Center
REFRESH-INTERVAL;VALUE=DURATION:PT1H
X-Robots-Tag:noindex
X-PUBLISHED-TTL:PT1H
BEGIN:VTIMEZONE
TZID:America/New_York
BEGIN:DAYLIGHT
TZOFFSETFROM:-0500
TZOFFSETTO:-0400
TZNAME:EDT
DTSTART:20220313T070000
END:DAYLIGHT
BEGIN:STANDARD
TZOFFSETFROM:-0400
TZOFFSETTO:-0500
TZNAME:EST
DTSTART:20221106T060000
END:STANDARD
BEGIN:DAYLIGHT
TZOFFSETFROM:-0500
TZOFFSETTO:-0400
TZNAME:EDT
DTSTART:20230312T070000
END:DAYLIGHT
BEGIN:STANDARD
TZOFFSETFROM:-0400
TZOFFSETTO:-0500
TZNAME:EST
DTSTART:20231105T060000
END:STANDARD
BEGIN:DAYLIGHT
TZOFFSETFROM:-0500
TZOFFSETTO:-0400
TZNAME:EDT
DTSTART:20240310T070000
END:DAYLIGHT
BEGIN:STANDARD
TZOFFSETFROM:-0400
TZOFFSETTO:-0500
TZNAME:EST
DTSTART:20241103T060000
END:STANDARD
END:VTIMEZONE
BEGIN:VEVENT
DTSTART;TZID=America/New_York:20230602T110000
DTEND;TZID=America/New_York:20230602T120000
DTSTAMP:20260421T220412
CREATED:20230316T125753Z
LAST-MODIFIED:20230327T155010Z
UID:10000180-1685703600-1685707200@www.med.unc.edu
SUMMARY:BRC Seminar Series - Joann Trejo\, PhD\, MBA - Virtual
DESCRIPTION:Seminar: Joann Trejo\, PhD\, MBA \nUniversity of California San Diego \nTitle: ‘TBD’ \nLocation: Virtual
URL:https://www.med.unc.edu/bloodresearchcenter/event/brc-seminar-series-joann-trejo-phd-mba/
END:VEVENT
BEGIN:VEVENT
DTSTART;TZID=America/New_York:20230606T083000
DTEND;TZID=America/New_York:20230606T100000
DTSTAMP:20260421T220412
CREATED:20230315T153808Z
LAST-MODIFIED:20230601T130502Z
UID:10000179-1686040200-1686045600@www.med.unc.edu
SUMMARY:Tuesday BRC Lab meeting
DESCRIPTION:Presenter: Nigel Key \nTitle: Vascular complications in Sickle Cell Trait \nLocation: Mary Ellen Jones 3116 \nVirtual option: https://zoom.us/j/92671968570?pwd=a052VmZxY3hNdUU0NEcwUm5xcjhoZz09
URL:https://www.med.unc.edu/bloodresearchcenter/event/tuesday-brc-lab-meeting-9/
END:VEVENT
BEGIN:VEVENT
DTSTART;TZID=America/New_York:20230609T110000
DTEND;TZID=America/New_York:20230609T120000
DTSTAMP:20260421T220412
CREATED:20230515T140216Z
LAST-MODIFIED:20230515T140216Z
UID:10000218-1686308400-1686312000@www.med.unc.edu
SUMMARY:14th CAT POD meeting
DESCRIPTION:Speaker: Jonathan Ptachcinski (Pharmacist at UNC Hospital) \nTopic: Transplantation-associated TMA in cancer patients. \n  \nZoom: \nhttps://zoom.us/j/96526434533?pwd=R0tHejFNcnlUMVpyTmxqcThpeW5yZz09&from=addon
URL:https://www.med.unc.edu/bloodresearchcenter/event/14th-cat-pod-meeting/
END:VEVENT
BEGIN:VEVENT
DTSTART;TZID=America/New_York:20230614T083000
DTEND;TZID=America/New_York:20230614T093000
DTSTAMP:20260421T220412
CREATED:20230315T151125Z
LAST-MODIFIED:20230315T151125Z
UID:10000170-1686731400-1686735000@www.med.unc.edu
SUMMARY:BRC Trainee Journal Club
DESCRIPTION:We hold the BRC Trainee Journal Club from 8:30-9:30 am in Mary Ellen Jones\, Room 3106 every Wednesday prior a BRC Friday seminar (Dr. Tom Ganz 6/16).\nFor additional information please contact erica_sparkenbaugh@med.unc.edu or robert_lee@med.unc.edu
URL:https://www.med.unc.edu/bloodresearchcenter/event/brc-trainee-journal-club-6/
END:VEVENT
BEGIN:VEVENT
DTSTART;TZID=America/New_York:20230616T110000
DTEND;TZID=America/New_York:20230616T120000
DTSTAMP:20260421T220412
CREATED:20230316T125958Z
LAST-MODIFIED:20230327T155046Z
UID:10000181-1686913200-1686916800@www.med.unc.edu
SUMMARY:BRC Seminar Series - Tomas Ganz\, MD - Virtual
DESCRIPTION:Seminar: Tomas Ganz\, MD \nUniversity of California Los Angeles \nTitle: ‘TBD’ \nLocation: Virtual
URL:https://www.med.unc.edu/bloodresearchcenter/event/brc-seminar-series-tomas-ganz-md/
END:VEVENT
BEGIN:VEVENT
DTSTART;TZID=America/New_York:20230620T083000
DTEND;TZID=America/New_York:20230620T100000
DTSTAMP:20260421T220412
CREATED:20230315T153544Z
LAST-MODIFIED:20230615T131530Z
UID:10000178-1687249800-1687255200@www.med.unc.edu
SUMMARY:Tuesday BRC Lab meeting
DESCRIPTION:ISTH Practice Talks \nLocation: Mary Ellen Jones 3116 \nhttps://zoom.us/j/96368586956?pwd=NFBpYzFFN2V1T2JmRFo1a1NhZm5iUT09
URL:https://www.med.unc.edu/bloodresearchcenter/event/tuesday-brc-lab-meeting-8/
END:VEVENT
BEGIN:VEVENT
DTSTART;TZID=America/New_York:20230621T083000
DTEND;TZID=America/New_York:20230621T093000
DTSTAMP:20260421T220412
CREATED:20230601T154518Z
LAST-MODIFIED:20230601T154518Z
UID:10000219-1687336200-1687339800@www.med.unc.edu
SUMMARY:Trainee Summer Series: PHD Careers Outside of Academia
DESCRIPTION:Presenter: Maria Aleman PHD \nAssistant Professor\, Department of Pharmacology\, UNC \nTitle: Transitioning Back to Academia after Industry \nhttps://zoom.us/j/93316463739?pwd=YnRGeGVlOEdMa3ZzTTdlbWx1RTJTZz09
URL:https://www.med.unc.edu/bloodresearchcenter/event/trainee-summer-series-phd-careers-outside-of-academia/
END:VEVENT
BEGIN:VEVENT
DTSTART;TZID=America/New_York:20230624T080000
DTEND;TZID=America/New_York:20230628T170000
DTSTAMP:20260421T220412
CREATED:20230420T125122Z
LAST-MODIFIED:20230420T125122Z
UID:10000216-1687593600-1687971600@www.med.unc.edu
SUMMARY:ISTH
DESCRIPTION:ISTH Conference \nMontreal\, Quebec\, Canada
URL:https://www.med.unc.edu/bloodresearchcenter/event/isth-2/
END:VEVENT
END:VCALENDAR