BEGIN:VCALENDAR
VERSION:2.0
PRODID:-//UNC Blood Research Center - ECPv6.15.18//NONSGML v1.0//EN
CALSCALE:GREGORIAN
METHOD:PUBLISH
X-ORIGINAL-URL:https://www.med.unc.edu/bloodresearchcenter
X-WR-CALDESC:Events for UNC Blood Research Center
REFRESH-INTERVAL;VALUE=DURATION:PT1H
X-Robots-Tag:noindex
X-PUBLISHED-TTL:PT1H
BEGIN:VTIMEZONE
TZID:America/New_York
BEGIN:DAYLIGHT
TZOFFSETFROM:-0500
TZOFFSETTO:-0400
TZNAME:EDT
DTSTART:20220313T070000
END:DAYLIGHT
BEGIN:STANDARD
TZOFFSETFROM:-0400
TZOFFSETTO:-0500
TZNAME:EST
DTSTART:20221106T060000
END:STANDARD
BEGIN:DAYLIGHT
TZOFFSETFROM:-0500
TZOFFSETTO:-0400
TZNAME:EDT
DTSTART:20230312T070000
END:DAYLIGHT
BEGIN:STANDARD
TZOFFSETFROM:-0400
TZOFFSETTO:-0500
TZNAME:EST
DTSTART:20231105T060000
END:STANDARD
BEGIN:DAYLIGHT
TZOFFSETFROM:-0500
TZOFFSETTO:-0400
TZNAME:EDT
DTSTART:20240310T070000
END:DAYLIGHT
BEGIN:STANDARD
TZOFFSETFROM:-0400
TZOFFSETTO:-0500
TZNAME:EST
DTSTART:20241103T060000
END:STANDARD
END:VTIMEZONE
BEGIN:VEVENT
DTSTART;TZID=America/New_York:20230801T083000
DTEND;TZID=America/New_York:20230801T100000
DTSTAMP:20260420T162714
CREATED:20230317T155505Z
LAST-MODIFIED:20230728T125059Z
UID:10000183-1690878600-1690884000@www.med.unc.edu
SUMMARY:Tuesday BRC Lab meeting
DESCRIPTION:Presenter: Nirupama Ramadas \nTitle: AHA Postdoctoral Fellowship Proposal \nLocation: Mary Ellen Jones Room 3116 \nVirtual option:  https://zoom.us/j/94378764203?pwd=QldzeFlFUnZGV3NYRWQzY29FclBrdz09
URL:https://www.med.unc.edu/bloodresearchcenter/event/tuesday-brc-lab-meeting-10/
END:VEVENT
BEGIN:VEVENT
DTSTART;TZID=America/New_York:20230815T083000
DTEND;TZID=America/New_York:20230815T100000
DTSTAMP:20260420T162714
CREATED:20230317T155559Z
LAST-MODIFIED:20230811T160221Z
UID:10000184-1692088200-1692093600@www.med.unc.edu
SUMMARY:Tuesday BRC Lab meeting
DESCRIPTION:Presenter: Maria Aleman \nTitle: Iron-Sensitive RNA Regulation \nLocation: Marsico Hall Room 5004 \nVirtual option: https://zoom.us/j/96310870251?pwd=SWExZVpYcXMxYlQ4MTd2ZW01QXNrUT09
URL:https://www.med.unc.edu/bloodresearchcenter/event/tuesday-brc-lab-meeting-11/
END:VEVENT
BEGIN:VEVENT
DTSTART;TZID=America/New_York:20230822T083000
DTEND;TZID=America/New_York:20230822T100000
DTSTAMP:20260420T162714
CREATED:20230317T155658Z
LAST-MODIFIED:20230817T194909Z
UID:10000185-1692693000-1692698400@www.med.unc.edu
SUMMARY:Tuesday BRC Lab meeting
DESCRIPTION:Presenter: Steve Hur \nTitle: tbd \nLocation: Physicians Office Building Room 3101 \nVirtual option: https://zoom.us/j/98956354273?pwd=bHdSVGl4bEVDM0FNQ3JRbHNPQmFPQT09
URL:https://www.med.unc.edu/bloodresearchcenter/event/tuesday-brc-lab-meeting-12/
END:VEVENT
BEGIN:VEVENT
DTSTART;TZID=America/New_York:20230828T083000
DTEND;TZID=America/New_York:20230828T093000
DTSTAMP:20260420T162714
CREATED:20230601T160252Z
LAST-MODIFIED:20230601T160252Z
UID:10000222-1693211400-1693215000@www.med.unc.edu
SUMMARY:Trainee Summer Series: PHD Careers Outside of Academia
DESCRIPTION:Presenter: Dafna Groeneveld\, PHD \nScientist II\, Translational Biology-In Vivo \nBioMarin\, San Rafeal\, CA \nhttps://www.linkedin.com/in/dafna-groenveld-b34040b/
URL:https://www.med.unc.edu/bloodresearchcenter/event/trainee-summer-series-phd-careers-outside-of-academia-4/
END:VEVENT
BEGIN:VEVENT
DTSTART;TZID=America/New_York:20230829T083000
DTEND;TZID=America/New_York:20230829T100000
DTSTAMP:20260420T162714
CREATED:20230403T172112Z
LAST-MODIFIED:20230823T125729Z
UID:10000207-1693297800-1693303200@www.med.unc.edu
SUMMARY:BRC Tuesday Lab Meeting
DESCRIPTION:Presenter: Robert Lee \nTitle: Using TEG to monitor platelet transfusion ratios\, +update on ferric chloride thrombosis intravital imaging \nLocation: Physician’s Office Building Room 3101 \nhttps://zoom.us/j/96453660016?pwd=VGk4VU9EK2JnQ1o2bFJJWnRtajczdz09
URL:https://www.med.unc.edu/bloodresearchcenter/event/brc-tuesday-lab-meeting/
END:VEVENT
END:VCALENDAR