BEGIN:VCALENDAR
VERSION:2.0
PRODID:-//UNC Blood Research Center - ECPv6.15.18//NONSGML v1.0//EN
CALSCALE:GREGORIAN
METHOD:PUBLISH
X-ORIGINAL-URL:https://www.med.unc.edu/bloodresearchcenter
X-WR-CALDESC:Events for UNC Blood Research Center
REFRESH-INTERVAL;VALUE=DURATION:PT1H
X-Robots-Tag:noindex
X-PUBLISHED-TTL:PT1H
BEGIN:VTIMEZONE
TZID:America/New_York
BEGIN:DAYLIGHT
TZOFFSETFROM:-0500
TZOFFSETTO:-0400
TZNAME:EDT
DTSTART:20230312T070000
END:DAYLIGHT
BEGIN:STANDARD
TZOFFSETFROM:-0400
TZOFFSETTO:-0500
TZNAME:EST
DTSTART:20231105T060000
END:STANDARD
BEGIN:DAYLIGHT
TZOFFSETFROM:-0500
TZOFFSETTO:-0400
TZNAME:EDT
DTSTART:20240310T070000
END:DAYLIGHT
BEGIN:STANDARD
TZOFFSETFROM:-0400
TZOFFSETTO:-0500
TZNAME:EST
DTSTART:20241103T060000
END:STANDARD
BEGIN:DAYLIGHT
TZOFFSETFROM:-0500
TZOFFSETTO:-0400
TZNAME:EDT
DTSTART:20250309T070000
END:DAYLIGHT
BEGIN:STANDARD
TZOFFSETFROM:-0400
TZOFFSETTO:-0500
TZNAME:EST
DTSTART:20251102T060000
END:STANDARD
END:VTIMEZONE
BEGIN:VEVENT
DTSTART;TZID=America/New_York:20240820T090000
DTEND;TZID=America/New_York:20240820T100000
DTSTAMP:20260421T055434
CREATED:20240319T181118Z
LAST-MODIFIED:20240930T121836Z
UID:10000259-1724144400-1724148000@www.med.unc.edu
SUMMARY:Tuesday BRC Lab Meeting
DESCRIPTION:Presenter: Wolfgang Bergmeier\, PhD \nTitle: Discuss grant idea that centers around the heterotrimeric G protein\, G13 \nLocation: MEJ 3116/Zoom \nVirtual option: \nJoin Zoom Meeting\nhttps://zoom.us/j/99419326512?pwd=SHF6QWZTVVFtWkMzeFRmZTkvd25Jdz09 \nMeeting ID: 994 1932 6512\nPasscode: 562094
URL:https://www.med.unc.edu/bloodresearchcenter/event/tuesday-brc-lab-meeting-40/
END:VEVENT
BEGIN:VEVENT
DTSTART;TZID=America/New_York:20240823T110000
DTEND;TZID=America/New_York:20240823T120000
DTSTAMP:20260421T055434
CREATED:20240604T172258Z
LAST-MODIFIED:20240607T144451Z
UID:10000275-1724410800-1724414400@www.med.unc.edu
SUMMARY:BRC Fall 2024 Seminar Mary Cushman\, University of Vermont
DESCRIPTION:Seminar Speaker: Mary Cushman\, University of Vermont \nTitle: TBA \nHost: Trainnees \nLocation: TBA \nZoom
URL:https://www.med.unc.edu/bloodresearchcenter/event/brc-fall-2024-seminar-mary-cushman-university-of-vermont/
END:VEVENT
END:VCALENDAR