BEGIN:VCALENDAR
VERSION:2.0
PRODID:-//UNC Blood Research Center - ECPv6.15.18//NONSGML v1.0//EN
CALSCALE:GREGORIAN
METHOD:PUBLISH
X-ORIGINAL-URL:https://www.med.unc.edu/bloodresearchcenter
X-WR-CALDESC:Events for UNC Blood Research Center
REFRESH-INTERVAL;VALUE=DURATION:PT1H
X-Robots-Tag:noindex
X-PUBLISHED-TTL:PT1H
BEGIN:VTIMEZONE
TZID:America/New_York
BEGIN:DAYLIGHT
TZOFFSETFROM:-0500
TZOFFSETTO:-0400
TZNAME:EDT
DTSTART:20250309T070000
END:DAYLIGHT
BEGIN:STANDARD
TZOFFSETFROM:-0400
TZOFFSETTO:-0500
TZNAME:EST
DTSTART:20251102T060000
END:STANDARD
BEGIN:DAYLIGHT
TZOFFSETFROM:-0500
TZOFFSETTO:-0400
TZNAME:EDT
DTSTART:20260308T070000
END:DAYLIGHT
BEGIN:STANDARD
TZOFFSETFROM:-0400
TZOFFSETTO:-0500
TZNAME:EST
DTSTART:20261101T060000
END:STANDARD
BEGIN:DAYLIGHT
TZOFFSETFROM:-0500
TZOFFSETTO:-0400
TZNAME:EDT
DTSTART:20270314T070000
END:DAYLIGHT
BEGIN:STANDARD
TZOFFSETFROM:-0400
TZOFFSETTO:-0500
TZNAME:EST
DTSTART:20271107T060000
END:STANDARD
END:VTIMEZONE
BEGIN:VEVENT
DTSTART;TZID=America/New_York:20260303T090000
DTEND;TZID=America/New_York:20260303T100000
DTSTAMP:20260420T210220
CREATED:20251210T143706Z
LAST-MODIFIED:20260225T140329Z
UID:10000334-1772528400-1772532000@www.med.unc.edu
SUMMARY:Tuesday BRC Lab Meeting
DESCRIPTION:Presenter: Kenichi Tanaka\, MD \nVisiting collaborator from OU \n  \nTitle: Thoughts on Perioperative Hemostasis \n  \nLocation: MEJ 3116/Zoom \n  \nVirtual option: \nJoin Zoom Meeting \nhttps://zoom.us/j/99812132366?pwd=94p2qXYHlbsi77sfIJGcOU88obwLYD.1 \nMeeting ID: 998 1213 2366 \nPasscode: 511300
URL:https://www.med.unc.edu/bloodresearchcenter/event/tuesday-brc-lab-meeting-68/
END:VEVENT
BEGIN:VEVENT
DTSTART;TZID=America/New_York:20260306T110000
DTEND;TZID=America/New_York:20260306T120000
DTSTAMP:20260420T210220
CREATED:20260212T162808Z
LAST-MODIFIED:20260212T164856Z
UID:10000341-1772794800-1772798400@www.med.unc.edu
SUMMARY:BRC Seminar Series Spring 2026: Courtney Griffin
DESCRIPTION:Seminar Speaker: Courtney Griffin\, PhD \nOklahoma Medical Research Foundation \nTitle: “New Insights Into Endothelial Protease-Activated Receptors” \nHost: Silvio Antoniak \nLocation: MEJ 3108 \n\nJoin Zoom Meeting \nhttps://zoom.us/j/98578797750?pwd=y0njXNJ7IHZKUu9ZPBPTdCHyAfSHi7.1 \n  \nMeeting ID: 985 7879 7750 \nPasscode: 735006
URL:https://www.med.unc.edu/bloodresearchcenter/event/brc-seminar-series-spring-2026-courtney-griffin/
LOCATION:MEJ 3108
END:VEVENT
END:VCALENDAR