BEGIN:VCALENDAR
VERSION:2.0
PRODID:-//UNC Blood Research Center - ECPv6.15.18//NONSGML v1.0//EN
CALSCALE:GREGORIAN
METHOD:PUBLISH
X-ORIGINAL-URL:https://www.med.unc.edu/bloodresearchcenter
X-WR-CALDESC:Events for UNC Blood Research Center
REFRESH-INTERVAL;VALUE=DURATION:PT1H
X-Robots-Tag:noindex
X-PUBLISHED-TTL:PT1H
BEGIN:VTIMEZONE
TZID:America/New_York
BEGIN:DAYLIGHT
TZOFFSETFROM:-0500
TZOFFSETTO:-0400
TZNAME:EDT
DTSTART:20240310T070000
END:DAYLIGHT
BEGIN:STANDARD
TZOFFSETFROM:-0400
TZOFFSETTO:-0500
TZNAME:EST
DTSTART:20241103T060000
END:STANDARD
BEGIN:DAYLIGHT
TZOFFSETFROM:-0500
TZOFFSETTO:-0400
TZNAME:EDT
DTSTART:20250309T070000
END:DAYLIGHT
BEGIN:STANDARD
TZOFFSETFROM:-0400
TZOFFSETTO:-0500
TZNAME:EST
DTSTART:20251102T060000
END:STANDARD
BEGIN:DAYLIGHT
TZOFFSETFROM:-0500
TZOFFSETTO:-0400
TZNAME:EDT
DTSTART:20260308T070000
END:DAYLIGHT
BEGIN:STANDARD
TZOFFSETFROM:-0400
TZOFFSETTO:-0500
TZNAME:EST
DTSTART:20261101T060000
END:STANDARD
END:VTIMEZONE
BEGIN:VEVENT
DTSTART;TZID=America/New_York:20250606T110000
DTEND;TZID=America/New_York:20250606T120000
DTSTAMP:20260425T174606
CREATED:20241224T155119Z
LAST-MODIFIED:20250303T164557Z
UID:10000301-1749207600-1749211200@www.med.unc.edu
SUMMARY:BRC Seminar Series Spring 2025: Patricia Liaw
DESCRIPTION:Seminar Speaker: Patricia Liaw\, PhD \nMcMaster University \nTitle: Immunothrombosis in sepsis \nHost: Nigel Mackman \nLocation: MEJ 3112
URL:https://www.med.unc.edu/bloodresearchcenter/event/brc-seminar-series-spring-2025-patricia-liaw/
LOCATION:MEJ 3112
END:VEVENT
BEGIN:VEVENT
DTSTART;TZID=America/New_York:20250523T110000
DTEND;TZID=America/New_York:20250523T120000
DTSTAMP:20260425T174606
CREATED:20241224T154926Z
LAST-MODIFIED:20241224T154926Z
UID:10000300-1747998000-1748001600@www.med.unc.edu
SUMMARY:BRC Seminar Series Spring 2025: Molly Mollica
DESCRIPTION:Seminar Speaker: Molly Mollica\, PhD \nUniversity of Maryland \nTitle: Measuring platelet forces using traction force microscopy \nHost: Alisa Wolberg \nLocation: MEJ 3112
URL:https://www.med.unc.edu/bloodresearchcenter/event/brc-seminar-series-spring-2025-molly-mollica/
LOCATION:MEJ 3112
END:VEVENT
BEGIN:VEVENT
DTSTART;TZID=America/New_York:20250516T110000
DTEND;TZID=America/New_York:20250516T120000
DTSTAMP:20260425T174606
CREATED:20241224T154631Z
LAST-MODIFIED:20250411T142513Z
UID:10000299-1747393200-1747396800@www.med.unc.edu
SUMMARY:BRC Seminar Series Spring 2025: Lacramioara Ivanciu
DESCRIPTION:Seminar Speaker: Lacramioara Ivanciu\, PhD \nChildren’s Hospital of Philadelphia \nTitle: Coagulation reactions in vivo \nHost: Silvio Antoniak \nLocation: MEJ 3112
URL:https://www.med.unc.edu/bloodresearchcenter/event/brc-seminar-series-spring-2025-lacramioara-ivanciu/
LOCATION:MEJ 3112
END:VEVENT
END:VCALENDAR