BEGIN:VCALENDAR
VERSION:2.0
PRODID:-//UNC Blood Research Center - ECPv6.15.18//NONSGML v1.0//EN
CALSCALE:GREGORIAN
METHOD:PUBLISH
X-ORIGINAL-URL:https://www.med.unc.edu/bloodresearchcenter
X-WR-CALDESC:Events for UNC Blood Research Center
REFRESH-INTERVAL;VALUE=DURATION:PT1H
X-Robots-Tag:noindex
X-PUBLISHED-TTL:PT1H
BEGIN:VTIMEZONE
TZID:America/New_York
BEGIN:DAYLIGHT
TZOFFSETFROM:-0500
TZOFFSETTO:-0400
TZNAME:EDT
DTSTART:20210314T070000
END:DAYLIGHT
BEGIN:STANDARD
TZOFFSETFROM:-0400
TZOFFSETTO:-0500
TZNAME:EST
DTSTART:20211107T060000
END:STANDARD
BEGIN:DAYLIGHT
TZOFFSETFROM:-0500
TZOFFSETTO:-0400
TZNAME:EDT
DTSTART:20220313T070000
END:DAYLIGHT
BEGIN:STANDARD
TZOFFSETFROM:-0400
TZOFFSETTO:-0500
TZNAME:EST
DTSTART:20221106T060000
END:STANDARD
BEGIN:DAYLIGHT
TZOFFSETFROM:-0500
TZOFFSETTO:-0400
TZNAME:EDT
DTSTART:20230312T070000
END:DAYLIGHT
BEGIN:STANDARD
TZOFFSETFROM:-0400
TZOFFSETTO:-0500
TZNAME:EST
DTSTART:20231105T060000
END:STANDARD
BEGIN:DAYLIGHT
TZOFFSETFROM:-0500
TZOFFSETTO:-0400
TZNAME:EDT
DTSTART:20240310T070000
END:DAYLIGHT
BEGIN:STANDARD
TZOFFSETFROM:-0400
TZOFFSETTO:-0500
TZNAME:EST
DTSTART:20241103T060000
END:STANDARD
BEGIN:DAYLIGHT
TZOFFSETFROM:-0500
TZOFFSETTO:-0400
TZNAME:EDT
DTSTART:20250309T070000
END:DAYLIGHT
BEGIN:STANDARD
TZOFFSETFROM:-0400
TZOFFSETTO:-0500
TZNAME:EST
DTSTART:20251102T060000
END:STANDARD
END:VTIMEZONE
BEGIN:VEVENT
DTSTART;TZID=America/New_York:20241115T110000
DTEND;TZID=America/New_York:20241115T120000
DTSTAMP:20260424T084920
CREATED:20240904T175407Z
LAST-MODIFIED:20240904T175407Z
UID:10000284-1731668400-1731672000@www.med.unc.edu
SUMMARY:BRC Fall 2024 Seminar: Santosh Saraf University of Illinois Chicago
DESCRIPTION:Seminar Speaker: Santosh Saraf \nTitle: TBA \nHost: Rafal Pawlinski \nLocation: MEJ 3116 \nZoom
URL:https://www.med.unc.edu/bloodresearchcenter/event/brc-fall-2024-seminar-santosh-saraf-university-of-illinois-chicago/
LOCATION:MEJ 3116\, 116 Manning Drive\, Chapel Hill\, NC\, 27599\, United States
END:VEVENT
BEGIN:VEVENT
DTSTART;TZID=America/New_York:20230519T110000
DTEND;TZID=America/New_York:20230519T120000
DTSTAMP:20260424T084920
CREATED:20230206T174512Z
LAST-MODIFIED:20230216T163833Z
UID:10000161-1684494000-1684497600@www.med.unc.edu
SUMMARY:BRC Spring Seminar Series - Pavan Bendapudi\, MD - In Person
DESCRIPTION:Date: 5/19/2023 \nSeminar: Pavan Bendapudi\, MD \nHarvard Medical School \nTitle: ‘Deciphering the mechanism of FXII activation through non-canonical binding to platelet integrin αIIbβ3’ \nLocation: Mary Ellen Jones Building\, Room 3116
URL:https://www.med.unc.edu/bloodresearchcenter/event/brc-spring-seminar-series-pavan-bendapudi-md-in-person/
LOCATION:MEJ 3116\, 116 Manning Drive\, Chapel Hill\, NC\, 27599\, United States
END:VEVENT
BEGIN:VEVENT
DTSTART;TZID=America/New_York:20230317T110000
DTEND;TZID=America/New_York:20230317T120000
DTSTAMP:20260424T084920
CREATED:20230206T172726Z
LAST-MODIFIED:20230216T163930Z
UID:10000158-1679050800-1679054400@www.med.unc.edu
SUMMARY:BRC Spring Seminar Series - Karl Desch\, MD - In Person
DESCRIPTION:Date: 3/17/2023 \nSeminar: Karl Desch\, MD \nUniversity of Michigan \nTitle: ‘Using human genetic variation to explore mechanisms of hemostasis and thrombosis’ \nLocation: Mary Ellen Jones building\, Room 3116
URL:https://www.med.unc.edu/bloodresearchcenter/event/brc-spring-seminar-series-karl-desch-md-in-person/
LOCATION:MEJ 3116\, 116 Manning Drive\, Chapel Hill\, NC\, 27599\, United States
END:VEVENT
BEGIN:VEVENT
DTSTART;TZID=America/New_York:20230217T110000
DTEND;TZID=America/New_York:20230217T120000
DTSTAMP:20260424T084920
CREATED:20230206T172230Z
LAST-MODIFIED:20230216T164018Z
UID:10000156-1676631600-1676635200@www.med.unc.edu
SUMMARY:BRC Spring Seminar Series - Paula James\, MD
DESCRIPTION:Date: 2/17/223 \nSeminar: Paula James\, MD\nQueen’s University – Ontario\nTitle: ‘Von Willebrand Disease in 2023: BATs and Endothelial Cells’\nLocation: Mary Ellen Jones building\, Room 3116 \nHost: Nigel Key\, MD
URL:https://www.med.unc.edu/bloodresearchcenter/event/brc-spring-seminar-series-paula-james-md/
LOCATION:MEJ 3116\, 116 Manning Drive\, Chapel Hill\, NC\, 27599\, United States
END:VEVENT
BEGIN:VEVENT
DTSTART;TZID=America/New_York:20221202T110000
DTEND;TZID=America/New_York:20221202T120000
DTSTAMP:20260424T084920
CREATED:20220922T160738Z
LAST-MODIFIED:20220927T133913Z
UID:10000083-1669978800-1669982400@www.med.unc.edu
SUMMARY:BRC Seminar Series: Lucy Kornblith\, MD
DESCRIPTION:Date: 12/2/2022 \nSeminar: Lucy Kornblith\, MD \nUniversity of California San Francisco \nTitle: TBD \nLocation: Virtual
URL:https://www.med.unc.edu/bloodresearchcenter/event/brc-seminar-series-lucy-kornblith-ph-d/
LOCATION:MEJ 3116\, 116 Manning Drive\, Chapel Hill\, NC\, 27599\, United States
END:VEVENT
BEGIN:VEVENT
DTSTART;TZID=America/New_York:20221118T110000
DTEND;TZID=America/New_York:20221118T120000
DTSTAMP:20260424T084920
CREATED:20220922T160602Z
LAST-MODIFIED:20220927T134007Z
UID:10000082-1668769200-1668772800@www.med.unc.edu
SUMMARY:BRC Seminar Series: Chris Dockendorff\, Ph.D.
DESCRIPTION:Date: 11/18/2022 \nSeminar: Chris Dockendorff\, Ph.D. \nFunction Therapeutics \nTitle: TBD \nLocation: MEJ 3116
URL:https://www.med.unc.edu/bloodresearchcenter/event/brc-seminar-series-chris-dockendorff/
LOCATION:MEJ 3116\, 116 Manning Drive\, Chapel Hill\, NC\, 27599\, United States
END:VEVENT
BEGIN:VEVENT
DTSTART;TZID=America/New_York:20221104T110000
DTEND;TZID=America/New_York:20221104T120000
DTSTAMP:20260424T084920
CREATED:20220922T160432Z
LAST-MODIFIED:20220927T134128Z
UID:10000081-1667559600-1667563200@www.med.unc.edu
SUMMARY:BRC Seminar Series: Saghi Ghaffari\, MD
DESCRIPTION:MDDate: 11/4/2022 \nSeminar: Saghi Ghaffari\, MD \nIcahn School of Medicine at Mount Sinai \nTitle: TBD \nLocation: MEJ 3116
URL:https://www.med.unc.edu/bloodresearchcenter/event/brc-seminar-series-saghi-ghaffari-ph-d/
LOCATION:MEJ 3116\, 116 Manning Drive\, Chapel Hill\, NC\, 27599\, United States
END:VEVENT
BEGIN:VEVENT
DTSTART;TZID=America/New_York:20221021T110000
DTEND;TZID=America/New_York:20221021T120000
DTSTAMP:20260424T084920
CREATED:20220922T160232Z
LAST-MODIFIED:20220927T133651Z
UID:10000080-1666350000-1666353600@www.med.unc.edu
SUMMARY:BRC Seminar Series: Jon Schoenecker\, MD
DESCRIPTION:Date: 10/21/2022 \nSeminar: Jon Schoenecker\, MD \nVanderbilt University Medical Center \nTitle: TBD \nLocation: MEJ 3116
URL:https://www.med.unc.edu/bloodresearchcenter/event/brc-seminar-series-jon-schoenecker-ph-d/
LOCATION:MEJ 3116\, 116 Manning Drive\, Chapel Hill\, NC\, 27599\, United States
END:VEVENT
END:VCALENDAR