BEGIN:VCALENDAR
VERSION:2.0
PRODID:-//Department of Cell Biology and Physiology - ECPv6.15.18//NONSGML v1.0//EN
CALSCALE:GREGORIAN
METHOD:PUBLISH
X-ORIGINAL-URL:https://www.med.unc.edu/cellbiophysio
X-WR-CALDESC:Events for Department of Cell Biology and Physiology
REFRESH-INTERVAL;VALUE=DURATION:PT1H
X-Robots-Tag:noindex
X-PUBLISHED-TTL:PT1H
BEGIN:VTIMEZONE
TZID:America/New_York
BEGIN:DAYLIGHT
TZOFFSETFROM:-0500
TZOFFSETTO:-0400
TZNAME:EDT
DTSTART:20210314T070000
END:DAYLIGHT
BEGIN:STANDARD
TZOFFSETFROM:-0400
TZOFFSETTO:-0500
TZNAME:EST
DTSTART:20211107T060000
END:STANDARD
BEGIN:DAYLIGHT
TZOFFSETFROM:-0500
TZOFFSETTO:-0400
TZNAME:EDT
DTSTART:20220313T070000
END:DAYLIGHT
BEGIN:STANDARD
TZOFFSETFROM:-0400
TZOFFSETTO:-0500
TZNAME:EST
DTSTART:20221106T060000
END:STANDARD
BEGIN:DAYLIGHT
TZOFFSETFROM:-0500
TZOFFSETTO:-0400
TZNAME:EDT
DTSTART:20230312T070000
END:DAYLIGHT
BEGIN:STANDARD
TZOFFSETFROM:-0400
TZOFFSETTO:-0500
TZNAME:EST
DTSTART:20231105T060000
END:STANDARD
END:VTIMEZONE
BEGIN:VEVENT
DTSTART;TZID=America/New_York:20220606T123000
DTEND;TZID=America/New_York:20220606T133000
DTSTAMP:20260420T140338
CREATED:20220427T192652Z
LAST-MODIFIED:20220427T192652Z
UID:10000297-1654518600-1654522200@www.med.unc.edu
SUMMARY:CBP Fusion Seminar:  Mark Hazelbaker\, Jocelyn Alvarado\, Allison Woods
DESCRIPTION:
URL:https://www.med.unc.edu/cellbiophysio/event/cbp-fusion-seminar-mark-hazelbaker-jocelyn-alvarado-allison-woods/
END:VEVENT
BEGIN:VEVENT
DTSTART;TZID=America/New_York:20220613T123000
DTEND;TZID=America/New_York:20220613T133000
DTSTAMP:20260420T140338
CREATED:20220427T192748Z
LAST-MODIFIED:20220427T192748Z
UID:10000299-1655123400-1655127000@www.med.unc.edu
SUMMARY:CBP Fusion Seminar:  Kimberly Lukasik\, Danica Dy\, Ian McCabe
DESCRIPTION:
URL:https://www.med.unc.edu/cellbiophysio/event/cbp-fusion-seminar-kimberly-lukasik-danica-dy-ian-mccabe/
END:VEVENT
END:VCALENDAR