BEGIN:VCALENDAR
VERSION:2.0
PRODID:-//UNC Center for AIDS Research - ECPv6.15.18//NONSGML v1.0//EN
CALSCALE:GREGORIAN
METHOD:PUBLISH
X-ORIGINAL-URL:https://www.med.unc.edu/cfar
X-WR-CALDESC:Events for UNC Center for AIDS Research
REFRESH-INTERVAL;VALUE=DURATION:PT1H
X-Robots-Tag:noindex
X-PUBLISHED-TTL:PT1H
BEGIN:VTIMEZONE
TZID:America/New_York
BEGIN:DAYLIGHT
TZOFFSETFROM:-0500
TZOFFSETTO:-0400
TZNAME:EDT
DTSTART:20230312T070000
END:DAYLIGHT
BEGIN:STANDARD
TZOFFSETFROM:-0400
TZOFFSETTO:-0500
TZNAME:EST
DTSTART:20231105T060000
END:STANDARD
BEGIN:DAYLIGHT
TZOFFSETFROM:-0500
TZOFFSETTO:-0400
TZNAME:EDT
DTSTART:20240310T070000
END:DAYLIGHT
BEGIN:STANDARD
TZOFFSETFROM:-0400
TZOFFSETTO:-0500
TZNAME:EST
DTSTART:20241103T060000
END:STANDARD
BEGIN:DAYLIGHT
TZOFFSETFROM:-0500
TZOFFSETTO:-0400
TZNAME:EDT
DTSTART:20250309T070000
END:DAYLIGHT
BEGIN:STANDARD
TZOFFSETFROM:-0400
TZOFFSETTO:-0500
TZNAME:EST
DTSTART:20251102T060000
END:STANDARD
BEGIN:DAYLIGHT
TZOFFSETFROM:-0500
TZOFFSETTO:-0400
TZNAME:EDT
DTSTART:20260308T070000
END:DAYLIGHT
BEGIN:STANDARD
TZOFFSETFROM:-0400
TZOFFSETTO:-0500
TZNAME:EST
DTSTART:20261101T060000
END:STANDARD
END:VTIMEZONE
BEGIN:VEVENT
DTSTART;TZID=America/New_York:20251028T153000
DTEND;TZID=America/New_York:20251028T163000
DTSTAMP:20260421T092504
CREATED:20251016T141302Z
LAST-MODIFIED:20251016T141302Z
UID:10000041-1761665400-1761669000@www.med.unc.edu
SUMMARY:Preliminary Qualitative Findings from the Food As Medicine for HIV (FAME-H) Randomized Clinical Trial
DESCRIPTION:Seth Berkowitz\, MD\, MPH and Kathie Ricks\, MPH\, PhD are presenting their research on “Preliminary Qualitative Findings from the Food As Medicine for HIV (FAME-H) Randomized Clinical Trial”. The Food as Medicine for HIV (FAME-H) randomized clinical trial tests whether intensive lifestyle intervention\, added to receipt of medically tailored meals\, improves weight and glycemic outcomes for people living with HIV and diabetes or who are at high risk of diabetes. This event will take place in Bioinformatics 2127 and via Zoom. 
URL:https://www.med.unc.edu/cfar/event/preliminary-qualitative-findings-from-the-food-as-medicine-for-hiv-fame-h-randomized-clinical-trial/
LOCATION:Zoom
END:VEVENT
BEGIN:VEVENT
DTSTART;TZID=America/New_York:20241028T153000
DTEND;TZID=America/New_York:20241028T163000
DTSTAMP:20260421T092504
CREATED:20240327T181843Z
LAST-MODIFIED:20240327T181843Z
UID:10000021-1730129400-1730133000@www.med.unc.edu
SUMMARY:CFAR - Wide Webinar Series
DESCRIPTION:
URL:https://www.med.unc.edu/cfar/event/cfar-wide-webinar-series-3/
LOCATION:Zoom
END:VEVENT
BEGIN:VEVENT
DTSTART;TZID=America/New_York:20240923T153000
DTEND;TZID=America/New_York:20240923T163000
DTSTAMP:20260421T092504
CREATED:20240327T181800Z
LAST-MODIFIED:20240327T181800Z
UID:10000020-1727105400-1727109000@www.med.unc.edu
SUMMARY:CFAR - Wide Webinar Series
DESCRIPTION:
URL:https://www.med.unc.edu/cfar/event/cfar-wide-webinar-series-2/
LOCATION:Zoom
END:VEVENT
BEGIN:VEVENT
DTSTART;TZID=America/New_York:20240517T140000
DTEND;TZID=America/New_York:20240517T150000
DTSTAMP:20260421T092504
CREATED:20240327T185339Z
LAST-MODIFIED:20240327T185339Z
UID:10000023-1715954400-1715958000@www.med.unc.edu
SUMMARY:CUE - HIV Scientific Working Group Meeting
DESCRIPTION:
URL:https://www.med.unc.edu/cfar/event/cue-hiv-scientific-working-group-meeting/
LOCATION:Zoom
END:VEVENT
BEGIN:VEVENT
DTSTART;TZID=America/New_York:20240509T120000
DTEND;TZID=America/New_York:20240509T130000
DTSTAMP:20260421T092504
CREATED:20240327T185057Z
LAST-MODIFIED:20240327T185057Z
UID:10000022-1715256000-1715259600@www.med.unc.edu
SUMMARY:CURE ESI Webinar Series
DESCRIPTION:Subscribe to UNC CFAR’s listserv for more information on CURE ESI webinars.
URL:https://www.med.unc.edu/cfar/event/cure-esi-webinar-series/
LOCATION:Zoom
END:VEVENT
BEGIN:VEVENT
DTSTART;TZID=America/New_York:20240422T153000
DTEND;TZID=America/New_York:20240422T163000
DTSTAMP:20260421T092504
CREATED:20240327T181647Z
LAST-MODIFIED:20240327T181647Z
UID:10000019-1713799800-1713803400@www.med.unc.edu
SUMMARY:CFAR - Wide Webinar Series
DESCRIPTION:
URL:https://www.med.unc.edu/cfar/event/cfar-wide-webinar-series/
LOCATION:Zoom
END:VEVENT
END:VCALENDAR