BEGIN:VCALENDAR
VERSION:2.0
PRODID:-//Center for Gastrointestinal Biology and Disease - ECPv6.15.18//NONSGML v1.0//EN
CALSCALE:GREGORIAN
METHOD:PUBLISH
X-ORIGINAL-URL:https://www.med.unc.edu/cgibd
X-WR-CALDESC:Events for Center for Gastrointestinal Biology and Disease
REFRESH-INTERVAL;VALUE=DURATION:PT1H
X-Robots-Tag:noindex
X-PUBLISHED-TTL:PT1H
BEGIN:VTIMEZONE
TZID:America/New_York
BEGIN:DAYLIGHT
TZOFFSETFROM:-0500
TZOFFSETTO:-0400
TZNAME:EDT
DTSTART:20180311T070000
END:DAYLIGHT
BEGIN:STANDARD
TZOFFSETFROM:-0400
TZOFFSETTO:-0500
TZNAME:EST
DTSTART:20181104T060000
END:STANDARD
BEGIN:DAYLIGHT
TZOFFSETFROM:-0500
TZOFFSETTO:-0400
TZNAME:EDT
DTSTART:20190310T070000
END:DAYLIGHT
BEGIN:STANDARD
TZOFFSETFROM:-0400
TZOFFSETTO:-0500
TZNAME:EST
DTSTART:20191103T060000
END:STANDARD
BEGIN:DAYLIGHT
TZOFFSETFROM:-0500
TZOFFSETTO:-0400
TZNAME:EDT
DTSTART:20200308T070000
END:DAYLIGHT
BEGIN:STANDARD
TZOFFSETFROM:-0400
TZOFFSETTO:-0500
TZNAME:EST
DTSTART:20201101T060000
END:STANDARD
END:VTIMEZONE
BEGIN:VEVENT
DTSTART;TZID=America/New_York:20190109T160000
DTEND;TZID=America/New_York:20190109T170000
DTSTAMP:20260419T111115
CREATED:20190312T155623Z
LAST-MODIFIED:20190312T155623Z
UID:10000504-1547049600-1547053200@www.med.unc.edu
SUMMARY:CGIBD Epi Conference - “Computer algorithms to identify drug induced liver injury in electronic medical records” by Christine Hunt\, MD\, MPH
DESCRIPTION:“Computer algorithms to identify drug induced liver injury in electronic medical records”  \nChristine Hunt\, MD\, MPH\nAdjunct Associate Professor\nDepartment of Medicine\, Duke University \n 
URL:https://www.med.unc.edu/cgibd/event/cgibd-epi-conference-computer-algorithms-to-identify-drug-induced-liver-injury-in-electronic-medical-records-by-christine-hunt-md-mph/
LOCATION:Bioinformatics 5127
END:VEVENT
END:VCALENDAR