BEGIN:VCALENDAR
VERSION:2.0
PRODID:-//Center for Gastrointestinal Biology and Disease - ECPv6.15.18//NONSGML v1.0//EN
CALSCALE:GREGORIAN
METHOD:PUBLISH
X-ORIGINAL-URL:https://www.med.unc.edu/cgibd
X-WR-CALDESC:Events for Center for Gastrointestinal Biology and Disease
REFRESH-INTERVAL;VALUE=DURATION:PT1H
X-Robots-Tag:noindex
X-PUBLISHED-TTL:PT1H
BEGIN:VTIMEZONE
TZID:America/New_York
BEGIN:DAYLIGHT
TZOFFSETFROM:-0500
TZOFFSETTO:-0400
TZNAME:EDT
DTSTART:20180311T070000
END:DAYLIGHT
BEGIN:STANDARD
TZOFFSETFROM:-0400
TZOFFSETTO:-0500
TZNAME:EST
DTSTART:20181104T060000
END:STANDARD
BEGIN:DAYLIGHT
TZOFFSETFROM:-0500
TZOFFSETTO:-0400
TZNAME:EDT
DTSTART:20190310T070000
END:DAYLIGHT
BEGIN:STANDARD
TZOFFSETFROM:-0400
TZOFFSETTO:-0500
TZNAME:EST
DTSTART:20191103T060000
END:STANDARD
BEGIN:DAYLIGHT
TZOFFSETFROM:-0500
TZOFFSETTO:-0400
TZNAME:EDT
DTSTART:20200308T070000
END:DAYLIGHT
BEGIN:STANDARD
TZOFFSETFROM:-0400
TZOFFSETTO:-0500
TZNAME:EST
DTSTART:20201101T060000
END:STANDARD
END:VTIMEZONE
BEGIN:VEVENT
DTSTART;TZID=America/New_York:20190516T163000
DTEND;TZID=America/New_York:20190516T173000
DTSTAMP:20260419T104544
CREATED:20190313T171347Z
LAST-MODIFIED:20190507T142752Z
UID:10000554-1558024200-1558027800@www.med.unc.edu
SUMMARY:CGIBD Research Seminar – DDW 2019 Preview
DESCRIPTION:Bhavya Allena – Presenting: Loss of TGF-β signaling promotes proliferation and is associated with Barrett’s Esophagus and esophageal adenocarcinoma\nMuyiwa Awoniyi\, MD\, PhD —Presenting: Accelerated Onset of Spontaneous Proximal Colonic Dysplasia and Invasive Adenocarcinoma in Novel PSC-IBD Model\n 
URL:https://www.med.unc.edu/cgibd/event/cgibd-research-seminar-ddw-2019-preview/
LOCATION:Marsico Hall 2004
GEO:35.9025392;-79.0540141
END:VEVENT
END:VCALENDAR