BEGIN:VCALENDAR
VERSION:2.0
PRODID:-//Center for Gastrointestinal Biology and Disease - ECPv6.15.18//NONSGML v1.0//EN
CALSCALE:GREGORIAN
METHOD:PUBLISH
X-ORIGINAL-URL:https://www.med.unc.edu/cgibd
X-WR-CALDESC:Events for Center for Gastrointestinal Biology and Disease
REFRESH-INTERVAL;VALUE=DURATION:PT1H
X-Robots-Tag:noindex
X-PUBLISHED-TTL:PT1H
BEGIN:VTIMEZONE
TZID:America/New_York
BEGIN:DAYLIGHT
TZOFFSETFROM:-0500
TZOFFSETTO:-0400
TZNAME:EDT
DTSTART:20180311T070000
END:DAYLIGHT
BEGIN:STANDARD
TZOFFSETFROM:-0400
TZOFFSETTO:-0500
TZNAME:EST
DTSTART:20181104T060000
END:STANDARD
BEGIN:DAYLIGHT
TZOFFSETFROM:-0500
TZOFFSETTO:-0400
TZNAME:EDT
DTSTART:20190310T070000
END:DAYLIGHT
BEGIN:STANDARD
TZOFFSETFROM:-0400
TZOFFSETTO:-0500
TZNAME:EST
DTSTART:20191103T060000
END:STANDARD
BEGIN:DAYLIGHT
TZOFFSETFROM:-0500
TZOFFSETTO:-0400
TZNAME:EDT
DTSTART:20200308T070000
END:DAYLIGHT
BEGIN:STANDARD
TZOFFSETFROM:-0400
TZOFFSETTO:-0500
TZNAME:EST
DTSTART:20201101T060000
END:STANDARD
END:VTIMEZONE
BEGIN:VEVENT
DTSTART;TZID=America/New_York:20190911T160000
DTEND;TZID=America/New_York:20190911T170000
DTSTAMP:20260420T183219
CREATED:20190722T181147Z
LAST-MODIFIED:20190812T125554Z
UID:10000600-1568217600-1568221200@www.med.unc.edu
SUMMARY:CGIBD GI Epi Conference - "Introductions & Research Opportunities" by A Sidney Barritt IV\, M.D.\, MSCR and "Stool-based Colorectal Cancer Screening in Central America: A Pilot Feasibility Study" by Michael Dougherty\, M.D.\, MSCR
DESCRIPTION:“Introductions and Research Opportunities” \nA Sidney Barritt IV\, M.D.\, MSCR \nAssociate Professor \nDepartment of Medicine – GI & Hepatology \n“Stool-based Colorectal Cancer Screening in Central America: A Pilot Feasibility Study” \nMichael Dougherty\, M.D.\, MSCR \nClinical Fellow \nDepartment of Medicine – GI & Hepatology
URL:https://www.med.unc.edu/cgibd/event/09-11-2019/
LOCATION:Bioinformatics 4137\, 130 Mason Farm Road\, Chapel Hill\, NC\, 27599\, United States
GEO:35.9020648;-79.053397
X-APPLE-STRUCTURED-LOCATION;VALUE=URI;X-ADDRESS=Bioinformatics 4137 130 Mason Farm Road Chapel Hill NC 27599 United States;X-APPLE-RADIUS=500;X-TITLE=130 Mason Farm Road:geo:-79.053397,35.9020648
END:VEVENT
END:VCALENDAR