BEGIN:VCALENDAR
VERSION:2.0
PRODID:-//Center for Gastrointestinal Biology and Disease - ECPv6.15.18//NONSGML v1.0//EN
CALSCALE:GREGORIAN
METHOD:PUBLISH
X-ORIGINAL-URL:https://www.med.unc.edu/cgibd
X-WR-CALDESC:Events for Center for Gastrointestinal Biology and Disease
REFRESH-INTERVAL;VALUE=DURATION:PT1H
X-Robots-Tag:noindex
X-PUBLISHED-TTL:PT1H
BEGIN:VTIMEZONE
TZID:America/New_York
BEGIN:DAYLIGHT
TZOFFSETFROM:-0500
TZOFFSETTO:-0400
TZNAME:EDT
DTSTART:20210314T070000
END:DAYLIGHT
BEGIN:STANDARD
TZOFFSETFROM:-0400
TZOFFSETTO:-0500
TZNAME:EST
DTSTART:20211107T060000
END:STANDARD
BEGIN:DAYLIGHT
TZOFFSETFROM:-0500
TZOFFSETTO:-0400
TZNAME:EDT
DTSTART:20220313T070000
END:DAYLIGHT
BEGIN:STANDARD
TZOFFSETFROM:-0400
TZOFFSETTO:-0500
TZNAME:EST
DTSTART:20221106T060000
END:STANDARD
BEGIN:DAYLIGHT
TZOFFSETFROM:-0500
TZOFFSETTO:-0400
TZNAME:EDT
DTSTART:20230312T070000
END:DAYLIGHT
BEGIN:STANDARD
TZOFFSETFROM:-0400
TZOFFSETTO:-0500
TZNAME:EST
DTSTART:20231105T060000
END:STANDARD
END:VTIMEZONE
BEGIN:VEVENT
DTSTART;TZID=America/New_York:20220119T160000
DTEND;TZID=America/New_York:20220119T170000
DTSTAMP:20260418T160756
CREATED:20220113T214600Z
LAST-MODIFIED:20220113T214600Z
UID:10000732-1642608000-1642611600@www.med.unc.edu
SUMMARY:GI Epi Conference: "Multi-Cancer Early Detection (MCED) Tests\, Like GRAIL's\, Are Adopted Without Evidence of Benefit? Implications for Patient Outcomes\, Screening Guidelines and Research" with David Ransohoff\, MD
DESCRIPTION:GI Epi Conference: “Multi-Cancer Early Detection (MCED) Tests\, Like GRAIL’s\, Are Adopted Without Evidence of Benefit? Implications for Patient Outcomes\, Screening Guidelines and Research” with David Ransohoff\, MD
URL:https://www.med.unc.edu/cgibd/event/gi-epi-conference-multi-cancer-early-detection-mced-tests-like-grails-are-adopted-without-evidence-of-benefit-implications-for-patient-outcomes-screening-guidelines-and-research-with-davi/
LOCATION:ZOOM
END:VEVENT
END:VCALENDAR