BEGIN:VCALENDAR
VERSION:2.0
PRODID:-//Center for Gastrointestinal Biology and Disease - ECPv6.15.18//NONSGML v1.0//EN
CALSCALE:GREGORIAN
METHOD:PUBLISH
X-ORIGINAL-URL:https://www.med.unc.edu/cgibd
X-WR-CALDESC:Events for Center for Gastrointestinal Biology and Disease
REFRESH-INTERVAL;VALUE=DURATION:PT1H
X-Robots-Tag:noindex
X-PUBLISHED-TTL:PT1H
BEGIN:VTIMEZONE
TZID:America/New_York
BEGIN:DAYLIGHT
TZOFFSETFROM:-0500
TZOFFSETTO:-0400
TZNAME:EDT
DTSTART:20170312T070000
END:DAYLIGHT
BEGIN:STANDARD
TZOFFSETFROM:-0400
TZOFFSETTO:-0500
TZNAME:EST
DTSTART:20171105T060000
END:STANDARD
BEGIN:DAYLIGHT
TZOFFSETFROM:-0500
TZOFFSETTO:-0400
TZNAME:EDT
DTSTART:20180311T070000
END:DAYLIGHT
BEGIN:STANDARD
TZOFFSETFROM:-0400
TZOFFSETTO:-0500
TZNAME:EST
DTSTART:20181104T060000
END:STANDARD
BEGIN:DAYLIGHT
TZOFFSETFROM:-0500
TZOFFSETTO:-0400
TZNAME:EDT
DTSTART:20190310T070000
END:DAYLIGHT
BEGIN:STANDARD
TZOFFSETFROM:-0400
TZOFFSETTO:-0500
TZNAME:EST
DTSTART:20191103T060000
END:STANDARD
END:VTIMEZONE
BEGIN:VEVENT
DTSTART;TZID=America/New_York:20181003T160000
DTEND;TZID=America/New_York:20181003T170000
DTSTAMP:20260421T161454
CREATED:20190312T145303Z
LAST-MODIFIED:20190312T145303Z
UID:10000494-1538582400-1538586000@www.med.unc.edu
SUMMARY:CGIBD Epi Conference - “Secondary analysis of Patient-Reported Outcomes Project of HCV Target (PROP UP)” by Donna Evon\, PhD
DESCRIPTION:“Introductions and Research Opportunities: Secondary analysis of Patient-Reported Outcomes Project of HCV Target (PROP UP)”  \nDonna Evon\, PhD\nAssociate Professor\nDepartment of Medicine\, GI Division \n 
URL:https://www.med.unc.edu/cgibd/event/cgibd-epi-conference-secondary-analysis-of-patient-reported-outcomes-project-of-hcv-target-prop-up-by-donna-evon-phd/
LOCATION:Bioinformatics 4137\, 130 Mason Farm Road\, Chapel Hill\, NC\, 27599\, United States
GEO:35.9020648;-79.053397
X-APPLE-STRUCTURED-LOCATION;VALUE=URI;X-ADDRESS=Bioinformatics 4137 130 Mason Farm Road Chapel Hill NC 27599 United States;X-APPLE-RADIUS=500;X-TITLE=130 Mason Farm Road:geo:-79.053397,35.9020648
END:VEVENT
BEGIN:VEVENT
DTSTART;TZID=America/New_York:20181004T163000
DTEND;TZID=America/New_York:20181004T173000
DTSTAMP:20260421T161454
CREATED:20190313T144058Z
LAST-MODIFIED:20190313T144058Z
UID:10000517-1538670600-1538674200@www.med.unc.edu
SUMMARY:CGIBD Research Seminar - “Porphyrin-triggered protein aggregation: mechanism and porphyria implications” by M. Bishr Omary\, MD\, PhD
DESCRIPTION:“Porphyrin-triggered protein aggregation: mechanism and porphyria implications”\nM. Bishr Omary\, MD\, PhD\nExecutive Vice Dean for Research and Chief Scientific Officer\nProfessor of Molecular & Integrative Physiology and Internal Medicine\nH Marvin Pollard Professor of Gastroenterology\nUniversity of Michigan Medical School\nAGA Vice President (2018—2019) & President (2020-2021) \nDr. Omary’s research program involves basic\, translational\, and clinical studies focused on the function and regulation of intermediate filaments in GI biology and disease. The Omary lab is active in identifying and characterizing biomarkers for acute and chronic liver and pancreatic diseases\, and pursuing molecular understanding of porphyria pathogenesis and related therapeutic approaches. Dr. Omary served as the editor-in-chief of the journal Gastroenterology (2011-2016) and is currently the chair of NIH Clinical\, Integrative & Molecular Gastroenterology (CIMG) Study Section (2018-2020). \nConference Streamed Live: https://cgibd.my.webex.com\nMeeting # 624 562 559\nAudio: 1-510-338-9438 \n  \n  \n  \n 
URL:https://www.med.unc.edu/cgibd/event/cgibd-research-seminar-porphyrin-triggered-protein-aggregation-mechanism-and-porphyria-implications-by-m-bishr-omary-md-phd/
LOCATION:Marsico Hall 2004
GEO:35.9025392;-79.0540141
END:VEVENT
BEGIN:VEVENT
DTSTART;TZID=America/New_York:20181010T160000
DTEND;TZID=America/New_York:20181010T170000
DTSTAMP:20260421T161454
CREATED:20190312T145601Z
LAST-MODIFIED:20190312T145601Z
UID:10000495-1539187200-1539190800@www.med.unc.edu
SUMMARY:CGIBD Epi Conference - “How to write and get a career development award” by Robert S. Sandler\, MD\, MPH
DESCRIPTION:“How to write and get a career development award”  \nRobert S. Sandler\, MD\, MPH\nNina C. and John T. Sessions Distinguished Professor\nDirector\, Center for Gastrointestinal Biology and Disease \n 
URL:https://www.med.unc.edu/cgibd/event/cgibd-epi-conference-how-to-write-and-get-a-career-development-award-by-robert-s-sandler-md-mph/
LOCATION:Bioinformatics 4137\, 130 Mason Farm Road\, Chapel Hill\, NC\, 27599\, United States
GEO:35.9020648;-79.053397
X-APPLE-STRUCTURED-LOCATION;VALUE=URI;X-ADDRESS=Bioinformatics 4137 130 Mason Farm Road Chapel Hill NC 27599 United States;X-APPLE-RADIUS=500;X-TITLE=130 Mason Farm Road:geo:-79.053397,35.9020648
END:VEVENT
BEGIN:VEVENT
DTSTART;TZID=America/New_York:20181011T163000
DTEND;TZID=America/New_York:20181011T173000
DTSTAMP:20260421T161454
CREATED:20190313T144313Z
LAST-MODIFIED:20190313T144313Z
UID:10000519-1539275400-1539279000@www.med.unc.edu
SUMMARY:CGBID Research Seminar - Cancelled due to Hurricane Michael
DESCRIPTION:
URL:https://www.med.unc.edu/cgibd/event/cgbid-research-seminar-cancelled-due-to-hurricane-michael/
END:VEVENT
BEGIN:VEVENT
DTSTART;TZID=America/New_York:20181017T160000
DTEND;TZID=America/New_York:20181017T170000
DTSTAMP:20260421T161454
CREATED:20190312T145929Z
LAST-MODIFIED:20190312T145929Z
UID:10000496-1539792000-1539795600@www.med.unc.edu
SUMMARY:CGIBD Epi Conference - “WIP: Comparative effectiveness of treatment modalities for early stage hepatocellular carcinoma” by Hannah Kim\, MD & Andrew Moon\, MD\, MPH
DESCRIPTION:“Work in progress: Comparative effectiveness of treatment modalities for early stage hepatocellular carcinoma” \nHannah Kim\, MD\nClinical Fellow\nDepartment of Medicine—Division of Gastroenterology \nAnd \nAndrew Moon\, MD\, MPH\nClinical Fellow\nDepartment of Medicine—Division of Gastroenterology \n 
URL:https://www.med.unc.edu/cgibd/event/cgibd-epi-conference-wip-comparative-effectiveness-of-treatment-modalities-for-early-stage-hepatocellular-carcinoma-by-hannah-kim-md-andrew-moon-md-mph/
LOCATION:Bioinformatics 4137\, 130 Mason Farm Road\, Chapel Hill\, NC\, 27599\, United States
GEO:35.9020648;-79.053397
X-APPLE-STRUCTURED-LOCATION;VALUE=URI;X-ADDRESS=Bioinformatics 4137 130 Mason Farm Road Chapel Hill NC 27599 United States;X-APPLE-RADIUS=500;X-TITLE=130 Mason Farm Road:geo:-79.053397,35.9020648
END:VEVENT
BEGIN:VEVENT
DTSTART;TZID=America/New_York:20181018T163000
DTEND;TZID=America/New_York:20181018T173000
DTSTAMP:20260421T161454
CREATED:20190313T145220Z
LAST-MODIFIED:20190313T145220Z
UID:10000521-1539880200-1539883800@www.med.unc.edu
SUMMARY:CGIBD Research Seminar - No Seminar Today - Fall Break
DESCRIPTION:
URL:https://www.med.unc.edu/cgibd/event/cgibd-research-seminar-no-seminar-today-fall-break/
END:VEVENT
BEGIN:VEVENT
DTSTART;TZID=America/New_York:20181024T160000
DTEND;TZID=America/New_York:20181024T170000
DTSTAMP:20260421T161454
CREATED:20190312T150933Z
LAST-MODIFIED:20190312T150933Z
UID:10000497-1540396800-1540400400@www.med.unc.edu
SUMMARY:CGIBD Epi Conference - Two WIP Presentations
DESCRIPTION:“Work in progress: Analysis of opioid use following surgery for chronic pancreatitis” \nTed James\, MD\nClinical Fellow\nDepartment of Medicine—Division of Gastroenterology \nAnd   \n“Work in progress: Understanding challenges\, coping strategies & health behaviors among adult liver transplant recipients” \nSarah Lieber\, MD\nClinical Fellow\nDepartment of Medicine—Division of Gastroenterology \n 
URL:https://www.med.unc.edu/cgibd/event/cgibd-epi-conference-two-wip-presentations/
LOCATION:Bioinformatics 4137\, 130 Mason Farm Road\, Chapel Hill\, NC\, 27599\, United States
GEO:35.9020648;-79.053397
X-APPLE-STRUCTURED-LOCATION;VALUE=URI;X-ADDRESS=Bioinformatics 4137 130 Mason Farm Road Chapel Hill NC 27599 United States;X-APPLE-RADIUS=500;X-TITLE=130 Mason Farm Road:geo:-79.053397,35.9020648
END:VEVENT
BEGIN:VEVENT
DTSTART;TZID=America/New_York:20181025T163000
DTEND;TZID=America/New_York:20181025T173000
DTSTAMP:20260421T161454
CREATED:20190313T150128Z
LAST-MODIFIED:20190313T150200Z
UID:10000523-1540485000-1540488600@www.med.unc.edu
SUMMARY:CGIBD Research Seminar - “Prebiotics for therapeutic modulation of the colonic microbiota ” by M. Andrea Azcarate-Peril\, PhD
DESCRIPTION:“Prebiotics for therapeutic modulation of the colonic microbiota”\nM.Andrea Azcarate-Peril\, PhD\nAssociate Professor\nDepartment of Medicine—Division of Gastroenterology and Hepatology\nSchool of Medicine\nAdjunct Associate Professor\nDept. of Nutrition\nGillings School of Global Public Health\nDirector\, UNC Microbiome Core\nThe University of North Carolina at Chapel Hill \nAdjunct Associate Professor\nDept. of Plant and Microbial Biology\nNorth Carolina State University \nDr. Azcarate-Peril is a microbiologist by training and has extensive experience in the characterization of complex microbial populations and functional metagenomics using culture-dependent and culture-independent methods including Next Generation Sequencing. Her research projects have focused on functional genomics of probiotics and gut microbiome modulation by prebiotics for over 20 years\, resulting in over 60 peer-reviewed publications. \nDr. Azcarate-Peril’s current projects aim to define modulators of the gut microbiome capable of reversing dysbioses induced by age\, diet and nutritional behaviors. She is particularly interested in the development of application-directed probiotic strains to address and prevent gastrointestinal disorders. \nConference Streamed Live: https://cgibd.my.webex.com\nMeeting # 624 562 559\nAudio: 1-510-338-9438 \n  \n  \n  \n  \n 
URL:https://www.med.unc.edu/cgibd/event/cgibd-research-seminar-prebiotics-for-therapeutic-modulation-of-the-colonic-microbiota-by-m-andrea-azcarate-peril-phd/
LOCATION:Marsico Hall 2004
GEO:35.9025392;-79.0540141
END:VEVENT
BEGIN:VEVENT
DTSTART;TZID=America/New_York:20181031T160000
DTEND;TZID=America/New_York:20181031T170000
DTSTAMP:20260421T161454
CREATED:20190312T151232Z
LAST-MODIFIED:20190312T151232Z
UID:10000498-1541001600-1541005200@www.med.unc.edu
SUMMARY:CGIBD Epi Conference - Two Work in Progress presentations
DESCRIPTION:“Work in progress: Screening for squamous cell carcinoma of the aerodigestive tract” \nCary Cotton\, MD\, MPH\nClinical Research Fellow\nDepartment of Medicine—Division of Gastroenterology \nAnd  \n“Work in progress: The microbiota of gastric premalignant lesions: 16S sequencing data in a Central American population” \nMichael Dougherty\, MD\nClinical Research Fellow\nDepartment of Medicine—Division of Gastroenterology \n  \n  \n  \n  \n  \n  \n  \n  \n 
URL:https://www.med.unc.edu/cgibd/event/cgibd-epi-conference-two-work-in-progress-presentations/
LOCATION:Bioinformatics 4137\, 130 Mason Farm Road\, Chapel Hill\, NC\, 27599\, United States
GEO:35.9020648;-79.053397
X-APPLE-STRUCTURED-LOCATION;VALUE=URI;X-ADDRESS=Bioinformatics 4137 130 Mason Farm Road Chapel Hill NC 27599 United States;X-APPLE-RADIUS=500;X-TITLE=130 Mason Farm Road:geo:-79.053397,35.9020648
END:VEVENT
END:VCALENDAR