BEGIN:VCALENDAR
VERSION:2.0
PRODID:-//Center for Gastrointestinal Biology and Disease - ECPv6.15.18//NONSGML v1.0//EN
CALSCALE:GREGORIAN
METHOD:PUBLISH
X-ORIGINAL-URL:https://www.med.unc.edu/cgibd
X-WR-CALDESC:Events for Center for Gastrointestinal Biology and Disease
REFRESH-INTERVAL;VALUE=DURATION:PT1H
X-Robots-Tag:noindex
X-PUBLISHED-TTL:PT1H
BEGIN:VTIMEZONE
TZID:America/New_York
BEGIN:DAYLIGHT
TZOFFSETFROM:-0500
TZOFFSETTO:-0400
TZNAME:EDT
DTSTART:20180311T070000
END:DAYLIGHT
BEGIN:STANDARD
TZOFFSETFROM:-0400
TZOFFSETTO:-0500
TZNAME:EST
DTSTART:20181104T060000
END:STANDARD
BEGIN:DAYLIGHT
TZOFFSETFROM:-0500
TZOFFSETTO:-0400
TZNAME:EDT
DTSTART:20190310T070000
END:DAYLIGHT
BEGIN:STANDARD
TZOFFSETFROM:-0400
TZOFFSETTO:-0500
TZNAME:EST
DTSTART:20191103T060000
END:STANDARD
BEGIN:DAYLIGHT
TZOFFSETFROM:-0500
TZOFFSETTO:-0400
TZNAME:EDT
DTSTART:20200308T070000
END:DAYLIGHT
BEGIN:STANDARD
TZOFFSETFROM:-0400
TZOFFSETTO:-0500
TZNAME:EST
DTSTART:20201101T060000
END:STANDARD
END:VTIMEZONE
BEGIN:VEVENT
DTSTART;TZID=America/New_York:20190103T163000
DTEND;TZID=America/New_York:20190103T173000
DTSTAMP:20260420T040725
CREATED:20190313T154038Z
LAST-MODIFIED:20190313T154148Z
UID:10000535-1546533000-1546536600@www.med.unc.edu
SUMMARY:CGIBD Research Seminar - No seminar today - Winter Break!
DESCRIPTION:
URL:https://www.med.unc.edu/cgibd/event/cgibd-research-seminar-no-seminar-today-winter-break-3/
END:VEVENT
BEGIN:VEVENT
DTSTART;TZID=America/New_York:20190109T160000
DTEND;TZID=America/New_York:20190109T170000
DTSTAMP:20260420T040725
CREATED:20190312T155623Z
LAST-MODIFIED:20190312T155623Z
UID:10000504-1547049600-1547053200@www.med.unc.edu
SUMMARY:CGIBD Epi Conference - “Computer algorithms to identify drug induced liver injury in electronic medical records” by Christine Hunt\, MD\, MPH
DESCRIPTION:“Computer algorithms to identify drug induced liver injury in electronic medical records”  \nChristine Hunt\, MD\, MPH\nAdjunct Associate Professor\nDepartment of Medicine\, Duke University \n 
URL:https://www.med.unc.edu/cgibd/event/cgibd-epi-conference-computer-algorithms-to-identify-drug-induced-liver-injury-in-electronic-medical-records-by-christine-hunt-md-mph/
LOCATION:Bioinformatics 5127
END:VEVENT
BEGIN:VEVENT
DTSTART;TZID=America/New_York:20190110T163000
DTEND;TZID=America/New_York:20190110T173000
DTSTAMP:20260420T040725
CREATED:20190313T154653Z
LAST-MODIFIED:20190313T154653Z
UID:10000536-1547137800-1547141400@www.med.unc.edu
SUMMARY:CGIBD Research Seminar - “Overcoming an immunological backlash from modern sanitation practices:  The return of the intestinal worm ” by William Parker\, PhD
DESCRIPTION:“Overcoming an immunological backlash from modern sanitation practices: The return of the intestinal worm ”  \nWilliam Parker\, PhD\nAssociate Professor in Surgery\nDuke University Medical Center \nDr. Parker has studied biochemistry and immunology at Duke University since 1993. He is best known for the discovery of the function of the human vermiform appendix (a safe-house for bacteria)\, Dr. Parker has spent the last 15 years looking at fundamental cultural causes of inflammation in Western societies. His work on “biota alteration”\, a concept which evolved from the “hygiene hypothesis”\, has led to the discovery that intestinal worms\, called helminths\, are very supportive of healthy neuropsychiatric function in adults and in children. \nConference Streamed Live: https://cgibd.my.webex.com\nMeeting #: 624 562 559\nAudio connection: 1-510-338-9438\nMeeting Password: 5bDkYW7Y \n  \n 
URL:https://www.med.unc.edu/cgibd/event/cgibd-research-seminar-overcoming-an-immunological-backlash-from-modern-sanitation-practices-the-return-of-the-intestinal-worm-by-william-parker-phd/
LOCATION:Marsico Hall 2004
GEO:35.9025392;-79.0540141
END:VEVENT
BEGIN:VEVENT
DTSTART;TZID=America/New_York:20190116T160000
DTEND;TZID=America/New_York:20190116T170000
DTSTAMP:20260420T040725
CREATED:20190312T160003Z
LAST-MODIFIED:20190312T160003Z
UID:10000505-1547654400-1547658000@www.med.unc.edu
SUMMARY:CGIBD Epi Conference - “Is it important to improve the Quality of Clinical Practice Guidelines?" by David Ransohoff\, MD
DESCRIPTION:“Is it important to improve the Quality of Clinical Practice Guidelines?  Evolution of—and lessons from CRC screening guidelines”  \nDavid Ransohoff\, MD\nProfessor of Medicine\nDepartment of Medicine\, GI Division\nThe University of North Carolina at Chapel Hill \n 
URL:https://www.med.unc.edu/cgibd/event/cgibd-epi-conference-is-it-important-to-improve-the-quality-of-clinical-practice-guidelines-by-david-ransohoff-md/
LOCATION:Bioinformatics 4137\, 130 Mason Farm Road\, Chapel Hill\, NC\, 27599\, United States
GEO:35.9020648;-79.053397
X-APPLE-STRUCTURED-LOCATION;VALUE=URI;X-ADDRESS=Bioinformatics 4137 130 Mason Farm Road Chapel Hill NC 27599 United States;X-APPLE-RADIUS=500;X-TITLE=130 Mason Farm Road:geo:-79.053397,35.9020648
END:VEVENT
BEGIN:VEVENT
DTSTART;TZID=America/New_York:20190117T163000
DTEND;TZID=America/New_York:20190117T173000
DTSTAMP:20260420T040725
CREATED:20190313T155204Z
LAST-MODIFIED:20190313T155204Z
UID:10000537-1547742600-1547746200@www.med.unc.edu
SUMMARY:CGIBD Research Seminar - “The Gut Microbiome Regulates Mucosal and Systemic Inflammation in IBD ” by Randy Longman\, MD\, PhD
DESCRIPTION:“The Gut Microbiome Regulates Mucosal and Systemic Inflammation in IBD ”  \nRandy Longman\, MD PhD\nAssistant Professor\nDepartment of Medicine\nDivision of Gastroenterology and Hepatology\nWeill Cornell Medical Center \nDr. Randy Longman is an Assistant Professor of Medicine at Weill Cornell Medicine and a member of the Jill Roberts Center and Institute for Research in Inflammatory Bowel Disease (IBD). His research focuses on defining the cellular and molecular mechanisms underlying host-microbiota interactions that drive the pathogenesis of mucosal and systemic inflammation in IBD. \n  \nConference Streamed Live: https://cgibd.my.webex.com\nMeeting #: 624 562 559\nAudio connection: 1-510-338-9438\nMeeting Password: 5bDkYW7Y \n  \n  \n 
URL:https://www.med.unc.edu/cgibd/event/cgibd-research-seminar-the-gut-microbiome-regulates-mucosal-and-systemic-inflammation-in-ibd-by-randy-longman-md-phd/
LOCATION:Marsico Hall 2004
GEO:35.9025392;-79.0540141
END:VEVENT
BEGIN:VEVENT
DTSTART;TZID=America/New_York:20190123T160000
DTEND;TZID=America/New_York:20190123T170000
DTSTAMP:20260420T040725
CREATED:20190312T160408Z
LAST-MODIFIED:20190312T160408Z
UID:10000506-1548259200-1548262800@www.med.unc.edu
SUMMARY:CGBID Epi Conference - “Opportunities for research and clinical partnerships with the Health Sciences Library” by Rebecca McCall\, MLS
DESCRIPTION: “Opportunities for research and clinical partnerships with the Health Sciences Library” \nRebecca McCall\, MLS\nClinical Librarian\nHealth Sciences Library\nThe University of North Carolina at Chapel Hill \n 
URL:https://www.med.unc.edu/cgibd/event/cgbid-epi-conference-opportunities-for-research-and-clinical-partnerships-with-the-health-sciences-library-by-rebecca-mccall-mls/
LOCATION:Bioinformatics 4137\, 130 Mason Farm Road\, Chapel Hill\, NC\, 27599\, United States
GEO:35.9020648;-79.053397
X-APPLE-STRUCTURED-LOCATION;VALUE=URI;X-ADDRESS=Bioinformatics 4137 130 Mason Farm Road Chapel Hill NC 27599 United States;X-APPLE-RADIUS=500;X-TITLE=130 Mason Farm Road:geo:-79.053397,35.9020648
END:VEVENT
BEGIN:VEVENT
DTSTART;TZID=America/New_York:20190124T163000
DTEND;TZID=America/New_York:20190124T173000
DTSTAMP:20260420T040725
CREATED:20190313T155623Z
LAST-MODIFIED:20190313T155623Z
UID:10000538-1548347400-1548351000@www.med.unc.edu
SUMMARY:CGIBD Research Seminar - “ The epigenetics of T cell fate decisions:  If it were always EZ(h2)” by William Faubion\, MD
DESCRIPTION:“ The epigenetics of T cell fate decisions: If it were always EZ(h2)”  \nWilliam Faubion\, MD\nProfessor\nDepartments of Internal Medicine\, Immunology and Pediatrics\nMayo Medical School\nDirector\, Pediatric Inflammatory Bowel Disease Center at the Mayo Clinic \nDr. Faubion is the principal investigator of the T32 training grant and Vice-Chair of Research for the adult GI division. Dr. Faubion has authored more than 100 papers and articles in peer-reviewed journals including the Journal of Clinical Investigation\, Journal of Experimental Medicine\, Nature Immunology\, Journal of Immunology\, and Gastroenterology. He has an active clinical trails program\, steers the translational IBD research group\, and an NIH funded mucosal immunology laboratory focused on immuno-epigenetics.  \nConference Streamed Live: https://cgibd.my.webex.com\nMeeting #: 624 562 559\nAudio connection: 1-510-338-9438\nMeeting Password: 5bDkYW7Y \n  \n 
URL:https://www.med.unc.edu/cgibd/event/cgibd-research-seminar-the-epigenetics-of-t-cell-fate-decisions-if-it-were-always-ezh2-by-william-faubion-md/
LOCATION:Marsico Hall 2004
GEO:35.9025392;-79.0540141
END:VEVENT
BEGIN:VEVENT
DTSTART;TZID=America/New_York:20190130T160000
DTEND;TZID=America/New_York:20190130T170000
DTSTAMP:20260420T040725
CREATED:20190312T160640Z
LAST-MODIFIED:20190312T160640Z
UID:10000507-1548864000-1548867600@www.med.unc.edu
SUMMARY:CGIBD Epi Conference - "WIP: Estrogen\, Obesity & Diverticulosis" by Anne Peery\, MD\, MSCR
DESCRIPTION:“Estrogen\, Obesity & Diverticulosis: Work in Progress” \nAnne Peery\, MD\, MSCR\nAssistant Professor of Medicine\nDepartment of Medicine\, GI Division\nThe University of North Carolina at Chapel Hill \n 
URL:https://www.med.unc.edu/cgibd/event/cgibd-epi-conference-wip-estrogen-obesity-diverticulosis-by-anne-peery-md-mscr/
LOCATION:Bioinformatics 4137\, 130 Mason Farm Road\, Chapel Hill\, NC\, 27599\, United States
GEO:35.9020648;-79.053397
X-APPLE-STRUCTURED-LOCATION;VALUE=URI;X-ADDRESS=Bioinformatics 4137 130 Mason Farm Road Chapel Hill NC 27599 United States;X-APPLE-RADIUS=500;X-TITLE=130 Mason Farm Road:geo:-79.053397,35.9020648
END:VEVENT
BEGIN:VEVENT
DTSTART;TZID=America/New_York:20190131T163000
DTEND;TZID=America/New_York:20190131T173000
DTSTAMP:20260420T040725
CREATED:20190313T160242Z
LAST-MODIFIED:20190313T160242Z
UID:10000539-1548952200-1548955800@www.med.unc.edu
SUMMARY:CGIBD Research Seminar - “ Gut microbiota dysbiosis in infection and IBD: from iron to new therapies ” by Andre G. Buret\, PhD
DESCRIPTION:“ Gut microbiota dysbiosis in infection and IBD: from iron to new therapies ”  \nAndre G. Buret\, PhD\nProfessor\nDepartments of Biologicals Sciences\, Physiology and Pharmacology\nAssociate Vice-President Research\nUniversity of Calgary \nDr. Buret’s research: Similar inflammatory\, immunologic\, and pathophysiologic events characterize disease processes at mucosal sites such as the intestine and the lung. Critical issues to this   research area include understanding the role of immune cells and mediators\, and the role of cell death\, in the production of disease. The overall aim of my research is to define cell-cell interactions in these systems\, and how such interactions may affect gastrointestinal and pulmonary physiology\, responsiveness\, and inflammation\, in an attempt to develop novel therapeutic strategies. \nConference Streamed Live: https://cgibd.my.webex.com\nMeeting #: 624 562 559\nAudio connection: 1-510-338-9438\nMeeting Password: 5bDkYW7Y \n  \n  \n  \n 
URL:https://www.med.unc.edu/cgibd/event/cgibd-research-seminar-gut-microbiota-dysbiosis-in-infection-and-ibd-from-iron-to-new-therapies-by-andre-g-buret-phd/
LOCATION:Marsico Hall 2004
GEO:35.9025392;-79.0540141
END:VEVENT
END:VCALENDAR