BEGIN:VCALENDAR
VERSION:2.0
PRODID:-//Center for Gastrointestinal Biology and Disease - ECPv6.15.18//NONSGML v1.0//EN
CALSCALE:GREGORIAN
METHOD:PUBLISH
X-ORIGINAL-URL:https://www.med.unc.edu/cgibd
X-WR-CALDESC:Events for Center for Gastrointestinal Biology and Disease
REFRESH-INTERVAL;VALUE=DURATION:PT1H
X-Robots-Tag:noindex
X-PUBLISHED-TTL:PT1H
BEGIN:VTIMEZONE
TZID:America/New_York
BEGIN:DAYLIGHT
TZOFFSETFROM:-0500
TZOFFSETTO:-0400
TZNAME:EDT
DTSTART:20220313T070000
END:DAYLIGHT
BEGIN:STANDARD
TZOFFSETFROM:-0400
TZOFFSETTO:-0500
TZNAME:EST
DTSTART:20221106T060000
END:STANDARD
BEGIN:DAYLIGHT
TZOFFSETFROM:-0500
TZOFFSETTO:-0400
TZNAME:EDT
DTSTART:20230312T070000
END:DAYLIGHT
BEGIN:STANDARD
TZOFFSETFROM:-0400
TZOFFSETTO:-0500
TZNAME:EST
DTSTART:20231105T060000
END:STANDARD
BEGIN:DAYLIGHT
TZOFFSETFROM:-0500
TZOFFSETTO:-0400
TZNAME:EDT
DTSTART:20240310T070000
END:DAYLIGHT
BEGIN:STANDARD
TZOFFSETFROM:-0400
TZOFFSETTO:-0500
TZNAME:EST
DTSTART:20241103T060000
END:STANDARD
END:VTIMEZONE
BEGIN:VEVENT
DTSTART;TZID=America/New_York:20230905T163000
DTEND;TZID=America/New_York:20230905T173000
DTSTAMP:20260420T142355
CREATED:20230720T132511Z
LAST-MODIFIED:20230720T132511Z
UID:10000821-1693931400-1693935000@www.med.unc.edu
SUMMARY:CGIBD Research Seminar: Biostatistics & Clinical Research Core and Gnotobiotic Core Presentations with Evan Dellon and Balfour Sartor
DESCRIPTION:CGIBD Research Seminar: Biostatistics & Clinical Research Core and Gnotobiotic Core Presentations with Evan Dellon and Balfour Sartor
URL:https://www.med.unc.edu/cgibd/event/cgibd-research-seminar-biostatistics-clinical-research-core-and-gnotobiotic-core-presentations-with-evan-dellon-and-balfour-sartor/
END:VEVENT
BEGIN:VEVENT
DTSTART;TZID=America/New_York:20230906T160000
DTEND;TZID=America/New_York:20230906T170000
DTSTAMP:20260420T142355
CREATED:20230707T182930Z
LAST-MODIFIED:20230707T182930Z
UID:10000816-1694016000-1694019600@www.med.unc.edu
SUMMARY:GI Epi Conference: "Introduction to Division Research" with Erica Brenner\, MD\, MSCR & Matthew Egberg\, MD\, MPH\, MMSc
DESCRIPTION:GI Epi Conference: “Introduction to Division Research” with Erica Brenner\, MD\, MSCR & Matthew Egberg\, MD\, MPH\, MMSc
URL:https://www.med.unc.edu/cgibd/event/gi-epi-conference-introduction-to-division-research-with-erica-brenner-md-mscr-matthew-egberg-md-mph-mmsc/
LOCATION:ZOOM
END:VEVENT
BEGIN:VEVENT
DTSTART;TZID=America/New_York:20230912T163000
DTEND;TZID=America/New_York:20230912T173000
DTSTAMP:20260420T142355
CREATED:20230731T132408Z
LAST-MODIFIED:20230906T223306Z
UID:10000831-1694536200-1694539800@www.med.unc.edu
SUMMARY:CGIBD Research Seminar: "Harnessing the healing power of macrophages: a journey aided by epigenomic and highdimensional biology approaches" with Laszlo Nagy\, MD\, PhD
DESCRIPTION:CGIBD Research Seminar: “Harnessing the healing power of macrophages: a journey aided by epigenomic and highdimensional biology approaches” with Laszlo Nagy\, MD\, PhD
URL:https://www.med.unc.edu/cgibd/event/cgibd-research-seminar-title-tbd-with-laszlo-nagy-md-phd/
LOCATION:ZOOM
ATTACH;FMTTYPE=image/jpeg:https://www.med.unc.edu/cgibd/wp-content/uploads/sites/466/2023/07/Laszlo-Nagy_Flyer.jpg
END:VEVENT
BEGIN:VEVENT
DTSTART;TZID=America/New_York:20230913T160000
DTEND;TZID=America/New_York:20230913T170000
DTSTAMP:20260420T142355
CREATED:20230707T183036Z
LAST-MODIFIED:20230707T183036Z
UID:10000817-1694620800-1694624400@www.med.unc.edu
SUMMARY:GI Epi Conference: "Introduction to Division Research" with Robert S. Sandler\, MD\, MPH
DESCRIPTION:GI Epi Conference: “Introduction to Division Research” with Robert S. Sandler\, MD\, MPH
URL:https://www.med.unc.edu/cgibd/event/gi-epi-conference-introduction-to-division-research-with-robert-s-sandler-md-mph/
LOCATION:ZOOM
END:VEVENT
BEGIN:VEVENT
DTSTART;TZID=America/New_York:20230919T163000
DTEND;TZID=America/New_York:20230919T173000
DTSTAMP:20260420T142355
CREATED:20230726T145004Z
LAST-MODIFIED:20230913T201421Z
UID:10000829-1695141000-1695144600@www.med.unc.edu
SUMMARY:CGIBD Research Seminar: "The intestinal microbiota and adiposity: influence of gut microbes on low and high BMIs" with Ian Carroll\, PhD
DESCRIPTION:CGIBD Research Seminar: “The intestinal microbiota and adiposity: influence of gut microbes on low and high BMIs” with Ian Carroll\, PhD
URL:https://www.med.unc.edu/cgibd/event/cgibd-research-seminar-title-tbd-with-ian-carroll-phd/
LOCATION:ZOOM
ATTACH;FMTTYPE=image/jpeg:https://www.med.unc.edu/cgibd/wp-content/uploads/sites/466/2023/07/Ian-Carroll_Flyer.jpg
END:VEVENT
BEGIN:VEVENT
DTSTART;TZID=America/New_York:20230920T160000
DTEND;TZID=America/New_York:20230920T170000
DTSTAMP:20260420T142355
CREATED:20230707T183129Z
LAST-MODIFIED:20230707T183129Z
UID:10000818-1695225600-1695229200@www.med.unc.edu
SUMMARY:GI Epi Conference: "Introduction to Division Research" with Cary Cotton\, MD\, MPH
DESCRIPTION:GI Epi Conference: “Introduction to Division Research” with Cary Cotton\, MD\, MPH
URL:https://www.med.unc.edu/cgibd/event/gi-epi-conference-introduction-to-division-research-with-cary-cotton-md-mph/
LOCATION:ZOOM
END:VEVENT
BEGIN:VEVENT
DTSTART;TZID=America/New_York:20230926T163000
DTEND;TZID=America/New_York:20230926T173000
DTSTAMP:20260420T142355
CREATED:20230707T160323Z
LAST-MODIFIED:20230913T202420Z
UID:10000801-1695745800-1695749400@www.med.unc.edu
SUMMARY:CGIBD Research Seminar: "Hepatocellular host factors and hepatitis A virus infection" with Stanley Lemon\, MD
DESCRIPTION:CGIBD Research Seminar: “Hepatocellular host factors and hepatitis A virus infection” with Stanley Lemon\, MD
URL:https://www.med.unc.edu/cgibd/event/cgibd-research-seminar-title-tbd-with-stanley-lemon-md/
LOCATION:ZOOM
ATTACH;FMTTYPE=image/jpeg:https://www.med.unc.edu/cgibd/wp-content/uploads/sites/466/2023/07/Stanley-Lemon_Flyer.jpg
END:VEVENT
BEGIN:VEVENT
DTSTART;TZID=America/New_York:20230927T160000
DTEND;TZID=America/New_York:20230927T170000
DTSTAMP:20260420T142355
CREATED:20230913T220851Z
LAST-MODIFIED:20230913T220851Z
UID:10000836-1695830400-1695834000@www.med.unc.edu
SUMMARY:GI Epi Conference: "Works in Progress: Effects of human milk oligosaccharides on Campylobacter infections in Nicaraguan Children" with Rebecca Rubinstein\, MPH
DESCRIPTION:GI Epi Conference: “Works in Progress: Effects of human milk oligosaccharides on Campylobacter infections in Nicaraguan Children” with Rebecca Rubinstein\, MPH
URL:https://www.med.unc.edu/cgibd/event/gi-epi-conference-works-in-progress-effects-of-human-milk-oligosaccharides-on-campylobacter-infections-in-nicaraguan-children-with-rebecca-rubinstein-mph/
LOCATION:ZOOM
ATTACH;FMTTYPE=image/jpeg:https://www.med.unc.edu/cgibd/wp-content/uploads/sites/466/2023/09/092723_Rubinstein.jpg
END:VEVENT
END:VCALENDAR