BEGIN:VCALENDAR
VERSION:2.0
PRODID:-//Center for Gastrointestinal Biology and Disease - ECPv6.15.18//NONSGML v1.0//EN
CALSCALE:GREGORIAN
METHOD:PUBLISH
X-ORIGINAL-URL:https://www.med.unc.edu/cgibd
X-WR-CALDESC:Events for Center for Gastrointestinal Biology and Disease
REFRESH-INTERVAL;VALUE=DURATION:PT1H
X-Robots-Tag:noindex
X-PUBLISHED-TTL:PT1H
BEGIN:VTIMEZONE
TZID:America/New_York
BEGIN:DAYLIGHT
TZOFFSETFROM:-0500
TZOFFSETTO:-0400
TZNAME:EDT
DTSTART:20230312T070000
END:DAYLIGHT
BEGIN:STANDARD
TZOFFSETFROM:-0400
TZOFFSETTO:-0500
TZNAME:EST
DTSTART:20231105T060000
END:STANDARD
BEGIN:DAYLIGHT
TZOFFSETFROM:-0500
TZOFFSETTO:-0400
TZNAME:EDT
DTSTART:20240310T070000
END:DAYLIGHT
BEGIN:STANDARD
TZOFFSETFROM:-0400
TZOFFSETTO:-0500
TZNAME:EST
DTSTART:20241103T060000
END:STANDARD
BEGIN:DAYLIGHT
TZOFFSETFROM:-0500
TZOFFSETTO:-0400
TZNAME:EDT
DTSTART:20250309T070000
END:DAYLIGHT
BEGIN:STANDARD
TZOFFSETFROM:-0400
TZOFFSETTO:-0500
TZNAME:EST
DTSTART:20251102T060000
END:STANDARD
END:VTIMEZONE
BEGIN:VEVENT
DTSTART;TZID=America/New_York:20240807T160000
DTEND;TZID=America/New_York:20240807T170000
DTSTAMP:20260420T135744
CREATED:20240708T215918Z
LAST-MODIFIED:20240731T163746Z
UID:10000879-1723046400-1723050000@www.med.unc.edu
SUMMARY:GI Epi Conference: "Introduction to Division Research" with Andrew Moon\, MD\, MPH and Donna Evon\, PhD
DESCRIPTION:GI Epi Conference: “Introduction to Division Research” with Andrew Moon\, MD\, MPH and Donna Evon\, PhD
URL:https://www.med.unc.edu/cgibd/event/gi-epi-conference-introduction-to-division-research-with-andrew-moon-md-mph-and-donna-evon-phd/
LOCATION:ZOOM
ATTACH;FMTTYPE=image/jpeg:https://www.med.unc.edu/cgibd/wp-content/uploads/sites/466/2024/07/080724_Moon-Evon.jpg
END:VEVENT
BEGIN:VEVENT
DTSTART;TZID=America/New_York:20240813T163000
DTEND;TZID=America/New_York:20240813T173000
DTSTAMP:20260420T135744
CREATED:20240807T194543Z
LAST-MODIFIED:20240807T194543Z
UID:10000882-1723566600-1723570200@www.med.unc.edu
SUMMARY:CGIBD Research Seminar: "Investigating transcriptional control of cell cycle and mitochondria in human intestinal stem cells" with Joseph Burclaff\, PhD
DESCRIPTION:CGIBD Research Seminar: “Investigating transcriptional control of cell cycle and mitochondria in human intestinal stem cells” with Joseph Burclaff\, PhD
URL:https://www.med.unc.edu/cgibd/event/cgibd-research-seminar-investigating-transcriptional-control-of-cell-cycle-and-mitochondria-in-human-intestinal-stem-cells-with-joseph-burclaff-phd/
LOCATION:ZOOM
ATTACH;FMTTYPE=image/jpeg:https://www.med.unc.edu/cgibd/wp-content/uploads/sites/466/2024/08/Joseph-Burclaff_Flyer.jpg
END:VEVENT
BEGIN:VEVENT
DTSTART;TZID=America/New_York:20240814T160000
DTEND;TZID=America/New_York:20240814T170000
DTSTAMP:20260420T135744
CREATED:20240708T220021Z
LAST-MODIFIED:20240807T200004Z
UID:10000880-1723651200-1723654800@www.med.unc.edu
SUMMARY:GI Epi Conference: "Introduction to Division Research" with Erica Brenner\, MD\, MSCR and Matthew Egberg\, MD\, MPH\, MMSc
DESCRIPTION:GI Epi Conference: “Introduction to Division Research” with Erica Brenner\, MD\, MSCR and Matthew Egberg\, MD\, MPH\, MMSc
URL:https://www.med.unc.edu/cgibd/event/gi-epi-conference-introduction-to-division-research-with-erica-brenner-md-mscr-and-matthew-egberg-md-mph-mmsc/
LOCATION:ZOOM
ATTACH;FMTTYPE=image/jpeg:https://www.med.unc.edu/cgibd/wp-content/uploads/sites/466/2024/07/081424_Brenner-Egberg.jpg
END:VEVENT
BEGIN:VEVENT
DTSTART;TZID=America/New_York:20240820T163000
DTEND;TZID=America/New_York:20240820T173000
DTSTAMP:20260420T135744
CREATED:20240812T214821Z
LAST-MODIFIED:20240814T172032Z
UID:10000883-1724171400-1724175000@www.med.unc.edu
SUMMARY:CGIBD Research Seminar: "Stress response controls innate immunity in inflammatory bowel disease" with Siyan Cao\, MD\, PhD
DESCRIPTION:CGIBD Research Seminar: “Stress response controls innate immunity in inflammatory bowel disease” with Siyan Cao\, MD\, PhD
URL:https://www.med.unc.edu/cgibd/event/cgibd-research-seminar-tbd-with-siyan-cao-md-phd/
LOCATION:ZOOM
ATTACH;FMTTYPE=image/jpeg:https://www.med.unc.edu/cgibd/wp-content/uploads/sites/466/2024/08/Siyan-Cao_Flyer.jpg
END:VEVENT
BEGIN:VEVENT
DTSTART;TZID=America/New_York:20240821T160000
DTEND;TZID=America/New_York:20240821T170000
DTSTAMP:20260420T135744
CREATED:20240708T220220Z
LAST-MODIFIED:20240814T173524Z
UID:10000881-1724256000-1724259600@www.med.unc.edu
SUMMARY:GI Epi Conference: "Introduction to Division Research" with Sasha Deutsch-Link\, MD and Cary Cotton\, MD\, MPH
DESCRIPTION:GI Epi Conference: “Introduction to Division Research” with Sasha Deutsch-Link\, MD and Cary Cotton\, MD\, MPH
URL:https://www.med.unc.edu/cgibd/event/gi-epi-conference-introduction-to-division-research-with-sasha-deutsch-link-md-and-cary-cotton-md-mph/
LOCATION:ZOOM
ATTACH;FMTTYPE=image/jpeg:https://www.med.unc.edu/cgibd/wp-content/uploads/sites/466/2024/07/082124_Deutsch-Link-Cotton.jpg
END:VEVENT
BEGIN:VEVENT
DTSTART;TZID=America/New_York:20240828T160000
DTEND;TZID=America/New_York:20240828T170000
DTSTAMP:20260420T135744
CREATED:20240821T172959Z
LAST-MODIFIED:20240821T172959Z
UID:10000886-1724860800-1724864400@www.med.unc.edu
SUMMARY:GI EPI Conference: "Introduction To Division Research" With Millie Long MD\, MPH and Michael Kappelman\, MD\, MPH
DESCRIPTION:GI EPI Conference: “Introduction To Division Research” With Millie Long MD\, MPH and Michael Kappelman\, MD\, MPH
URL:https://www.med.unc.edu/cgibd/event/gi-epi-conference-introduction-to-division-research-with-millie-long-md-mph-and-michael-kappelman-md-mph/
LOCATION:ZOOM
ATTACH;FMTTYPE=image/jpeg:https://www.med.unc.edu/cgibd/wp-content/uploads/sites/466/2024/08/082824_LongKappelman.jpg
END:VEVENT
END:VCALENDAR