BEGIN:VCALENDAR
VERSION:2.0
PRODID:-//Center for Gastrointestinal Biology and Disease - ECPv6.15.18//NONSGML v1.0//EN
CALSCALE:GREGORIAN
METHOD:PUBLISH
X-ORIGINAL-URL:https://www.med.unc.edu/cgibd
X-WR-CALDESC:Events for Center for Gastrointestinal Biology and Disease
REFRESH-INTERVAL;VALUE=DURATION:PT1H
X-Robots-Tag:noindex
X-PUBLISHED-TTL:PT1H
BEGIN:VTIMEZONE
TZID:America/New_York
BEGIN:DAYLIGHT
TZOFFSETFROM:-0500
TZOFFSETTO:-0400
TZNAME:EDT
DTSTART:20230312T070000
END:DAYLIGHT
BEGIN:STANDARD
TZOFFSETFROM:-0400
TZOFFSETTO:-0500
TZNAME:EST
DTSTART:20231105T060000
END:STANDARD
BEGIN:DAYLIGHT
TZOFFSETFROM:-0500
TZOFFSETTO:-0400
TZNAME:EDT
DTSTART:20240310T070000
END:DAYLIGHT
BEGIN:STANDARD
TZOFFSETFROM:-0400
TZOFFSETTO:-0500
TZNAME:EST
DTSTART:20241103T060000
END:STANDARD
BEGIN:DAYLIGHT
TZOFFSETFROM:-0500
TZOFFSETTO:-0400
TZNAME:EDT
DTSTART:20250309T070000
END:DAYLIGHT
BEGIN:STANDARD
TZOFFSETFROM:-0400
TZOFFSETTO:-0500
TZNAME:EST
DTSTART:20251102T060000
END:STANDARD
END:VTIMEZONE
BEGIN:VEVENT
DTSTART;TZID=America/New_York:20241106T160000
DTEND;TZID=America/New_York:20241106T170000
DTSTAMP:20260419T104014
CREATED:20241017T160429Z
LAST-MODIFIED:20241030T191146Z
UID:10000906-1730908800-1730912400@www.med.unc.edu
SUMMARY:“Works in Progress: Emergency presentation diagnosis of hepatocellular carcinoma in SEER-Medicare beneficiaries: Disparities and Undertreatment” with Ellen Green\, MD\, PhD
DESCRIPTION:
URL:https://www.med.unc.edu/cgibd/event/multicancer-early-detection-testing-with-david-ransohoff-md/
LOCATION:ZOOM
ATTACH;FMTTYPE=image/jpeg:https://www.med.unc.edu/cgibd/wp-content/uploads/sites/466/2024/10/11062024_Green.jpg
END:VEVENT
BEGIN:VEVENT
DTSTART;TZID=America/New_York:20241112T163000
DTEND;TZID=America/New_York:20241112T173000
DTSTAMP:20260419T104014
CREATED:20240904T124647Z
LAST-MODIFIED:20241108T130435Z
UID:10000895-1731429000-1731432600@www.med.unc.edu
SUMMARY:"Novel Approaches for Necrotizing Enterocolitis: From Stem Cell Therapy to Photoacoustic Imaging" with Victoris Gail Weis\, PhD
DESCRIPTION:
URL:https://www.med.unc.edu/cgibd/event/tbd-with-victoris-gail-weis-phd/
LOCATION:ZOOM
ATTACH;FMTTYPE=image/jpeg:https://www.med.unc.edu/cgibd/wp-content/uploads/sites/466/2024/09/Weis_Flyer.jpg
END:VEVENT
BEGIN:VEVENT
DTSTART;TZID=America/New_York:20241113T160000
DTEND;TZID=America/New_York:20241113T170000
DTSTAMP:20260419T104014
CREATED:20241017T160654Z
LAST-MODIFIED:20241107T133506Z
UID:10000907-1731513600-1731517200@www.med.unc.edu
SUMMARY:“Early life exposures and risk of gastrointestinal cancers” with Caitlin Murphy\, PhD\, MPH
DESCRIPTION:
URL:https://www.med.unc.edu/cgibd/event/pfas-and-risk-of-colorectal-cancer-with-caitlin-murphy-phd-mph/
LOCATION:ZOOM
ATTACH;FMTTYPE=image/jpeg:https://www.med.unc.edu/cgibd/wp-content/uploads/sites/466/2024/10/11132024_Murphy.jpg
END:VEVENT
BEGIN:VEVENT
DTSTART;TZID=America/New_York:20241119T163000
DTEND;TZID=America/New_York:20241119T173000
DTSTAMP:20260419T104014
CREATED:20240904T124743Z
LAST-MODIFIED:20241108T132200Z
UID:10000896-1732033800-1732037400@www.med.unc.edu
SUMMARY:"Molecular Programming of T Cell Activity in Infection and Cancer" with Justin Milner\, PhD
DESCRIPTION:
URL:https://www.med.unc.edu/cgibd/event/tbd-with-justin-milner-phd/
LOCATION:ZOOM
ATTACH;FMTTYPE=image/jpeg:https://www.med.unc.edu/cgibd/wp-content/uploads/sites/466/2024/09/Milner_Flyer.jpg
END:VEVENT
BEGIN:VEVENT
DTSTART;TZID=America/New_York:20241120T160000
DTEND;TZID=America/New_York:20241120T170000
DTSTAMP:20260419T104014
CREATED:20241017T160848Z
LAST-MODIFIED:20241017T160848Z
UID:10000908-1732118400-1732122000@www.med.unc.edu
SUMMARY:“Environmental pollutants and inflammatory bowel disease” with Manasi Agrawal\, MD
DESCRIPTION:
URL:https://www.med.unc.edu/cgibd/event/environmental-pollutants-and-inflammatory-bowel-disease-with-manasi-agrawal-md/
LOCATION:ZOOM
ATTACH;FMTTYPE=image/jpeg:https://www.med.unc.edu/cgibd/wp-content/uploads/sites/466/2024/10/10092024_Agrawal.jpg
END:VEVENT
BEGIN:VEVENT
DTSTART;TZID=America/New_York:20241126T163000
DTEND;TZID=America/New_York:20241126T173000
DTSTAMP:20260419T104014
CREATED:20240904T124829Z
LAST-MODIFIED:20241122T130229Z
UID:10000897-1732638600-1732642200@www.med.unc.edu
SUMMARY:"Investigating DNA as a Biomarker of Dietary Intake in Inflammatory Bowel Disease" with Dorothy Superdock\, PhD
DESCRIPTION:
URL:https://www.med.unc.edu/cgibd/event/tbd-with-dorothy-superdock-phd/
LOCATION:ZOOM
ATTACH;FMTTYPE=image/jpeg:https://www.med.unc.edu/cgibd/wp-content/uploads/sites/466/2024/09/Superdock_Flyer-1.jpg
END:VEVENT
END:VCALENDAR