BEGIN:VCALENDAR
VERSION:2.0
PRODID:-//Center for Gastrointestinal Biology and Disease - ECPv6.15.18//NONSGML v1.0//EN
CALSCALE:GREGORIAN
METHOD:PUBLISH
X-ORIGINAL-URL:https://www.med.unc.edu/cgibd
X-WR-CALDESC:Events for Center for Gastrointestinal Biology and Disease
REFRESH-INTERVAL;VALUE=DURATION:PT1H
X-Robots-Tag:noindex
X-PUBLISHED-TTL:PT1H
BEGIN:VTIMEZONE
TZID:America/New_York
BEGIN:DAYLIGHT
TZOFFSETFROM:-0500
TZOFFSETTO:-0400
TZNAME:EDT
DTSTART:20170312T070000
END:DAYLIGHT
BEGIN:STANDARD
TZOFFSETFROM:-0400
TZOFFSETTO:-0500
TZNAME:EST
DTSTART:20171105T060000
END:STANDARD
BEGIN:DAYLIGHT
TZOFFSETFROM:-0500
TZOFFSETTO:-0400
TZNAME:EDT
DTSTART:20180311T070000
END:DAYLIGHT
BEGIN:STANDARD
TZOFFSETFROM:-0400
TZOFFSETTO:-0500
TZNAME:EST
DTSTART:20181104T060000
END:STANDARD
BEGIN:DAYLIGHT
TZOFFSETFROM:-0500
TZOFFSETTO:-0400
TZNAME:EDT
DTSTART:20190310T070000
END:DAYLIGHT
BEGIN:STANDARD
TZOFFSETFROM:-0400
TZOFFSETTO:-0500
TZNAME:EST
DTSTART:20191103T060000
END:STANDARD
END:VTIMEZONE
BEGIN:VEVENT
DTSTART;TZID=America/New_York:20181114T160000
DTEND;TZID=America/New_York:20181114T170000
DTSTAMP:20260419T111729
CREATED:20190312T152114Z
LAST-MODIFIED:20190312T152114Z
UID:10000500-1542211200-1542214800@www.med.unc.edu
SUMMARY:CGIBD Epi Conference - Two presentations
DESCRIPTION:Work in Progress: “Screening for squamous cell carcinoma of the aerodigestive tract” \nCary Cotton\, MD\, MPH\nClinical Research Fellow\nDepartment of Medicine—Division of Gastroenterology \nAnd  \n“Strategizing DDW Submissions: An informal open discussion of topics to be submitted” \nSarah Lieber\, MD\nClinical Research Fellow\nDepartment of Medicine—Division of Gastroenterology \n                                                                                        \n  \n  \n  \n  \n  \n  \n  \n  \n 
URL:https://www.med.unc.edu/cgibd/event/cgibd-epi-conference-two-presentations/
LOCATION:Bioinformatics 4137\, 130 Mason Farm Road\, Chapel Hill\, NC\, 27599\, United States
GEO:35.9020648;-79.053397
X-APPLE-STRUCTURED-LOCATION;VALUE=URI;X-ADDRESS=Bioinformatics 4137 130 Mason Farm Road Chapel Hill NC 27599 United States;X-APPLE-RADIUS=500;X-TITLE=130 Mason Farm Road:geo:-79.053397,35.9020648
END:VEVENT
BEGIN:VEVENT
DTSTART;TZID=America/New_York:20181115T163000
DTEND;TZID=America/New_York:20181115T173000
DTSTAMP:20260419T111729
CREATED:20190313T151850Z
LAST-MODIFIED:20190313T151850Z
UID:10000528-1542299400-1542303000@www.med.unc.edu
SUMMARY:CGIBD Research Seminar - Cancelled today\, please join us on November 29th
DESCRIPTION:
URL:https://www.med.unc.edu/cgibd/event/cgibd-research-seminar-cancelled-today-please-join-us-on-november-29th/
END:VEVENT
END:VCALENDAR