BEGIN:VCALENDAR
VERSION:2.0
PRODID:-//Center for Gastrointestinal Biology and Disease - ECPv6.15.18//NONSGML v1.0//EN
CALSCALE:GREGORIAN
METHOD:PUBLISH
X-ORIGINAL-URL:https://www.med.unc.edu/cgibd
X-WR-CALDESC:Events for Center for Gastrointestinal Biology and Disease
REFRESH-INTERVAL;VALUE=DURATION:PT1H
X-Robots-Tag:noindex
X-PUBLISHED-TTL:PT1H
BEGIN:VTIMEZONE
TZID:America/New_York
BEGIN:DAYLIGHT
TZOFFSETFROM:-0500
TZOFFSETTO:-0400
TZNAME:EDT
DTSTART:20180311T070000
END:DAYLIGHT
BEGIN:STANDARD
TZOFFSETFROM:-0400
TZOFFSETTO:-0500
TZNAME:EST
DTSTART:20181104T060000
END:STANDARD
BEGIN:DAYLIGHT
TZOFFSETFROM:-0500
TZOFFSETTO:-0400
TZNAME:EDT
DTSTART:20190310T070000
END:DAYLIGHT
BEGIN:STANDARD
TZOFFSETFROM:-0400
TZOFFSETTO:-0500
TZNAME:EST
DTSTART:20191103T060000
END:STANDARD
BEGIN:DAYLIGHT
TZOFFSETFROM:-0500
TZOFFSETTO:-0400
TZNAME:EDT
DTSTART:20200308T070000
END:DAYLIGHT
BEGIN:STANDARD
TZOFFSETFROM:-0400
TZOFFSETTO:-0500
TZNAME:EST
DTSTART:20201101T060000
END:STANDARD
END:VTIMEZONE
BEGIN:VEVENT
DTSTART;TZID=America/New_York:20190116T160000
DTEND;TZID=America/New_York:20190116T170000
DTSTAMP:20260419T193311
CREATED:20190312T160003Z
LAST-MODIFIED:20190312T160003Z
UID:10000505-1547654400-1547658000@www.med.unc.edu
SUMMARY:CGIBD Epi Conference - “Is it important to improve the Quality of Clinical Practice Guidelines?" by David Ransohoff\, MD
DESCRIPTION:“Is it important to improve the Quality of Clinical Practice Guidelines?  Evolution of—and lessons from CRC screening guidelines”  \nDavid Ransohoff\, MD\nProfessor of Medicine\nDepartment of Medicine\, GI Division\nThe University of North Carolina at Chapel Hill \n 
URL:https://www.med.unc.edu/cgibd/event/cgibd-epi-conference-is-it-important-to-improve-the-quality-of-clinical-practice-guidelines-by-david-ransohoff-md/
LOCATION:Bioinformatics 4137\, 130 Mason Farm Road\, Chapel Hill\, NC\, 27599\, United States
GEO:35.9020648;-79.053397
X-APPLE-STRUCTURED-LOCATION;VALUE=URI;X-ADDRESS=Bioinformatics 4137 130 Mason Farm Road Chapel Hill NC 27599 United States;X-APPLE-RADIUS=500;X-TITLE=130 Mason Farm Road:geo:-79.053397,35.9020648
END:VEVENT
BEGIN:VEVENT
DTSTART;TZID=America/New_York:20190117T163000
DTEND;TZID=America/New_York:20190117T173000
DTSTAMP:20260419T193311
CREATED:20190313T155204Z
LAST-MODIFIED:20190313T155204Z
UID:10000537-1547742600-1547746200@www.med.unc.edu
SUMMARY:CGIBD Research Seminar - “The Gut Microbiome Regulates Mucosal and Systemic Inflammation in IBD ” by Randy Longman\, MD\, PhD
DESCRIPTION:“The Gut Microbiome Regulates Mucosal and Systemic Inflammation in IBD ”  \nRandy Longman\, MD PhD\nAssistant Professor\nDepartment of Medicine\nDivision of Gastroenterology and Hepatology\nWeill Cornell Medical Center \nDr. Randy Longman is an Assistant Professor of Medicine at Weill Cornell Medicine and a member of the Jill Roberts Center and Institute for Research in Inflammatory Bowel Disease (IBD). His research focuses on defining the cellular and molecular mechanisms underlying host-microbiota interactions that drive the pathogenesis of mucosal and systemic inflammation in IBD. \n  \nConference Streamed Live: https://cgibd.my.webex.com\nMeeting #: 624 562 559\nAudio connection: 1-510-338-9438\nMeeting Password: 5bDkYW7Y \n  \n  \n 
URL:https://www.med.unc.edu/cgibd/event/cgibd-research-seminar-the-gut-microbiome-regulates-mucosal-and-systemic-inflammation-in-ibd-by-randy-longman-md-phd/
LOCATION:Marsico Hall 2004
GEO:35.9025392;-79.0540141
END:VEVENT
END:VCALENDAR