BEGIN:VCALENDAR
VERSION:2.0
PRODID:-//Center for Gastrointestinal Biology and Disease - ECPv6.15.18//NONSGML v1.0//EN
CALSCALE:GREGORIAN
METHOD:PUBLISH
X-ORIGINAL-URL:https://www.med.unc.edu/cgibd
X-WR-CALDESC:Events for Center for Gastrointestinal Biology and Disease
REFRESH-INTERVAL;VALUE=DURATION:PT1H
X-Robots-Tag:noindex
X-PUBLISHED-TTL:PT1H
BEGIN:VTIMEZONE
TZID:America/New_York
BEGIN:DAYLIGHT
TZOFFSETFROM:-0500
TZOFFSETTO:-0400
TZNAME:EDT
DTSTART:20180311T070000
END:DAYLIGHT
BEGIN:STANDARD
TZOFFSETFROM:-0400
TZOFFSETTO:-0500
TZNAME:EST
DTSTART:20181104T060000
END:STANDARD
BEGIN:DAYLIGHT
TZOFFSETFROM:-0500
TZOFFSETTO:-0400
TZNAME:EDT
DTSTART:20190310T070000
END:DAYLIGHT
BEGIN:STANDARD
TZOFFSETFROM:-0400
TZOFFSETTO:-0500
TZNAME:EST
DTSTART:20191103T060000
END:STANDARD
BEGIN:DAYLIGHT
TZOFFSETFROM:-0500
TZOFFSETTO:-0400
TZNAME:EDT
DTSTART:20200308T070000
END:DAYLIGHT
BEGIN:STANDARD
TZOFFSETFROM:-0400
TZOFFSETTO:-0500
TZNAME:EST
DTSTART:20201101T060000
END:STANDARD
END:VTIMEZONE
BEGIN:VEVENT
DTSTART;TZID=America/New_York:20190828T160000
DTEND;TZID=America/New_York:20190828T170000
DTSTAMP:20260420T030846
CREATED:20190520T194443Z
LAST-MODIFIED:20190812T124946Z
UID:10000587-1567008000-1567011600@www.med.unc.edu
SUMMARY:CGIBD GI Epi Conference - "Introductions & Research Opportunities" by Seth Crockett\, M.D. MPH and Swathi Eluri\, M.D.\, MSCR
DESCRIPTION:“Introductions & Research Opportunities” \nSeth Crockett\, M.D.\, MPH \nAssociate Professor\, Department of Medicine – GI \nAnd \nSwathi Eluri\, M.D. MSCR \nAssistand Professor\, Department of Medicine – GI
URL:https://www.med.unc.edu/cgibd/event/epi-conference/
LOCATION:Bioinformatics 4137\, 130 Mason Farm Road\, Chapel Hill\, NC\, 27599\, United States
GEO:35.9020648;-79.053397
X-APPLE-STRUCTURED-LOCATION;VALUE=URI;X-ADDRESS=Bioinformatics 4137 130 Mason Farm Road Chapel Hill NC 27599 United States;X-APPLE-RADIUS=500;X-TITLE=130 Mason Farm Road:geo:-79.053397,35.9020648
END:VEVENT
BEGIN:VEVENT
DTSTART;TZID=America/New_York:20190829T163000
DTEND;TZID=America/New_York:20190829T173000
DTSTAMP:20260420T030846
CREATED:20190517T153136Z
LAST-MODIFIED:20190822T211334Z
UID:10000565-1567096200-1567099800@www.med.unc.edu
SUMMARY:CGIBD Research Seminar - "Transcriptional responses to microbiota: Investigating the role of the Hnf4 transcription factor family" by Jennifer Heppert\, PhD
DESCRIPTION:“Transcriptional responses to microbiota: Investigating the role of the Hnf4 transcription factor family”  \nJennifer Heppert\, PhD\nPostdoctoral Fellow\nDepartment of Genetics and Microbiology\nDuke University School of Medicine \n  \nConference Streamed Live: https://cgibd.my.webex.com \nMeeting #: 628 698 359\nAudio connection: 1-510-338-9438\nMeeting Password: kfEmX6pB
URL:https://www.med.unc.edu/cgibd/event/08-29-2019/
END:VEVENT
END:VCALENDAR