BEGIN:VCALENDAR
VERSION:2.0
PRODID:-//Center for Gastrointestinal Biology and Disease - ECPv6.15.18//NONSGML v1.0//EN
CALSCALE:GREGORIAN
METHOD:PUBLISH
X-ORIGINAL-URL:https://www.med.unc.edu/cgibd
X-WR-CALDESC:Events for Center for Gastrointestinal Biology and Disease
REFRESH-INTERVAL;VALUE=DURATION:PT1H
X-Robots-Tag:noindex
X-PUBLISHED-TTL:PT1H
BEGIN:VTIMEZONE
TZID:America/New_York
BEGIN:DAYLIGHT
TZOFFSETFROM:-0500
TZOFFSETTO:-0400
TZNAME:EDT
DTSTART:20180311T070000
END:DAYLIGHT
BEGIN:STANDARD
TZOFFSETFROM:-0400
TZOFFSETTO:-0500
TZNAME:EST
DTSTART:20181104T060000
END:STANDARD
BEGIN:DAYLIGHT
TZOFFSETFROM:-0500
TZOFFSETTO:-0400
TZNAME:EDT
DTSTART:20190310T070000
END:DAYLIGHT
BEGIN:STANDARD
TZOFFSETFROM:-0400
TZOFFSETTO:-0500
TZNAME:EST
DTSTART:20191103T060000
END:STANDARD
BEGIN:DAYLIGHT
TZOFFSETFROM:-0500
TZOFFSETTO:-0400
TZNAME:EDT
DTSTART:20200308T070000
END:DAYLIGHT
BEGIN:STANDARD
TZOFFSETFROM:-0400
TZOFFSETTO:-0500
TZNAME:EST
DTSTART:20201101T060000
END:STANDARD
END:VTIMEZONE
BEGIN:VEVENT
DTSTART;VALUE=DATE:20191014
DTEND;VALUE=DATE:20191015
DTSTAMP:20260423T223559
CREATED:20190517T153654Z
LAST-MODIFIED:20190927T194311Z
UID:10000476-1571011200-1571097599@www.med.unc.edu
SUMMARY:CGIBD Scientific Symposium honoring Susan J. Henning\, PhD
DESCRIPTION:
URL:https://www.med.unc.edu/cgibd/event/research-day-2019/
END:VEVENT
BEGIN:VEVENT
DTSTART;VALUE=DATE:20191015
DTEND;VALUE=DATE:20191016
DTSTAMP:20260423T223559
CREATED:20190517T153729Z
LAST-MODIFIED:20190927T194617Z
UID:10000478-1571097600-1571183999@www.med.unc.edu
SUMMARY:CGIBD Research Day 2019
DESCRIPTION:
URL:https://www.med.unc.edu/cgibd/event/research-day-2019-2/
END:VEVENT
BEGIN:VEVENT
DTSTART;TZID=America/New_York:20191016T160000
DTEND;TZID=America/New_York:20191016T170000
DTSTAMP:20260423T223559
CREATED:20190927T185313Z
LAST-MODIFIED:20190927T194650Z
UID:10000606-1571241600-1571245200@www.med.unc.edu
SUMMARY:CGIBD GI Epi Conference - "Technology to Identify Missed Surface Area During Colonoscopy" by Julian G. Rosenman\, MD\, MPH
DESCRIPTION:Technology to Identify Missed Surface Area During Colonoscopy” \nJulian G. Rosenman\, MD\, MPH\nProfessor\nDepartment of Radiation Oncology\nDepartment of Computer Science
URL:https://www.med.unc.edu/cgibd/event/technology-to-identify-missed-surface-area-during-colonoscopy-by-julian-g-rosenman-md-mph/
LOCATION:Bioinformatics 4137\, 130 Mason Farm Road\, Chapel Hill\, NC\, 27599\, United States
GEO:35.9020648;-79.053397
X-APPLE-STRUCTURED-LOCATION;VALUE=URI;X-ADDRESS=Bioinformatics 4137 130 Mason Farm Road Chapel Hill NC 27599 United States;X-APPLE-RADIUS=500;X-TITLE=130 Mason Farm Road:geo:-79.053397,35.9020648
END:VEVENT
BEGIN:VEVENT
DTSTART;TZID=America/New_York:20191017T163000
DTEND;TZID=America/New_York:20191017T163000
DTSTAMP:20260423T223559
CREATED:20190520T150743Z
LAST-MODIFIED:20190520T150743Z
UID:10000582-1571329800-1571329800@www.med.unc.edu
SUMMARY:CGIBD Research Seminar - no seminar today
DESCRIPTION:
URL:https://www.med.unc.edu/cgibd/event/cgibd-research-seminar-no-seminar-today/
END:VEVENT
END:VCALENDAR