BEGIN:VCALENDAR
VERSION:2.0
PRODID:-//Center for Gastrointestinal Biology and Disease - ECPv6.15.18//NONSGML v1.0//EN
CALSCALE:GREGORIAN
METHOD:PUBLISH
X-ORIGINAL-URL:https://www.med.unc.edu/cgibd
X-WR-CALDESC:Events for Center for Gastrointestinal Biology and Disease
REFRESH-INTERVAL;VALUE=DURATION:PT1H
X-Robots-Tag:noindex
X-PUBLISHED-TTL:PT1H
BEGIN:VTIMEZONE
TZID:America/New_York
BEGIN:DAYLIGHT
TZOFFSETFROM:-0500
TZOFFSETTO:-0400
TZNAME:EDT
DTSTART:20200308T070000
END:DAYLIGHT
BEGIN:STANDARD
TZOFFSETFROM:-0400
TZOFFSETTO:-0500
TZNAME:EST
DTSTART:20201101T060000
END:STANDARD
BEGIN:DAYLIGHT
TZOFFSETFROM:-0500
TZOFFSETTO:-0400
TZNAME:EDT
DTSTART:20210314T070000
END:DAYLIGHT
BEGIN:STANDARD
TZOFFSETFROM:-0400
TZOFFSETTO:-0500
TZNAME:EST
DTSTART:20211107T060000
END:STANDARD
BEGIN:DAYLIGHT
TZOFFSETFROM:-0500
TZOFFSETTO:-0400
TZNAME:EDT
DTSTART:20220313T070000
END:DAYLIGHT
BEGIN:STANDARD
TZOFFSETFROM:-0400
TZOFFSETTO:-0500
TZNAME:EST
DTSTART:20221106T060000
END:STANDARD
END:VTIMEZONE
BEGIN:VEVENT
DTSTART;TZID=America/New_York:20210224T160000
DTEND;TZID=America/New_York:20210224T170000
DTSTAMP:20260422T055629
CREATED:20210219T130559Z
LAST-MODIFIED:20210219T130559Z
UID:10000684-1614182400-1614186000@www.med.unc.edu
SUMMARY:GI Epi Conference: "Risk Factors for early-onset colorectal cancer (hint: it's not bacon)" with Caitlin C. Murphy\, PhD\, MPH
DESCRIPTION:GI Epi Conference: “Risk Factors for early-onset colorectal cancer (hint: it’s not bacon)” with Caitlin C. Murphy\, PhD\, MPH
URL:https://www.med.unc.edu/cgibd/event/gi-epi-conference-risk-factors-for-early-onset-colorectal-cancer-hint-its-not-bacon-with-caitlin-c-murphy-phd-mph/
LOCATION:ZOOM
END:VEVENT
BEGIN:VEVENT
DTSTART;TZID=America/New_York:20210225T163000
DTEND;TZID=America/New_York:20210225T173000
DTSTAMP:20260422T055629
CREATED:20200806T162721Z
LAST-MODIFIED:20210219T143315Z
UID:10000650-1614270600-1614274200@www.med.unc.edu
SUMMARY:CGIBD Research Seminar: "Elucidating Factors That Regulate Paneth Cell Biology in Health and Disease" - Ajay S. Gulati\, MD
DESCRIPTION:CGIBD Research Seminar: “Elucidating Factors That Regulate Paneth Cell Biology in Health and Disease” – Ajay S. Gulati\, MD
URL:https://www.med.unc.edu/cgibd/event/cgibd-research-seminar-title-tbd-ajay-gulati-md-2/
LOCATION:ZOOM
END:VEVENT
END:VCALENDAR