BEGIN:VCALENDAR
VERSION:2.0
PRODID:-//Center for Gastrointestinal Biology and Disease - ECPv6.15.18//NONSGML v1.0//EN
CALSCALE:GREGORIAN
METHOD:PUBLISH
X-ORIGINAL-URL:https://www.med.unc.edu/cgibd
X-WR-CALDESC:Events for Center for Gastrointestinal Biology and Disease
REFRESH-INTERVAL;VALUE=DURATION:PT1H
X-Robots-Tag:noindex
X-PUBLISHED-TTL:PT1H
BEGIN:VTIMEZONE
TZID:America/New_York
BEGIN:DAYLIGHT
TZOFFSETFROM:-0500
TZOFFSETTO:-0400
TZNAME:EDT
DTSTART:20220313T070000
END:DAYLIGHT
BEGIN:STANDARD
TZOFFSETFROM:-0400
TZOFFSETTO:-0500
TZNAME:EST
DTSTART:20221106T060000
END:STANDARD
BEGIN:DAYLIGHT
TZOFFSETFROM:-0500
TZOFFSETTO:-0400
TZNAME:EDT
DTSTART:20230312T070000
END:DAYLIGHT
BEGIN:STANDARD
TZOFFSETFROM:-0400
TZOFFSETTO:-0500
TZNAME:EST
DTSTART:20231105T060000
END:STANDARD
BEGIN:DAYLIGHT
TZOFFSETFROM:-0500
TZOFFSETTO:-0400
TZNAME:EDT
DTSTART:20240310T070000
END:DAYLIGHT
BEGIN:STANDARD
TZOFFSETFROM:-0400
TZOFFSETTO:-0500
TZNAME:EST
DTSTART:20241103T060000
END:STANDARD
END:VTIMEZONE
BEGIN:VEVENT
DTSTART;TZID=America/New_York:20230308T160000
DTEND;TZID=America/New_York:20230308T170000
DTSTAMP:20260420T135830
CREATED:20230105T193132Z
LAST-MODIFIED:20230105T193132Z
UID:10000676-1678291200-1678294800@www.med.unc.edu
SUMMARY:GI Epi Conference with Oli Palsson\, PsyD
DESCRIPTION:GI Epi Conference with Oli Palsson\, PsyD
URL:https://www.med.unc.edu/cgibd/event/gi-epi-conference-with-oli-palsson-psyd/
END:VEVENT
BEGIN:VEVENT
DTSTART;TZID=America/New_York:20230309T163000
DTEND;TZID=America/New_York:20230309T173000
DTSTAMP:20260420T135830
CREATED:20221204T013527Z
LAST-MODIFIED:20221204T013527Z
UID:10000782-1678379400-1678383000@www.med.unc.edu
SUMMARY:CGIBD Research Seminar with John Carethers\, MD
DESCRIPTION:CGIBD Research Seminar with John Carethers\, MD
URL:https://www.med.unc.edu/cgibd/event/cgibd-research-seminar-with-john-carethers-md/
LOCATION:ZOOM
END:VEVENT
END:VCALENDAR