BEGIN:VCALENDAR
VERSION:2.0
PRODID:-//Center for Gastrointestinal Biology and Disease - ECPv6.15.18//NONSGML v1.0//EN
CALSCALE:GREGORIAN
METHOD:PUBLISH
X-ORIGINAL-URL:https://www.med.unc.edu/cgibd
X-WR-CALDESC:Events for Center for Gastrointestinal Biology and Disease
REFRESH-INTERVAL;VALUE=DURATION:PT1H
X-Robots-Tag:noindex
X-PUBLISHED-TTL:PT1H
BEGIN:VTIMEZONE
TZID:America/New_York
BEGIN:DAYLIGHT
TZOFFSETFROM:-0500
TZOFFSETTO:-0400
TZNAME:EDT
DTSTART:20160313T070000
END:DAYLIGHT
BEGIN:STANDARD
TZOFFSETFROM:-0400
TZOFFSETTO:-0500
TZNAME:EST
DTSTART:20161106T060000
END:STANDARD
BEGIN:DAYLIGHT
TZOFFSETFROM:-0500
TZOFFSETTO:-0400
TZNAME:EDT
DTSTART:20170312T070000
END:DAYLIGHT
BEGIN:STANDARD
TZOFFSETFROM:-0400
TZOFFSETTO:-0500
TZNAME:EST
DTSTART:20171105T060000
END:STANDARD
BEGIN:DAYLIGHT
TZOFFSETFROM:-0500
TZOFFSETTO:-0400
TZNAME:EDT
DTSTART:20180311T070000
END:DAYLIGHT
BEGIN:STANDARD
TZOFFSETFROM:-0400
TZOFFSETTO:-0500
TZNAME:EST
DTSTART:20181104T060000
END:STANDARD
BEGIN:DAYLIGHT
TZOFFSETFROM:-0500
TZOFFSETTO:-0400
TZNAME:EDT
DTSTART:20190310T070000
END:DAYLIGHT
BEGIN:STANDARD
TZOFFSETFROM:-0400
TZOFFSETTO:-0500
TZNAME:EST
DTSTART:20191103T060000
END:STANDARD
END:VTIMEZONE
BEGIN:VEVENT
DTSTART;TZID=America/New_York:20180125T163000
DTEND;TZID=America/New_York:20180125T173000
DTSTAMP:20260424T172532
CREATED:20171212T222056Z
LAST-MODIFIED:20171212T222056Z
UID:10000441-1516897800-1516901400@www.med.unc.edu
SUMMARY:Jan 25 - CGIBD Research Seminar - IBD
DESCRIPTION:“Mechanisms Underlying Host-Microbe Commensalism in the Zebrafish Intestine”\nJohn Rawls\, Ph.D.\nAssociate Professor and Director\, Center for Genomics of Microbial Systems\nDuke University\nIBD host: Jonathan Hansen\, M.D.\, Ph.D.
URL:https://www.med.unc.edu/cgibd/event/jan-25-cgibd-research-seminar-ibd/
LOCATION:Marsico Hall 2004
GEO:35.9025392;-79.0540141
END:VEVENT
BEGIN:VEVENT
DTSTART;TZID=America/New_York:20180118T163000
DTEND;TZID=America/New_York:20180118T173000
DTSTAMP:20260424T172532
CREATED:20171212T222055Z
LAST-MODIFIED:20171212T222055Z
UID:10000439-1516293000-1516296600@www.med.unc.edu
SUMMARY:Jan 18 - CGIBD Research Seminar - Liver
DESCRIPTION:“Preclinical Targeting of Nrf2 Signaling Pathway for Targeted Therapy of Esophageal Squamous Cell Carcinoma.”\nXiaoxin “Luke” Chen\, M.D.\, Ph.D.\nProfessor\, Department of Biological and Biomedical Sciences\nNorth Carolina Central University\nLiver host: Natasha Snider\, Ph.D.
URL:https://www.med.unc.edu/cgibd/event/jan-18-cgibd-research-seminar-liver/
LOCATION:Marsico Hall 2004
GEO:35.9025392;-79.0540141
END:VEVENT
BEGIN:VEVENT
DTSTART;TZID=America/New_York:20180111T163000
DTEND;TZID=America/New_York:20180111T173000
DTSTAMP:20260424T172532
CREATED:20171212T222055Z
LAST-MODIFIED:20171212T222055Z
UID:10000437-1515688200-1515691800@www.med.unc.edu
SUMMARY:Jan 11 - CGIBD Research Seminar - Basic Science
DESCRIPTION:“The Role of Mutually Exclusive SWI/SNF Subunits in Transcription and Liver Cancer”\nJesse Raab\, Ph.D.\nPostdoctoral Fellow – Magnusson Lab\nBasic Science host: Adam Gracz\, Ph.D.
URL:https://www.med.unc.edu/cgibd/event/jan-11-cgibd-research-seminar-basic-science/
LOCATION:Marsico Hall 2004
GEO:35.9025392;-79.0540141
END:VEVENT
BEGIN:VEVENT
DTSTART;TZID=America/New_York:20171214T163000
DTEND;TZID=America/New_York:20171214T173000
DTSTAMP:20260424T172532
CREATED:20171005T194228Z
LAST-MODIFIED:20171006T134525Z
UID:10000431-1513269000-1513272600@www.med.unc.edu
SUMMARY:Dec 14 - CGIBD Research Seminar - Stem Cell
DESCRIPTION:Christopher Dekaney\, PhD\nAssistant Professor\nCollege of Veterinary Medicine\, North Carolina State University\nStem Cell host: Susan J Henning\, PhD \nConference Live Streamed at: \ncgibd.uncgastro.com
URL:https://www.med.unc.edu/cgibd/event/dec-14-cgibd-research-seminar-stem-cell/
LOCATION:Marsico Hall 2004
GEO:35.9025392;-79.0540141
END:VEVENT
BEGIN:VEVENT
DTSTART;TZID=America/New_York:20171207T163000
DTEND;TZID=America/New_York:20171207T173000
DTSTAMP:20260424T172532
CREATED:20171005T194227Z
LAST-MODIFIED:20171006T134429Z
UID:10000428-1512664200-1512667800@www.med.unc.edu
SUMMARY:Dec 7 - CGIBD Research Seminar - CEDAS
DESCRIPTION:Joel H. Rubenstein\, MD\nAssociate Professor\, University of Michigan\nCEDAS Host: Evan Dellon\, MD\, MPH \n  \nConference Live Streamed at: \ncgibd.uncgastro.com
URL:https://www.med.unc.edu/cgibd/event/dec-7-cgibd-research-seminar-cedas/
LOCATION:Marsico Hall 2004
GEO:35.9025392;-79.0540141
END:VEVENT
BEGIN:VEVENT
DTSTART;TZID=America/New_York:20171130T163000
DTEND;TZID=America/New_York:20171130T173000
DTSTAMP:20260424T172532
CREATED:20171005T194227Z
LAST-MODIFIED:20171006T134405Z
UID:10000427-1512059400-1512063000@www.med.unc.edu
SUMMARY:Nov 30 - CGIBD Research Seminar - Microbiome
DESCRIPTION:Aadra Bhatt\, PhD\nPostdoctoral Training Fellow\, Chemistry Department\nMicrobiome Host: Andrea Azcarate-Peril\, PhD \n  \nConference Live Streamed at: \ncgibd.uncgastro.com
URL:https://www.med.unc.edu/cgibd/event/nov-30-cgibd-research-seminar-microbiome/
LOCATION:Marsico Hall 2004
GEO:35.9025392;-79.0540141
END:VEVENT
BEGIN:VEVENT
DTSTART;TZID=America/New_York:20171116T163000
DTEND;TZID=America/New_York:20171116T173000
DTSTAMP:20260424T172532
CREATED:20171005T194227Z
LAST-MODIFIED:20171006T134346Z
UID:10000426-1510849800-1510853400@www.med.unc.edu
SUMMARY:Nov 16 - CGIBD Research Seminar - Peds
DESCRIPTION:A. Wesley Burks\, MD\nExecutive Dean for the UNC School of Medicine\nCurnen Distinguished Professor in the Department of Pediatrics\nPeds Host: Michael Kappelman\, MD\, MPH \n  \nConference Live Streamed at: \ncgibd.uncgastro.com
URL:https://www.med.unc.edu/cgibd/event/nov-16-cgibd-research-seminar-peds/
LOCATION:Marsico Hall 2004
GEO:35.9025392;-79.0540141
END:VEVENT
BEGIN:VEVENT
DTSTART;TZID=America/New_York:20171102T163000
DTEND;TZID=America/New_York:20171102T173000
DTSTAMP:20260424T172532
CREATED:20171005T194226Z
LAST-MODIFIED:20171006T133434Z
UID:10000423-1509640200-1509643800@www.med.unc.edu
SUMMARY:Nov 2 - CGIBD Research Seminar - IBD
DESCRIPTION:Kun Lu\, PhD\nAssistant Professor\nDepartment of Environmental Sciences and Engineering\nIBD Host: Jonathan Hansen\, MD\, PhD \n  \nConference Live Streamed at: \ncgibd.uncgastro.com
URL:https://www.med.unc.edu/cgibd/event/nov-2-cgibd-research-seminar-ibd/
LOCATION:Marsico Hall 2004
GEO:35.9025392;-79.0540141
END:VEVENT
BEGIN:VEVENT
DTSTART;TZID=America/New_York:20171026T163000
DTEND;TZID=America/New_York:20171026T173000
DTSTAMP:20260424T172532
CREATED:20171004T213850Z
LAST-MODIFIED:20171005T194226Z
UID:10000418-1509035400-1509039000@www.med.unc.edu
SUMMARY:Oct 26 - CGIBD Research Seminar - Liver
DESCRIPTION:“Making the Most of What You Got: Using Quantitative Clinical Pharmacology and Informatics to Inform Regulatory Decision Making”\nJeffry Florian Jr.\nUS Food and Drug Administration\nLiver Host: Michael W. Fried\, MD
URL:https://www.med.unc.edu/cgibd/event/oct-26-cgibd-research-seminar-liver/
LOCATION:Marsico Hall 2004
GEO:35.9025392;-79.0540141
END:VEVENT
BEGIN:VEVENT
DTSTART;TZID=America/New_York:20171019T163000
DTEND;TZID=America/New_York:20171019T173000
DTSTAMP:20260424T172532
CREATED:20171005T194225Z
LAST-MODIFIED:20171006T133319Z
UID:10000422-1508430600-1508434200@www.med.unc.edu
SUMMARY:Oct 19 - CGIBD Research Seminar - Basic Science
DESCRIPTION:“Answering Biological Questions with Light-Sheet Microscopy”\nPablo Ariel\, PhD\nDirector\, Microscopy Services Laboratory\nBasic Science Host: Adam Gracz\, PhD \nConference Streamed Live:\ncgibd.uncgastro.com
URL:https://www.med.unc.edu/cgibd/event/oct-19-cgibd-research-seminar-basic-science/
LOCATION:Marsico Hall 2004
GEO:35.9025392;-79.0540141
END:VEVENT
BEGIN:VEVENT
DTSTART;TZID=America/New_York:20171012T163000
DTEND;TZID=America/New_York:20171012T173000
DTSTAMP:20260424T172532
CREATED:20171005T194225Z
LAST-MODIFIED:20171005T194832Z
UID:10000421-1507825800-1507829400@www.med.unc.edu
SUMMARY:Oct 12 - CGIBD Research Seminar - CEDAS
DESCRIPTION:“GERD and the Sirens of Industry”\nMarco Patti\, MD FACS\nProfessor of Surgery\nSurgical Co-Director\, Center for Esophageal Diseases and Swallowing\nCEDAS Host: Evan Dellon\, MD\, MPH \n  \nConference Live Streamed at: \ncgibd.uncgastro.com
URL:https://www.med.unc.edu/cgibd/event/oct-12-cgibd-research-seminar-cedas/
LOCATION:Marsico Hall 2004
GEO:35.9025392;-79.0540141
END:VEVENT
BEGIN:VEVENT
DTSTART;TZID=America/New_York:20171005T163000
DTEND;TZID=America/New_York:20171005T173000
DTSTAMP:20260424T172532
CREATED:20171005T194224Z
LAST-MODIFIED:20171005T194521Z
UID:10000419-1507221000-1507224600@www.med.unc.edu
SUMMARY:Oct 5 - CGIBD Research Seminar - Stem Cell
DESCRIPTION:“RNA Binding Proteins in Intestinal Homeostasis: IMP-lications in IBD & Colorectal Cancer”\nKathryn E. Hamilton\, PhD\nAssistant Professor of Medicine\, Division of Gastroenterology\nUniversity of Pennsylvania\nStem Cell Host: Susan J. Henning\, PhD \n  \nConference Live Streamed at: \ncgibd.uncgastro.com
URL:https://www.med.unc.edu/cgibd/event/oct-5-cgibd-research-seminar-stem-cell/
LOCATION:Marsico Hall 2004
GEO:35.9025392;-79.0540141
END:VEVENT
END:VCALENDAR