BEGIN:VCALENDAR
VERSION:2.0
PRODID:-//Center for Gastrointestinal Biology and Disease - ECPv6.15.18//NONSGML v1.0//EN
CALSCALE:GREGORIAN
METHOD:PUBLISH
X-ORIGINAL-URL:https://www.med.unc.edu/cgibd
X-WR-CALDESC:Events for Center for Gastrointestinal Biology and Disease
REFRESH-INTERVAL;VALUE=DURATION:PT1H
X-Robots-Tag:noindex
X-PUBLISHED-TTL:PT1H
BEGIN:VTIMEZONE
TZID:America/New_York
BEGIN:DAYLIGHT
TZOFFSETFROM:-0500
TZOFFSETTO:-0400
TZNAME:EDT
DTSTART:20160313T070000
END:DAYLIGHT
BEGIN:STANDARD
TZOFFSETFROM:-0400
TZOFFSETTO:-0500
TZNAME:EST
DTSTART:20161106T060000
END:STANDARD
BEGIN:DAYLIGHT
TZOFFSETFROM:-0500
TZOFFSETTO:-0400
TZNAME:EDT
DTSTART:20170312T070000
END:DAYLIGHT
BEGIN:STANDARD
TZOFFSETFROM:-0400
TZOFFSETTO:-0500
TZNAME:EST
DTSTART:20171105T060000
END:STANDARD
BEGIN:DAYLIGHT
TZOFFSETFROM:-0500
TZOFFSETTO:-0400
TZNAME:EDT
DTSTART:20180311T070000
END:DAYLIGHT
BEGIN:STANDARD
TZOFFSETFROM:-0400
TZOFFSETTO:-0500
TZNAME:EST
DTSTART:20181104T060000
END:STANDARD
END:VTIMEZONE
BEGIN:VEVENT
DTSTART;TZID=America/New_York:20171012T163000
DTEND;TZID=America/New_York:20171012T173000
DTSTAMP:20260424T105752
CREATED:20171005T194225Z
LAST-MODIFIED:20171005T194832Z
UID:10000421-1507825800-1507829400@www.med.unc.edu
SUMMARY:Oct 12 - CGIBD Research Seminar - CEDAS
DESCRIPTION:“GERD and the Sirens of Industry”\nMarco Patti\, MD FACS\nProfessor of Surgery\nSurgical Co-Director\, Center for Esophageal Diseases and Swallowing\nCEDAS Host: Evan Dellon\, MD\, MPH \n  \nConference Live Streamed at: \ncgibd.uncgastro.com
URL:https://www.med.unc.edu/cgibd/event/oct-12-cgibd-research-seminar-cedas/
LOCATION:Marsico Hall 2004
GEO:35.9025392;-79.0540141
END:VEVENT
BEGIN:VEVENT
DTSTART;TZID=America/New_York:20171005T163000
DTEND;TZID=America/New_York:20171005T173000
DTSTAMP:20260424T105752
CREATED:20171005T194224Z
LAST-MODIFIED:20171005T194521Z
UID:10000419-1507221000-1507224600@www.med.unc.edu
SUMMARY:Oct 5 - CGIBD Research Seminar - Stem Cell
DESCRIPTION:“RNA Binding Proteins in Intestinal Homeostasis: IMP-lications in IBD & Colorectal Cancer”\nKathryn E. Hamilton\, PhD\nAssistant Professor of Medicine\, Division of Gastroenterology\nUniversity of Pennsylvania\nStem Cell Host: Susan J. Henning\, PhD \n  \nConference Live Streamed at: \ncgibd.uncgastro.com
URL:https://www.med.unc.edu/cgibd/event/oct-5-cgibd-research-seminar-stem-cell/
LOCATION:Marsico Hall 2004
GEO:35.9025392;-79.0540141
END:VEVENT
END:VCALENDAR