BEGIN:VCALENDAR
VERSION:2.0
PRODID:-//Computational Medicine - ECPv6.15.18//NONSGML v1.0//EN
CALSCALE:GREGORIAN
METHOD:PUBLISH
X-ORIGINAL-URL:https://www.med.unc.edu/compmed
X-WR-CALDESC:Events for Computational Medicine
REFRESH-INTERVAL;VALUE=DURATION:PT1H
X-Robots-Tag:noindex
X-PUBLISHED-TTL:PT1H
BEGIN:VTIMEZONE
TZID:America/New_York
BEGIN:DAYLIGHT
TZOFFSETFROM:-0500
TZOFFSETTO:-0400
TZNAME:EDT
DTSTART:20220313T070000
END:DAYLIGHT
BEGIN:STANDARD
TZOFFSETFROM:-0400
TZOFFSETTO:-0500
TZNAME:EST
DTSTART:20221106T060000
END:STANDARD
BEGIN:DAYLIGHT
TZOFFSETFROM:-0500
TZOFFSETTO:-0400
TZNAME:EDT
DTSTART:20230312T070000
END:DAYLIGHT
BEGIN:STANDARD
TZOFFSETFROM:-0400
TZOFFSETTO:-0500
TZNAME:EST
DTSTART:20231105T060000
END:STANDARD
BEGIN:DAYLIGHT
TZOFFSETFROM:-0500
TZOFFSETTO:-0400
TZNAME:EDT
DTSTART:20240310T070000
END:DAYLIGHT
BEGIN:STANDARD
TZOFFSETFROM:-0400
TZOFFSETTO:-0500
TZNAME:EST
DTSTART:20241103T060000
END:STANDARD
END:VTIMEZONE
BEGIN:VEVENT
DTSTART;TZID=America/New_York:20230110T160000
DTEND;TZID=America/New_York:20230110T170000
DTSTAMP:20260423T100807
CREATED:20230102T193028Z
LAST-MODIFIED:20230102T193028Z
UID:10000351-1673366400-1673370000@www.med.unc.edu
SUMMARY:Faculty Candidate Seminar
DESCRIPTION:Presenter: Haibo Ni\, PhD \nDepartment of Pharmacology\, School of Medicine \nUniversity of California\, Davis \nTalk Title: Quantitative systems physiology and pharmacology for cardiac arrhythmias \n  \nDr. Haibo Ni is an Assistant Project Scientist at the Department of Pharmacology\, University of California Davis. He obtained his Ph.D. degree in Biological Physics from the University of Manchester\, U.K.\, in 2017\, and completed postdoctoral training with Prof. Eleonora Grandi’s lab at Davis. Dr. Ni received a prestigious American Heart Association (AHA) Postdoctoral Fellowship and is a grant reviewer for AHA Fellowship programs. He has 28 peer-reviewed journal publications and one book chapter in press.\nDr. Ni’s research advances quantitative systems investigation of cardiac physiology\, pathophysiology\, and pharmacology by developing multiscale and multiphysics computational frameworks of the heart. Dr. Ni’s work focuses on applying these frameworks to dissect complex mechanisms of heart diseases and define and optimize new therapeutic strategies through in-silico drug screening and virtual clinical trials using personalized simulations\, with an emphasis on heart rhythm disorders.
URL:https://www.med.unc.edu/compmed/event/faculty-candidate-seminar-10/
LOCATION:Bioinformatics Building\, Room 1131\, 130 Mason Farm Rd\, Chapel Hill\, NC\, 27514\, United States
ATTACH;FMTTYPE=image/jpeg:https://www.med.unc.edu/compmed/wp-content/uploads/sites/852/2023/01/Haibo_Ni_Photo-scaled.jpg
ORGANIZER;CN="Victoria Doyle":MAILTO:vdoyle@email.unc.edu
END:VEVENT
END:VCALENDAR