BEGIN:VCALENDAR
VERSION:2.0
PRODID:-//Computational Medicine - ECPv6.15.18//NONSGML v1.0//EN
CALSCALE:GREGORIAN
METHOD:PUBLISH
X-ORIGINAL-URL:https://www.med.unc.edu/compmed
X-WR-CALDESC:Events for Computational Medicine
REFRESH-INTERVAL;VALUE=DURATION:PT1H
X-Robots-Tag:noindex
X-PUBLISHED-TTL:PT1H
BEGIN:VTIMEZONE
TZID:America/New_York
BEGIN:DAYLIGHT
TZOFFSETFROM:-0500
TZOFFSETTO:-0400
TZNAME:EDT
DTSTART:20220313T070000
END:DAYLIGHT
BEGIN:STANDARD
TZOFFSETFROM:-0400
TZOFFSETTO:-0500
TZNAME:EST
DTSTART:20221106T060000
END:STANDARD
BEGIN:DAYLIGHT
TZOFFSETFROM:-0500
TZOFFSETTO:-0400
TZNAME:EDT
DTSTART:20230312T070000
END:DAYLIGHT
BEGIN:STANDARD
TZOFFSETFROM:-0400
TZOFFSETTO:-0500
TZNAME:EST
DTSTART:20231105T060000
END:STANDARD
BEGIN:DAYLIGHT
TZOFFSETFROM:-0500
TZOFFSETTO:-0400
TZNAME:EDT
DTSTART:20240310T070000
END:DAYLIGHT
BEGIN:STANDARD
TZOFFSETFROM:-0400
TZOFFSETTO:-0500
TZNAME:EST
DTSTART:20241103T060000
END:STANDARD
END:VTIMEZONE
BEGIN:VEVENT
DTSTART;TZID=America/New_York:20230119T140000
DTEND;TZID=America/New_York:20230119T150000
DTSTAMP:20260423T100800
CREATED:20230102T194740Z
LAST-MODIFIED:20230102T194856Z
UID:10000353-1674136800-1674140400@www.med.unc.edu
SUMMARY:Faculty Candidate Seminar
DESCRIPTION:Presenter: Peng He\, PhD \nEuropean Bioinformatics Institute \nWellcome Sanger Institute \nTalk Title: Deciphering human organogenesis principles with single-cell and spatial technologies \n  \nDr. Peng He had his Bachelor’s in Statistics and Biochemistry at the University of Hong Kong\, after which he earned his PhD in genetics at California Institute of Technology. He now holds a joint postdoctoral research position between European Bioinformatics Institute (EMBL-EBI) and Wellcome Trust Sanger Institute
URL:https://www.med.unc.edu/compmed/event/faculty-candidate-seminar-12/
LOCATION:Bioinformatics Building\, Room 1131\, 130 Mason Farm Rd\, Chapel Hill\, NC\, 27514\, United States
ATTACH;FMTTYPE=image/jpeg:https://www.med.unc.edu/compmed/wp-content/uploads/sites/852/2023/01/HeP17Copy.jpeg
ORGANIZER;CN="Victoria Doyle":MAILTO:vdoyle@email.unc.edu
END:VEVENT
END:VCALENDAR