BEGIN:VCALENDAR
VERSION:2.0
PRODID:-//Computational Medicine - ECPv6.15.18//NONSGML v1.0//EN
CALSCALE:GREGORIAN
METHOD:PUBLISH
X-ORIGINAL-URL:https://www.med.unc.edu/compmed
X-WR-CALDESC:Events for Computational Medicine
REFRESH-INTERVAL;VALUE=DURATION:PT1H
X-Robots-Tag:noindex
X-PUBLISHED-TTL:PT1H
BEGIN:VTIMEZONE
TZID:America/New_York
BEGIN:DAYLIGHT
TZOFFSETFROM:-0500
TZOFFSETTO:-0400
TZNAME:EDT
DTSTART:20220313T070000
END:DAYLIGHT
BEGIN:STANDARD
TZOFFSETFROM:-0400
TZOFFSETTO:-0500
TZNAME:EST
DTSTART:20221106T060000
END:STANDARD
BEGIN:DAYLIGHT
TZOFFSETFROM:-0500
TZOFFSETTO:-0400
TZNAME:EDT
DTSTART:20230312T070000
END:DAYLIGHT
BEGIN:STANDARD
TZOFFSETFROM:-0400
TZOFFSETTO:-0500
TZNAME:EST
DTSTART:20231105T060000
END:STANDARD
BEGIN:DAYLIGHT
TZOFFSETFROM:-0500
TZOFFSETTO:-0400
TZNAME:EDT
DTSTART:20240310T070000
END:DAYLIGHT
BEGIN:STANDARD
TZOFFSETFROM:-0400
TZOFFSETTO:-0500
TZNAME:EST
DTSTART:20241103T060000
END:STANDARD
END:VTIMEZONE
BEGIN:VEVENT
DTSTART;TZID=America/New_York:20230126T140000
DTEND;TZID=America/New_York:20230126T150000
DTSTAMP:20260419T201612
CREATED:20230110T143907Z
LAST-MODIFIED:20230110T143907Z
UID:10000355-1674741600-1674745200@www.med.unc.edu
SUMMARY:Faculty Candidate Seminar
DESCRIPTION:Presenter: Irene Kaplow\, PhD \nCarnegie Mellon University \nTalk Title: Relating enhancer genetic variation across mammals to complex phenotypes using machine learning \nLecture abstract: Advances in the genome sequencing have provided a comprehensive view of cross-species conservation across small segments of nucleotides.  These conservation measures have proven invaluable for associating phenotypic variation\, both within and across species\, to variation in genotype at protein-coding genes or highly conserved enhancers.  However\, these approaches cannot be applied to the vast majority of enhancers\, where the conservation levels of individual nucleotides are often low even when enhancer function is conserved and where activity is tissue- or cell type-specific.  To overcome these limitations\, we developed the Tissue-Aware Conservation Inference Toolkit (TACIT)\, in which convolutional neural network models learn the regulatory code connecting genome sequence to open chromatin in a tissue of interest\, allowing us to accurately predict cases where differences in genotype are associated with differences in open chromatin in that tissue at candidate enhancer regions.  We established a new set of evaluation criteria for machine learning models developed for this task and used these criteria to compare our models to models trained using different negative sets and to conservation scores.  We then developed a framework for connecting these predictions to phenotypes in a way that accounts for the phylogenetic tree.  When applying our framework to motor cortex\, we identified dozens of new candidate enhancers associated with the evolution of brain size and vocal learning. \nBio.: Irene Kaplow received her B.S. in Mathematics with a minor in Biology from the Massachusetts Institute of Technology in 2010. There\, she began her career as a computational biologist while doing research with Bonnie Berger. She then went to graduate school at Stanford University\, where she received her Ph.D. in Computer Science in 2017. At Stanford\, she worked in the Hunter Fraser and Anshul Kundaje’s labs to develop methods to analyze novel high-throughput sequencing datasets to better understand the roles of DNA methylation and Cys2-His2 zinc finger transcription factor binding in gene expression regulation. Irene is now a Lane Postdoctoral Fellow in Andreas Pfenning’s lab in the Computational Biology Department at Carnegie Mellon University\, where she is developing methods to identify enhancers involved in the evolution of neurological characteristics that have evolved through gene expression.
URL:https://www.med.unc.edu/compmed/event/faculty-candidate-seminar-14/
LOCATION:Bioinformatics Building\, Room 1131\, 130 Mason Farm Rd\, Chapel Hill\, NC\, 27514\, United States
ATTACH;FMTTYPE=image/jpeg:https://www.med.unc.edu/compmed/wp-content/uploads/sites/852/2023/01/95Cropped.jpg
ORGANIZER;CN="Victoria Doyle":MAILTO:vdoyle@email.unc.edu
END:VEVENT
END:VCALENDAR