BEGIN:VCALENDAR
VERSION:2.0
PRODID:-//Computational Medicine - ECPv6.15.18//NONSGML v1.0//EN
CALSCALE:GREGORIAN
METHOD:PUBLISH
X-ORIGINAL-URL:https://www.med.unc.edu/compmed
X-WR-CALDESC:Events for Computational Medicine
REFRESH-INTERVAL;VALUE=DURATION:PT1H
X-Robots-Tag:noindex
X-PUBLISHED-TTL:PT1H
BEGIN:VTIMEZONE
TZID:America/New_York
BEGIN:DAYLIGHT
TZOFFSETFROM:-0500
TZOFFSETTO:-0400
TZNAME:EDT
DTSTART:20230312T070000
END:DAYLIGHT
BEGIN:STANDARD
TZOFFSETFROM:-0400
TZOFFSETTO:-0500
TZNAME:EST
DTSTART:20231105T060000
END:STANDARD
BEGIN:DAYLIGHT
TZOFFSETFROM:-0500
TZOFFSETTO:-0400
TZNAME:EDT
DTSTART:20240310T070000
END:DAYLIGHT
BEGIN:STANDARD
TZOFFSETFROM:-0400
TZOFFSETTO:-0500
TZNAME:EST
DTSTART:20241103T060000
END:STANDARD
BEGIN:DAYLIGHT
TZOFFSETFROM:-0500
TZOFFSETTO:-0400
TZNAME:EDT
DTSTART:20250309T070000
END:DAYLIGHT
BEGIN:STANDARD
TZOFFSETFROM:-0400
TZOFFSETTO:-0500
TZNAME:EST
DTSTART:20251102T060000
END:STANDARD
END:VTIMEZONE
BEGIN:VEVENT
DTSTART;TZID=America/New_York:20240215T140000
DTEND;TZID=America/New_York:20240215T150000
DTSTAMP:20260423T055917
CREATED:20240123T170100Z
LAST-MODIFIED:20240129T205339Z
UID:10000393-1708005600-1708009200@www.med.unc.edu
SUMMARY:Seminar
DESCRIPTION:Presenter: Michael K. Gilson\, Ph.D.\nDistinguished Professor\nSkaggs School of Pharmacy and Pharmaceutical Sciences\,\nUniversity of California San Diego\, LaJolla\, CA \nHosted by: Yinglong Miao\, Ph.D.\nTalk Title: “Mining Minimal Affinity Calculations and the BindingDB Database\, Tools for Drug Discovery” \nAbout the speaker: \n\nGrew up in New York City.\nA.B. Bioengineering at Harvard College\, 1981\nMD-PHD program at Columbia College of Physicians and Surgeons in New York City\, 1981-1989. PhD in Biochemistry and Molecular Biophysics.\nPart 1 (inpatient) of internal medicine residency (Clinical Investigator Pathway) at Stanford University Hospital\, Palo Alto\, CA\, 1989-1991\nPart 2 (outpatient and research) of Internal medicine residence at Baylor College of Medicine\, Houston\, TX 1991-1993.\nPostdoctoral fellowship as Howard Hughes Physician Medical Fellow at the University of Houston\, with Prof. J Andrew McCammon\, 1991-1994\nCARB Fellow and Assistant Professor to Professor\, Center for Advanced Research in Biotechnology (CARB)\, Rockville\, MD\, 1994-2010.\nProfessor\, Skaggs School of Pharmacy and Pharmaceutical Sciences\, UC San Diego\, La Jolla\, 2010-present.\n\n“My lab has focused on the development of the physical chemistry theory of non-covalent binding and methods and software for computer-aided drug design. We also originated and continue to run BindingDB\, a large database of measured protein-small molecule binding data used by researchers worldwide. Recently\, we have worked to improve the potential functions used in molecular simulations\, have done theoretical work on the mechanisms of molecular motors\, and have worked on the use of artificial intelligence in drug discovery”
URL:https://www.med.unc.edu/compmed/event/seminar-2/
LOCATION:Bioinformatics Building\, Room 1131\, 130 Mason Farm Rd\, Chapel Hill\, NC\, 27514\, United States
ATTACH;FMTTYPE=image/jpeg:https://www.med.unc.edu/compmed/wp-content/uploads/sites/852/2024/01/Michael-Gilson.jpg
END:VEVENT
END:VCALENDAR