BEGIN:VCALENDAR
VERSION:2.0
PRODID:-//Computational Medicine - ECPv6.15.18//NONSGML v1.0//EN
CALSCALE:GREGORIAN
METHOD:PUBLISH
X-ORIGINAL-URL:https://www.med.unc.edu/compmed
X-WR-CALDESC:Events for Computational Medicine
REFRESH-INTERVAL;VALUE=DURATION:PT1H
X-Robots-Tag:noindex
X-PUBLISHED-TTL:PT1H
BEGIN:VTIMEZONE
TZID:America/New_York
BEGIN:DAYLIGHT
TZOFFSETFROM:-0500
TZOFFSETTO:-0400
TZNAME:EDT
DTSTART:20230312T070000
END:DAYLIGHT
BEGIN:STANDARD
TZOFFSETFROM:-0400
TZOFFSETTO:-0500
TZNAME:EST
DTSTART:20231105T060000
END:STANDARD
BEGIN:DAYLIGHT
TZOFFSETFROM:-0500
TZOFFSETTO:-0400
TZNAME:EDT
DTSTART:20240310T070000
END:DAYLIGHT
BEGIN:STANDARD
TZOFFSETFROM:-0400
TZOFFSETTO:-0500
TZNAME:EST
DTSTART:20241103T060000
END:STANDARD
BEGIN:DAYLIGHT
TZOFFSETFROM:-0500
TZOFFSETTO:-0400
TZNAME:EDT
DTSTART:20250309T070000
END:DAYLIGHT
BEGIN:STANDARD
TZOFFSETFROM:-0400
TZOFFSETTO:-0500
TZNAME:EST
DTSTART:20251102T060000
END:STANDARD
END:VTIMEZONE
BEGIN:VEVENT
DTSTART;TZID=America/New_York:20241101T100000
DTEND;TZID=America/New_York:20241101T110000
DTSTAMP:20260418T053048
CREATED:20240916T200309Z
LAST-MODIFIED:20241022T160608Z
UID:10000422-1730455200-1730458800@www.med.unc.edu
SUMMARY:Research in Progress | Tracey Oellerich\, PhD (Leiderman Lab)
DESCRIPTION:In-person meeting:\n\nMary Ellen Jones 3112 \n\nVirtual Meeting\n\nTopic: Research in Progress \nTime: Nov 1\, 2024\, 10:00 AM Eastern Time (US and Canada) \nJoin Zoom Meeting \nhttps://zoom.us/j/3800446913?pwd=KzVzZHZIbUR1RmxaUEJjMXpoenJkdz09&omn=96880439972 \nMeeting ID: 380 044 6913 | Passcode: RESEARCH \n 
URL:https://www.med.unc.edu/compmed/event/research-in-progress-leiderman-lab/
LOCATION:Mary Ellen Jones 3112\, 116 Manning Drive\, Chapel Hill\, NC\, 27514
END:VEVENT
END:VCALENDAR