BEGIN:VCALENDAR
VERSION:2.0
PRODID:-//Computational Medicine - ECPv6.15.18//NONSGML v1.0//EN
CALSCALE:GREGORIAN
METHOD:PUBLISH
X-ORIGINAL-URL:https://www.med.unc.edu/compmed
X-WR-CALDESC:Events for Computational Medicine
REFRESH-INTERVAL;VALUE=DURATION:PT1H
X-Robots-Tag:noindex
X-PUBLISHED-TTL:PT1H
BEGIN:VTIMEZONE
TZID:America/New_York
BEGIN:DAYLIGHT
TZOFFSETFROM:-0500
TZOFFSETTO:-0400
TZNAME:EDT
DTSTART:20210314T070000
END:DAYLIGHT
BEGIN:STANDARD
TZOFFSETFROM:-0400
TZOFFSETTO:-0500
TZNAME:EST
DTSTART:20211107T060000
END:STANDARD
BEGIN:DAYLIGHT
TZOFFSETFROM:-0500
TZOFFSETTO:-0400
TZNAME:EDT
DTSTART:20220313T070000
END:DAYLIGHT
BEGIN:STANDARD
TZOFFSETFROM:-0400
TZOFFSETTO:-0500
TZNAME:EST
DTSTART:20221106T060000
END:STANDARD
BEGIN:DAYLIGHT
TZOFFSETFROM:-0500
TZOFFSETTO:-0400
TZNAME:EDT
DTSTART:20230312T070000
END:DAYLIGHT
BEGIN:STANDARD
TZOFFSETFROM:-0400
TZOFFSETTO:-0500
TZNAME:EST
DTSTART:20231105T060000
END:STANDARD
BEGIN:DAYLIGHT
TZOFFSETFROM:-0500
TZOFFSETTO:-0400
TZNAME:EDT
DTSTART:20240310T070000
END:DAYLIGHT
BEGIN:STANDARD
TZOFFSETFROM:-0400
TZOFFSETTO:-0500
TZNAME:EST
DTSTART:20241103T060000
END:STANDARD
END:VTIMEZONE
BEGIN:VEVENT
DTSTART;TZID=America/New_York:20221202T100000
DTEND;TZID=America/New_York:20221202T110000
DTSTAMP:20260419T202123
CREATED:20221018T142858Z
LAST-MODIFIED:20221107T181521Z
UID:10000341-1669975200-1669978800@www.med.unc.edu
SUMMARY:CompMed Research in Progress
DESCRIPTION:Presenter: Sarah Van Alsten \nTalk Title: “Genomic algorithms to distinguish recurrent and second primary breast tumors”
URL:https://www.med.unc.edu/compmed/event/compmed-research-in-progress-29/
LOCATION:Mary Ellen Jones 3112\, 116 Manning Drive\, Chapel Hill\, NC\, 27514
ATTACH;FMTTYPE=image/jpeg:https://www.med.unc.edu/compmed/wp-content/uploads/sites/852/2022/10/Sarah-Van-Alsten.jpg
ORGANIZER;CN="Victoria Doyle":MAILTO:vdoyle@email.unc.edu
END:VEVENT
BEGIN:VEVENT
DTSTART;TZID=America/New_York:20221209T100000
DTEND;TZID=America/New_York:20221209T110000
DTSTAMP:20260419T202123
CREATED:20221207T211012Z
LAST-MODIFIED:20221207T211228Z
UID:10000347-1670580000-1670583600@www.med.unc.edu
SUMMARY:No Meeting - Research in Progress
DESCRIPTION:No Research in Progress today\, have a safe Holiday and see you January 6\, 2023
URL:https://www.med.unc.edu/compmed/event/no-research-in-progress/
LOCATION:NC
ORGANIZER;CN="Victoria Doyle":MAILTO:vdoyle@email.unc.edu
END:VEVENT
BEGIN:VEVENT
DTSTART;TZID=America/New_York:20221215T140000
DTEND;TZID=America/New_York:20221215T150000
DTSTAMP:20260419T202123
CREATED:20220908T145923Z
LAST-MODIFIED:20221207T211338Z
UID:10000333-1671112800-1671116400@www.med.unc.edu
SUMMARY:CompMed Seminar
DESCRIPTION:Presenter: Amy Brock PhD\nAssociate Professor\nRaymond F. Dawson Centennial Fellow\nThe University of Texas at Austin | Biomedical Engineering\, Institute for Cell and Molecular Biology \nTalk title: Tracking population heterogeneity and the dynamics of chemoresistance
URL:https://www.med.unc.edu/compmed/event/compmed-seminar-7/
LOCATION:Bioinformatics Building\, Room 1131\, 130 Mason Farm Rd\, Chapel Hill\, NC\, 27514\, United States
ATTACH;FMTTYPE=image/jpeg:https://www.med.unc.edu/compmed/wp-content/uploads/sites/852/2022/09/Brock_headshot_2022-scaled.jpg
ORGANIZER;CN="Victoria Doyle":MAILTO:vdoyle@email.unc.edu
END:VEVENT
BEGIN:VEVENT
DTSTART;TZID=America/New_York:20221216T100000
DTEND;TZID=America/New_York:20221216T110000
DTSTAMP:20260419T202123
CREATED:20221018T144018Z
LAST-MODIFIED:20221018T144219Z
UID:10000345-1671184800-1671188400@www.med.unc.edu
SUMMARY:No Meeting - Research in Progress Winter Holiday
DESCRIPTION:No Meeting – Research in Progress Winter Holiday
URL:https://www.med.unc.edu/compmed/event/no-meeting-research-in-progress-winter-holiday/
LOCATION:NC
ORGANIZER;CN="Victoria Doyle":MAILTO:vdoyle@email.unc.edu
END:VEVENT
BEGIN:VEVENT
DTSTART;VALUE=DATE:20221227
DTEND;VALUE=DATE:20230103
DTSTAMP:20260419T202123
CREATED:20221128T173725Z
LAST-MODIFIED:20221128T173725Z
UID:10000346-1672099200-1672703999@www.med.unc.edu
SUMMARY:Holiday
DESCRIPTION:
URL:https://www.med.unc.edu/compmed/event/holiday/
LOCATION:NC
ORGANIZER;CN="Victoria Doyle":MAILTO:vdoyle@email.unc.edu
END:VEVENT
END:VCALENDAR