BEGIN:VCALENDAR
VERSION:2.0
PRODID:-//Computational Medicine - ECPv6.15.18//NONSGML v1.0//EN
CALSCALE:GREGORIAN
METHOD:PUBLISH
X-ORIGINAL-URL:https://www.med.unc.edu/compmed
X-WR-CALDESC:Events for Computational Medicine
REFRESH-INTERVAL;VALUE=DURATION:PT1H
X-Robots-Tag:noindex
X-PUBLISHED-TTL:PT1H
BEGIN:VTIMEZONE
TZID:America/New_York
BEGIN:DAYLIGHT
TZOFFSETFROM:-0500
TZOFFSETTO:-0400
TZNAME:EDT
DTSTART:20230312T070000
END:DAYLIGHT
BEGIN:STANDARD
TZOFFSETFROM:-0400
TZOFFSETTO:-0500
TZNAME:EST
DTSTART:20231105T060000
END:STANDARD
BEGIN:DAYLIGHT
TZOFFSETFROM:-0500
TZOFFSETTO:-0400
TZNAME:EDT
DTSTART:20240310T070000
END:DAYLIGHT
BEGIN:STANDARD
TZOFFSETFROM:-0400
TZOFFSETTO:-0500
TZNAME:EST
DTSTART:20241103T060000
END:STANDARD
BEGIN:DAYLIGHT
TZOFFSETFROM:-0500
TZOFFSETTO:-0400
TZNAME:EDT
DTSTART:20250309T070000
END:DAYLIGHT
BEGIN:STANDARD
TZOFFSETFROM:-0400
TZOFFSETTO:-0500
TZNAME:EST
DTSTART:20251102T060000
END:STANDARD
END:VTIMEZONE
BEGIN:VEVENT
DTSTART;TZID=America/New_York:20240906T100000
DTEND;TZID=America/New_York:20240906T110000
DTSTAMP:20260419T152842
CREATED:20240725T175812Z
LAST-MODIFIED:20240730T183601Z
UID:10000415-1725616800-1725620400@www.med.unc.edu
SUMMARY:Research in Progress | Adam Palmer\, PhD
DESCRIPTION:
URL:https://www.med.unc.edu/compmed/event/research-in-progress-adam-palmer/
LOCATION:Mary Ellen Jones 3112\, 116 Manning Drive\, Chapel Hill\, NC\, 27514
END:VEVENT
BEGIN:VEVENT
DTSTART;TZID=America/New_York:20240913T100000
DTEND;TZID=America/New_York:20240913T110000
DTSTAMP:20260419T152842
CREATED:20240729T220228Z
LAST-MODIFIED:20240729T220333Z
UID:10000417-1726221600-1726225200@www.med.unc.edu
SUMMARY:Research in Progress | Amy Shaub Maddox\, PhD
DESCRIPTION:
URL:https://www.med.unc.edu/compmed/event/research-in-progress-amy-shaub-maddox-phd/
LOCATION:Mary Ellen Jones 3112\, 116 Manning Drive\, Chapel Hill\, NC\, 27514
END:VEVENT
BEGIN:VEVENT
DTSTART;TZID=America/New_York:20240919T140000
DTEND;TZID=America/New_York:20240919T150000
DTSTAMP:20260419T152842
CREATED:20240725T172815Z
LAST-MODIFIED:20240725T180012Z
UID:10000414-1726754400-1726758000@www.med.unc.edu
SUMMARY:Seminar with Melissa Kemp\, PhD
DESCRIPTION:CompMed Seminar (In-person) \n  \nAbout the speaker: \nMelissa L. Kemp received her B.S. in nuclear engineering\, minoring in biomedical engineering\, from the Massachusetts Institute of Technology (MIT) and her Ph.D. in Bioengineering from the University of Washington. Following postdoctoral work as a CSBi/Merck Fellow in Biological Engineering at MIT\, she joined the Wallace H. Coulter Department of Biomedical Engineering faculty at Georgia Institute of Technology and Emory University in 2006. \nAs a Carol Ann & David D. Flanagan Professor and Georgia Cancer Coalition Distinguished Scholar\, Dr. Kemp’s research program focuses on the development of computational systems biology methods to investigate two overarching themes in cancer\, immunology\, and regenerative medicine applications: i) the role of cellular redox metabolism in influencing information processing and cell fate decisions; and ii) modes of communication that drive self-organization in multicellular engineered living systems. \nDr. Kemp is currently the research director of a multi-institutional NSF Engineering Research Center in Cell Manufacturing Technologies and is the former co-chair of the NCI Cancer Systems Biology Consortium. Dr. Kemp’s career honors include Georgia Cancer Coalition Distinguished Scholar and NIH New Innovator. \n  \n  \n \n  \n 
URL:https://www.med.unc.edu/compmed/event/seminar-with-melissa-kemp-phd/
LOCATION:Bioinformatics Building\, Room 1131\, 130 Mason Farm Rd\, Chapel Hill\, NC\, 27514\, United States
ATTACH;FMTTYPE=image/jpeg:https://www.med.unc.edu/compmed/wp-content/uploads/sites/852/2024/07/portrait.jpeg
END:VEVENT
BEGIN:VEVENT
DTSTART;TZID=America/New_York:20240920T100000
DTEND;TZID=America/New_York:20240920T110000
DTSTAMP:20260419T152842
CREATED:20240725T180320Z
LAST-MODIFIED:20240730T183515Z
UID:10000416-1726826400-1726830000@www.med.unc.edu
SUMMARY:Research in Progress | Can Chen\, PhD
DESCRIPTION:  \n\nIn-person meeting:\n\nMary Ellen Jones 3112 \n\nVirtual meeting\n\nTopic: Research in Progress \nTime: Sep 20\, 2024 10:00 AM Eastern Time (US and Canada) \nJoin Zoom Meeting \nhttps://zoom.us/j/3800446913?pwd=KzVzZHZIbUR1RmxaUEJjMXpoenJkdz09&omn=92518233946 \nMeeting ID: 380 044 6913 \nPasscode: RESEARCH \n  \n 
URL:https://www.med.unc.edu/compmed/event/research-in-progress-can-chen/
LOCATION:Mary Ellen Jones 3112\, 116 Manning Drive\, Chapel Hill\, NC\, 27514
END:VEVENT
END:VCALENDAR