BEGIN:VCALENDAR
VERSION:2.0
PRODID:-//Computational Medicine - ECPv6.15.18//NONSGML v1.0//EN
CALSCALE:GREGORIAN
METHOD:PUBLISH
X-ORIGINAL-URL:https://www.med.unc.edu/compmed
X-WR-CALDESC:Events for Computational Medicine
REFRESH-INTERVAL;VALUE=DURATION:PT1H
X-Robots-Tag:noindex
X-PUBLISHED-TTL:PT1H
BEGIN:VTIMEZONE
TZID:America/New_York
BEGIN:DAYLIGHT
TZOFFSETFROM:-0500
TZOFFSETTO:-0400
TZNAME:EDT
DTSTART:20230312T070000
END:DAYLIGHT
BEGIN:STANDARD
TZOFFSETFROM:-0400
TZOFFSETTO:-0500
TZNAME:EST
DTSTART:20231105T060000
END:STANDARD
BEGIN:DAYLIGHT
TZOFFSETFROM:-0500
TZOFFSETTO:-0400
TZNAME:EDT
DTSTART:20240310T070000
END:DAYLIGHT
BEGIN:STANDARD
TZOFFSETFROM:-0400
TZOFFSETTO:-0500
TZNAME:EST
DTSTART:20241103T060000
END:STANDARD
BEGIN:DAYLIGHT
TZOFFSETFROM:-0500
TZOFFSETTO:-0400
TZNAME:EDT
DTSTART:20250309T070000
END:DAYLIGHT
BEGIN:STANDARD
TZOFFSETFROM:-0400
TZOFFSETTO:-0500
TZNAME:EST
DTSTART:20251102T060000
END:STANDARD
BEGIN:DAYLIGHT
TZOFFSETFROM:-0500
TZOFFSETTO:-0400
TZNAME:EDT
DTSTART:20260308T070000
END:DAYLIGHT
BEGIN:STANDARD
TZOFFSETFROM:-0400
TZOFFSETTO:-0500
TZNAME:EST
DTSTART:20261101T060000
END:STANDARD
END:VTIMEZONE
BEGIN:VEVENT
DTSTART;TZID=America/New_York:20251010T100000
DTEND;TZID=America/New_York:20251010T110000
DTSTAMP:20260424T121928
CREATED:20250815T154720Z
LAST-MODIFIED:20250917T132418Z
UID:10000457-1760090400-1760094000@www.med.unc.edu
SUMMARY:Research in Progress | Tarek Zikry\, PhD
DESCRIPTION:In-person | Mary Ellen Jones Room 3116\nVirtual |  ZOOM Passcode | RESEARCH
URL:https://www.med.unc.edu/compmed/event/research-in-progress-tarek-zikry-phd/
LOCATION:Mary Ellen Jones 3116\, 116 Manning Drive\, Chapel Hill\, NC\, 27599\, United States
ATTACH;FMTTYPE=image/jpeg:https://www.med.unc.edu/compmed/wp-content/uploads/sites/852/2025/08/headshot27614-scaled.jpeg
END:VEVENT
BEGIN:VEVENT
DTSTART;TZID=America/New_York:20251003T100000
DTEND;TZID=America/New_York:20251003T110000
DTSTAMP:20260424T121928
CREATED:20250815T154620Z
LAST-MODIFIED:20250918T173537Z
UID:10000456-1759485600-1759489200@www.med.unc.edu
SUMMARY:Research in Progress | Ran Zhang\, PhD
DESCRIPTION:In-person | Mary Ellen Jones Room 3116\nVirtual |  ZOOM Passcode | RESEARCH\n\n\n\n\n—
URL:https://www.med.unc.edu/compmed/event/research-in-progress-ran-zhang-phd/
LOCATION:Mary Ellen Jones 3116\, 116 Manning Drive\, Chapel Hill\, NC\, 27599\, United States
ATTACH;FMTTYPE=image/png:https://www.med.unc.edu/compmed/wp-content/uploads/sites/852/2025/08/RanZhang_profilepic.png
END:VEVENT
BEGIN:VEVENT
DTSTART;TZID=America/New_York:20250919T100000
DTEND;TZID=America/New_York:20250919T110000
DTSTAMP:20260424T121928
CREATED:20250815T154437Z
LAST-MODIFIED:20250819T133715Z
UID:10000455-1758276000-1758279600@www.med.unc.edu
SUMMARY:Research in Progress | Dirk Dittmer\, PhD
DESCRIPTION:In-person | Mary Ellen Jones Room 3116\nVirtual |  ZOOM Passcode | RESEARCH\n\n\n\n\n\n—\n\n\nTopic: Research in Progress | Dirk Dittmer\, PhD\nTime: Sep 19\, 2025 10:00 AM Eastern Time (US and Canada)\nJoin Zoom Meeting\nhttps://zoom.us/j/3800446913?pwd=y6m0TQhYEMiCpBygUYSndIWKyHm1du.1&omn=98906297349 \nMeeting ID: 380 044 6913\nPasscode: RESEARCH
URL:https://www.med.unc.edu/compmed/event/research-in-progress-dirk-dittmer-phd/
LOCATION:Mary Ellen Jones 3116\, 116 Manning Drive\, Chapel Hill\, NC\, 27599\, United States
END:VEVENT
BEGIN:VEVENT
DTSTART;TZID=America/New_York:20250912T100000
DTEND;TZID=America/New_York:20250912T110000
DTSTAMP:20260424T121928
CREATED:20250815T153906Z
LAST-MODIFIED:20250819T133551Z
UID:10000454-1757671200-1757674800@www.med.unc.edu
SUMMARY:Research in Progress | Stephanie Ting\, Hoadley Lab
DESCRIPTION:In-person | Mary Ellen Jones Room 3116\nVirtual |  ZOOM Passcode | RESEARCH\n\n\n\n\n\n\n—-\n\nTopic: Research in Progress | Stephanie Ting\nTime: Sep 12\, 2025 10:00 AM Eastern Time (US and Canada)\nJoin Zoom Meeting\nhttps://zoom.us/j/3800446913?pwd=y6m0TQhYEMiCpBygUYSndIWKyHm1du.1&omn=95147872970 \nMeeting ID: 380 044 6913\nPasscode: RESEARCH
URL:https://www.med.unc.edu/compmed/event/research-in-progress-stephanie-ting-hoadley-lab/
LOCATION:Mary Ellen Jones 3116\, 116 Manning Drive\, Chapel Hill\, NC\, 27599\, United States
END:VEVENT
BEGIN:VEVENT
DTSTART;TZID=America/New_York:20250905T100000
DTEND;TZID=America/New_York:20250905T110000
DTSTAMP:20260424T121928
CREATED:20250815T153118Z
LAST-MODIFIED:20250815T153424Z
UID:10000453-1757066400-1757070000@www.med.unc.edu
SUMMARY:Research in Progress | Jin Seok (Andy) Lee\, Rubinsteyn and Vincent Labs
DESCRIPTION:In-person | Mary Ellen Jones Room 3116\nVirtual |  ZOOM Passcode | RESEARCH\n\n\n\n\n\n\n\n\n\n—\n\n\nTopic: Research In Progress | Jin Seok (Andy) Lee\nTime: Sep 5\, 2025 10:00 AM Eastern Time (US and Canada)\nJoin Zoom Meeting\nhttps://zoom.us/j/3800446913?pwd=y6m0TQhYEMiCpBygUYSndIWKyHm1du.1&omn=92662295715\n\nMeeting ID: 380 044 6913\nPasscode: RESEARCH
URL:https://www.med.unc.edu/compmed/event/research-in-progress-jin-seok-andy-lee-rubinsteyn-and-vincent-labs/
LOCATION:Mary Ellen Jones 3116\, 116 Manning Drive\, Chapel Hill\, NC\, 27599\, United States
END:VEVENT
BEGIN:VEVENT
DTSTART;TZID=America/New_York:20250516T100000
DTEND;TZID=America/New_York:20250516T110000
DTSTAMP:20260424T121928
CREATED:20241205T173519Z
LAST-MODIFIED:20250509T171909Z
UID:10000446-1747389600-1747393200@www.med.unc.edu
SUMMARY:Research in Progress | Kalika Kamat (M Ferris/M Heise Labs)
DESCRIPTION:In-person | Mary Ellen Jones 3116 \nVirtual |  ZOOM LINK  (passcode RESEARCH)
URL:https://www.med.unc.edu/compmed/event/research-in-progress-kalika-kamat-ferris-heise-labs/
LOCATION:Mary Ellen Jones 3116\, 116 Manning Drive\, Chapel Hill\, NC\, 27599\, United States
END:VEVENT
BEGIN:VEVENT
DTSTART;TZID=America/New_York:20250509T100000
DTEND;TZID=America/New_York:20250509T110000
DTSTAMP:20260424T121928
CREATED:20241205T173425Z
LAST-MODIFIED:20250417T142949Z
UID:10000445-1746784800-1746788400@www.med.unc.edu
SUMMARY:Research in Progress | Tim Daugird (Purvis lab)
DESCRIPTION:In-person | Mary Ellen Jones 3116 \nVirtual |  ZOOM LINK  (passcode RESEARCH) \n 
URL:https://www.med.unc.edu/compmed/event/research-in-progress-tim-daugird-purvis-lab/
LOCATION:Mary Ellen Jones 3116\, 116 Manning Drive\, Chapel Hill\, NC\, 27599\, United States
END:VEVENT
BEGIN:VEVENT
DTSTART;TZID=America/New_York:20250404T100000
DTEND;TZID=America/New_York:20250404T110000
DTSTAMP:20260424T121928
CREATED:20241205T173109Z
LAST-MODIFIED:20250313T171024Z
UID:10000442-1743760800-1743764400@www.med.unc.edu
SUMMARY:Research in Progress | Chudi Zhong\, PhD.
DESCRIPTION:In-person | Mary Ellen Jones 3116 \nVirtual |  ZOOM LINK  (passcode RESEARCH) \n 
URL:https://www.med.unc.edu/compmed/event/research-in-progress-chudi-zhong/
LOCATION:Mary Ellen Jones 3116\, 116 Manning Drive\, Chapel Hill\, NC\, 27599\, United States
END:VEVENT
BEGIN:VEVENT
DTSTART;TZID=America/New_York:20250321T100000
DTEND;TZID=America/New_York:20250321T110000
DTSTAMP:20260424T121928
CREATED:20241205T172658Z
LAST-MODIFIED:20250219T172339Z
UID:10000441-1742551200-1742554800@www.med.unc.edu
SUMMARY:Research in Progress | Weitong Zhang
DESCRIPTION:In-person | Mary Ellen Jones 3116 \nVirtual |  ZOOM LINK  (passcode RESEARCH) \nTITLE: On exact energy guided diffusion model and diffusion-based offline reinforcement learning \nAbstract: Guided generative models are pivotal in advancing the applications of generative modeling. In this talk\, I will explore energy guidance in diffusion and flow matching models–a generalized formulation that extends beyond conventional diffusion models. By leveraging energy guidance\, generative models are encouraged to produce samples with higher energy from the target data distribution. I will introduce energy-weighted diffusion model and flow matching model\, with efficient implementation and offering new theoretical insights. In the second half of the presentation\, I will discuss the extension of this approach to offline reinforcement learning through Q-weighted iterative policy optimization\, which shows notable performance improvements across various offline RL tasks. \n\nShort Bio: Weitong Zhang joined the School of Data Science and Society at the University of North Carolina at Chapel Hill as an assistant professor after completing his Ph.D. degree in computer science at the University of California\, Los Angeles. His research focuses on developing robust and efficient reinforcement learning algorithms\, emphasizing generative models and their applications in scientific discovery. \n 
URL:https://www.med.unc.edu/compmed/event/research-in-progress-weitong-zhang/
LOCATION:Mary Ellen Jones 3116\, 116 Manning Drive\, Chapel Hill\, NC\, 27599\, United States
END:VEVENT
BEGIN:VEVENT
DTSTART;TZID=America/New_York:20250307T100000
DTEND;TZID=America/New_York:20250307T110000
DTSTAMP:20260424T121928
CREATED:20241205T171729Z
LAST-MODIFIED:20250214T151603Z
UID:10000439-1741341600-1741345200@www.med.unc.edu
SUMMARY:Research in Progress | Abdalla Alkhawaja (Mohlke & Furey labs)
DESCRIPTION:In-person | Mary Ellen Jones 3116 \nVirtual |  ZOOM LINK  (passcode RESEARCH) \n 
URL:https://www.med.unc.edu/compmed/event/research-in-progress-abdalla-alkhawaja-mohlke-furey-labs/
LOCATION:Mary Ellen Jones 3116\, 116 Manning Drive\, Chapel Hill\, NC\, 27599\, United States
END:VEVENT
BEGIN:VEVENT
DTSTART;TZID=America/New_York:20250221T100000
DTEND;TZID=America/New_York:20250221T110000
DTSTAMP:20260424T121928
CREATED:20241205T171540Z
LAST-MODIFIED:20250123T204501Z
UID:10000438-1740132000-1740135600@www.med.unc.edu
SUMMARY:Research in Progress | Luvna Dhawka (Stanley Lab)
DESCRIPTION:In-person | Mary Ellen Jones 3116 \nVirtual |  ZOOM LINK  (passcode RESEARCH)
URL:https://www.med.unc.edu/compmed/event/research-in-progress-luvna-dhawka-stanley-lab/
LOCATION:Mary Ellen Jones 3116\, 116 Manning Drive\, Chapel Hill\, NC\, 27599\, United States
END:VEVENT
BEGIN:VEVENT
DTSTART;TZID=America/New_York:20250214T100000
DTEND;TZID=America/New_York:20250214T110000
DTSTAMP:20260424T121928
CREATED:20241205T171459Z
LAST-MODIFIED:20250219T171353Z
UID:10000437-1739527200-1739530800@www.med.unc.edu
SUMMARY:Research in Progress | Ryan Videgar-Laird (Hoadley Lab)
DESCRIPTION:In-person | Mary Ellen Jones 3116 \nVirtual |  ZOOM LINK  (passcode RESEARCH) \n 
URL:https://www.med.unc.edu/compmed/event/research-in-progress-ryan-videgar-laird-hoadley-lab/
LOCATION:Mary Ellen Jones 3116\, 116 Manning Drive\, Chapel Hill\, NC\, 27599\, United States
END:VEVENT
BEGIN:VEVENT
DTSTART;TZID=America/New_York:20250207T100000
DTEND;TZID=America/New_York:20250207T110000
DTSTAMP:20260424T121928
CREATED:20241205T171353Z
LAST-MODIFIED:20250123T204414Z
UID:10000436-1738922400-1738926000@www.med.unc.edu
SUMMARY:Research in Progress | Amartya Banerjee (Moosmueller\, Lee)
DESCRIPTION:In-person | Mary Ellen Jones 3116 \nVirtual |  ZOOM LINK  (passcode RESEARCH)
URL:https://www.med.unc.edu/compmed/event/research-in-progress-amartya-banerjee-moosmueller-lee/
LOCATION:Mary Ellen Jones 3116\, 116 Manning Drive\, Chapel Hill\, NC\, 27599\, United States
END:VEVENT
BEGIN:VEVENT
DTSTART;TZID=America/New_York:20250124T100000
DTEND;TZID=America/New_York:20250124T110000
DTSTAMP:20260424T121928
CREATED:20241205T171223Z
LAST-MODIFIED:20241212T162959Z
UID:10000435-1737712800-1737716400@www.med.unc.edu
SUMMARY:Research in Progress | Omar Merhebi (Purvis Lab)
DESCRIPTION:  \nIn-person | Mary Ellen Jones 3116 \nVirtual |  ZOOM LINK  (passcode RESEARCH)
URL:https://www.med.unc.edu/compmed/event/research-in-progress-omar-merhebi-purvis-lab/
LOCATION:Mary Ellen Jones 3116\, 116 Manning Drive\, Chapel Hill\, NC\, 27599\, United States
END:VEVENT
BEGIN:VEVENT
DTSTART;TZID=America/New_York:20250117T100000
DTEND;TZID=America/New_York:20250117T110000
DTSTAMP:20260424T121928
CREATED:20241205T171038Z
LAST-MODIFIED:20241212T143742Z
UID:10000434-1737108000-1737111600@www.med.unc.edu
SUMMARY:Research in Progress | Kathy Guan (Elston Lab)
DESCRIPTION:In-person | Mary Ellen Jones 3116 \nVirtual |  ZOOM LINK  (passcode RESEARCH) \n 
URL:https://www.med.unc.edu/compmed/event/research-in-progress-burchette-cherednik-kodali/
LOCATION:Mary Ellen Jones 3116\, 116 Manning Drive\, Chapel Hill\, NC\, 27599\, United States
END:VEVENT
BEGIN:VEVENT
DTSTART;TZID=America/New_York:20250110T100000
DTEND;TZID=America/New_York:20250110T110000
DTSTAMP:20260424T121928
CREATED:20241205T170841Z
LAST-MODIFIED:20241212T143219Z
UID:10000433-1736503200-1736506800@www.med.unc.edu
SUMMARY:Research in Progress | Anna Michmerhuizen (Perou Lab)
DESCRIPTION:In-person | Mary Ellen Jones 3116 \nVirtual |  ZOOM LINK  (passcode RESEARCH) \n 
URL:https://www.med.unc.edu/compmed/event/research-in-progress-anna-michmerhuizen-perou-lab/
LOCATION:Mary Ellen Jones 3116\, 116 Manning Drive\, Chapel Hill\, NC\, 27599\, United States
END:VEVENT
BEGIN:VEVENT
DTSTART;TZID=America/New_York:20241206T100000
DTEND;TZID=America/New_York:20241206T110000
DTSTAMP:20260424T121928
CREATED:20240916T200929Z
LAST-MODIFIED:20241118T225748Z
UID:10000425-1733479200-1733482800@www.med.unc.edu
SUMMARY:Research in Progress | Jennifer Modliszewski\, PhD
DESCRIPTION:  \n\nIn-person meeting:\n\nMary Ellen Jones 3116 \n\nVirtual Meeting\n\nTopic: Research in Progress \nTime: Dec 6\, 2024\, 10:00 AM Eastern Time (US and Canada) \nJoin Zoom Meeting \nhttps://zoom.us/j/3800446913?pwd=KzVzZHZIbUR1RmxaUEJjMXpoenJkdz09&omn=92593587739 \nMeeting ID: 380 044 6913 \nPasscode: RESEARCH \n 
URL:https://www.med.unc.edu/compmed/event/research-in-progress-jen-modliszewski-phd/
LOCATION:Mary Ellen Jones 3116\, 116 Manning Drive\, Chapel Hill\, NC\, 27599\, United States
END:VEVENT
BEGIN:VEVENT
DTSTART;TZID=America/New_York:20240517T100000
DTEND;TZID=America/New_York:20240517T110000
DTSTAMP:20260424T121928
CREATED:20240417T195113Z
LAST-MODIFIED:20240417T195113Z
UID:10000409-1715940000-1715943600@www.med.unc.edu
SUMMARY:Research in Progress
DESCRIPTION:Presenter: Amjad Dabi\, Scrider Lab \nTalk Title: “Evolutionary Simulations of Treatment Response in Cancer”
URL:https://www.med.unc.edu/compmed/event/research-in-progress-12/
LOCATION:Mary Ellen Jones 3116\, 116 Manning Drive\, Chapel Hill\, NC\, 27599\, United States
ATTACH;FMTTYPE=image/jpeg:https://www.med.unc.edu/compmed/wp-content/uploads/sites/852/2024/04/Amjad-Dabi.jpg
ORGANIZER;CN="Victoria Doyle":MAILTO:vdoyle@email.unc.edu
END:VEVENT
BEGIN:VEVENT
DTSTART;TZID=America/New_York:20240510T100000
DTEND;TZID=America/New_York:20240510T110000
DTSTAMP:20260424T121928
CREATED:20240417T194130Z
LAST-MODIFIED:20240417T194156Z
UID:10000408-1715335200-1715338800@www.med.unc.edu
SUMMARY:Research in Progress
DESCRIPTION:Presenter: Matthew Sutcliffe\, Perou Lab \nTalk Title: Prognostic and predictive modeling in diverse mouse models of triple-negative breast cancer
URL:https://www.med.unc.edu/compmed/event/research-in-progress-11/
LOCATION:Mary Ellen Jones 3116\, 116 Manning Drive\, Chapel Hill\, NC\, 27599\, United States
ATTACH;FMTTYPE=image/jpeg:https://www.med.unc.edu/compmed/wp-content/uploads/sites/852/2024/04/Matthew-Sutcliffe.jpg
ORGANIZER;CN="Victoria Doyle":MAILTO:vdoyle@email.unc.edu
END:VEVENT
BEGIN:VEVENT
DTSTART;TZID=America/New_York:20240507T110000
DTEND;TZID=America/New_York:20240507T120000
DTSTAMP:20260424T121928
CREATED:20240501T162049Z
LAST-MODIFIED:20240501T162049Z
UID:10000410-1715079600-1715083200@www.med.unc.edu
SUMMARY:Seminar
DESCRIPTION:Guest Speaker: \nDefang Ouyang\, PhD\, Associate Professor\, University of Macau \n  \nTalk title: \nOpportunity and Challenge of Artificial Intelligence (AI) in Drug Delivery \n  \nBio: \nProf. Ouyang has a multidisciplinary background in pharmaceutics & computer modeling\, with experience in academia and industry. He obtained his bachelor’s (2000) and master’s (2005) in pharmaceutics from Shenyang Pharmaceutical University\, China. He completed his PhD in pharmacy at The University of Queensland\, Australia\, in 2010 and progressed directly to his faculty position (Lecturer in Pharmaceutics\, PI) at Aston University (UK). At the end of 2014\, he moved to the University of Macau. \nSince 2011\, he has pioneered the integration of multi-scale modeling\, artificial intelligence and big data techniques in the field of drug delivery – “computational pharmaceutics“. He has published 2 books\, 5 book chapters\, over 100 refereed SCI journal papers\, and over 100 invited talks. He held 11 approved patents\, which had been used in medicinal products. In this research area\, he edited the first book <Computational Pharmaceutics – The Application of Molecular Modeling in Drug Delivery> (John Wiley & Sons Inc.\, 2015). He serves as the associate editor of <Drug Delivery and Translational Research>\, editorial board/scientific advisor of <Asian Journal of Pharmaceutical Sciences>\, <Pharmaceutical Research> and <Journal of Pharmaceutical Sciences>. He established the first artificial intelligence (AI)-based formulation platform (FormulationAI). He successfully trained 6 PhD and 30 master’s students. \nHis research focused on computational pharmaceutics\, including: \n\nArtificial intelligence (AI) of pharmaceutical formulations: to build the database of pharmaceutical formulations and predict pharmaceutical formulations by machine learning approaches;\nMulti-scale modeling in drug delivery: to integrate quantum mechanics (QM)\, molecular dynamics (MD)\, and physiologically based pharmacokinetic (PBPK) modeling into drug delivery systems;\nPharmacoinformatics: big data analysis of pharmaceutical information from the literature\, patent\, clinical trial\, and marketed products.
URL:https://www.med.unc.edu/compmed/event/seminar-4/
LOCATION:Mary Ellen Jones 3116\, 116 Manning Drive\, Chapel Hill\, NC\, 27599\, United States
ATTACH;FMTTYPE=image/jpeg:https://www.med.unc.edu/compmed/wp-content/uploads/sites/852/2024/05/Defang-Ouyang.jpg
ORGANIZER;CN="Victoria Doyle":MAILTO:vdoyle@email.unc.edu
END:VEVENT
BEGIN:VEVENT
DTSTART;TZID=America/New_York:20240503T100000
DTEND;TZID=America/New_York:20240503T110000
DTSTAMP:20260424T121928
CREATED:20240417T183145Z
LAST-MODIFIED:20240417T183145Z
UID:10000407-1714730400-1714734000@www.med.unc.edu
SUMMARY:Research in Progress
DESCRIPTION:Presenter: Mikayla Feldbauer\, Hoadley Lab \nTalk Title: Spatial transcriptomic determinants of clinical-molecular congruence and subtype switching in metastatic breast cancer
URL:https://www.med.unc.edu/compmed/event/research-in-progress-10/
LOCATION:Mary Ellen Jones 3116\, 116 Manning Drive\, Chapel Hill\, NC\, 27599\, United States
ATTACH;FMTTYPE=image/jpeg:https://www.med.unc.edu/compmed/wp-content/uploads/sites/852/2024/04/Mikayla-Feldbauer.jpg
ORGANIZER;CN="Victoria Doyle":MAILTO:vdoyle@email.unc.edu
END:VEVENT
BEGIN:VEVENT
DTSTART;TZID=America/New_York:20240419T100000
DTEND;TZID=America/New_York:20240419T110000
DTSTAMP:20260424T121928
CREATED:20240322T202244Z
LAST-MODIFIED:20240322T202244Z
UID:10000404-1713520800-1713524400@www.med.unc.edu
SUMMARY:Research in Progress
DESCRIPTION:Presenter: Fariha Rahman (Legant Lab) \nTalk Title: Multiplexed super-resolution fluorescence microscopy of the human nuclear
URL:https://www.med.unc.edu/compmed/event/research-in-progress-9/
LOCATION:Mary Ellen Jones 3116\, 116 Manning Drive\, Chapel Hill\, NC\, 27599\, United States
ATTACH;FMTTYPE=image/png:https://www.med.unc.edu/compmed/wp-content/uploads/sites/852/2024/03/Fariha-Rahman.png
ORGANIZER;CN="Victoria Doyle":MAILTO:vdoyle@email.unc.edu
END:VEVENT
BEGIN:VEVENT
DTSTART;TZID=America/New_York:20240412T100000
DTEND;TZID=America/New_York:20240412T110000
DTSTAMP:20260424T121928
CREATED:20240223T213320Z
LAST-MODIFIED:20240223T213320Z
UID:10000400-1712916000-1712919600@www.med.unc.edu
SUMMARY:Research in Progress
DESCRIPTION:Presenter: Natalie Stanley \nTalk Title: Microglia Clocks of Aging
URL:https://www.med.unc.edu/compmed/event/research-in-progress-7/
LOCATION:Mary Ellen Jones 3116\, 116 Manning Drive\, Chapel Hill\, NC\, 27599\, United States
ATTACH;FMTTYPE=image/jpeg:https://www.med.unc.edu/compmed/wp-content/uploads/sites/852/2022/01/Natalie-Stanley-Profile.jpg
ORGANIZER;CN="Victoria Doyle":MAILTO:vdoyle@email.unc.edu
END:VEVENT
BEGIN:VEVENT
DTSTART;TZID=America/New_York:20240405T100000
DTEND;TZID=America/New_York:20240405T110000
DTSTAMP:20260424T121928
CREATED:20240322T182428Z
LAST-MODIFIED:20240322T202944Z
UID:10000403-1712311200-1712314800@www.med.unc.edu
SUMMARY:Research in Progress
DESCRIPTION:Presenter: Sam Wolff\, Assistant Professor \nTalk Title: Understanding Fractional Resistance in ER+/HER2- Breast Cancer: A Team Approach
URL:https://www.med.unc.edu/compmed/event/research-in-progress-8/
LOCATION:Mary Ellen Jones 3116\, 116 Manning Drive\, Chapel Hill\, NC\, 27599\, United States
ATTACH;FMTTYPE=image/jpeg:https://www.med.unc.edu/compmed/wp-content/uploads/sites/852/2024/03/Sam-Wolff.jpg
ORGANIZER;CN="Victoria Doyle":MAILTO:vdoyle@email.unc.edu
END:VEVENT
BEGIN:VEVENT
DTSTART;TZID=America/New_York:20240315T100000
DTEND;TZID=America/New_York:20240315T110000
DTSTAMP:20260424T121928
CREATED:20240223T211824Z
LAST-MODIFIED:20240223T211824Z
UID:10000399-1710496800-1710500400@www.med.unc.edu
SUMMARY:No Research in Progress
DESCRIPTION:There is no meeting today. Enjoy your weekend!
URL:https://www.med.unc.edu/compmed/event/no-research-in-progress-3/
LOCATION:Mary Ellen Jones 3116\, 116 Manning Drive\, Chapel Hill\, NC\, 27599\, United States
END:VEVENT
BEGIN:VEVENT
DTSTART;TZID=America/New_York:20240308T100000
DTEND;TZID=America/New_York:20240308T110000
DTSTAMP:20260424T121928
CREATED:20240223T211650Z
LAST-MODIFIED:20240223T211650Z
UID:10000398-1709892000-1709895600@www.med.unc.edu
SUMMARY:Research in Progress
DESCRIPTION:Presenter: Yifan Dai( Di Wu Lab) \nTalk Title: Interpretable prediction using machine learning methods in longitudinal microbiome data
URL:https://www.med.unc.edu/compmed/event/research-in-progress-6/
LOCATION:Mary Ellen Jones 3116\, 116 Manning Drive\, Chapel Hill\, NC\, 27599\, United States
ATTACH;FMTTYPE=image/jpeg:https://www.med.unc.edu/compmed/wp-content/uploads/sites/852/2024/02/Yifan-Dai.jpg
END:VEVENT
BEGIN:VEVENT
DTSTART;TZID=America/New_York:20240301T100000
DTEND;TZID=America/New_York:20240301T110000
DTSTAMP:20260424T121928
CREATED:20240223T211018Z
LAST-MODIFIED:20240223T211018Z
UID:10000397-1709287200-1709290800@www.med.unc.edu
SUMMARY:Research in Progress
DESCRIPTION:Presenter: Stephanie Ting (Hoadley Lab) \nTalk title: Computational Analysis of Cancer-Adjacent Normal Breast Tissue
URL:https://www.med.unc.edu/compmed/event/research-in-progress-5/
LOCATION:Mary Ellen Jones 3116\, 116 Manning Drive\, Chapel Hill\, NC\, 27599\, United States
ATTACH;FMTTYPE=image/jpeg:https://www.med.unc.edu/compmed/wp-content/uploads/sites/852/2024/02/S-Ting.jpg
END:VEVENT
BEGIN:VEVENT
DTSTART;TZID=America/New_York:20240216T100000
DTEND;TZID=America/New_York:20240216T110000
DTSTAMP:20260424T121928
CREATED:20240208T230116Z
LAST-MODIFIED:20240208T230116Z
UID:10000396-1708077600-1708081200@www.med.unc.edu
SUMMARY:CompMed Research in Progress
DESCRIPTION:Presenter: Guorong Wu (PI) \nTalk title: Understand novel mechanism using machine learning techniques
URL:https://www.med.unc.edu/compmed/event/compmed-research-in-progress-54/
LOCATION:Mary Ellen Jones 3116\, 116 Manning Drive\, Chapel Hill\, NC\, 27599\, United States
ATTACH;FMTTYPE=image/jpeg:https://www.med.unc.edu/compmed/wp-content/uploads/sites/852/2024/02/Guorong-Wu-2024.jpg
END:VEVENT
BEGIN:VEVENT
DTSTART;TZID=America/New_York:20240209T100000
DTEND;TZID=America/New_York:20240209T110000
DTSTAMP:20260424T121928
CREATED:20240123T191536Z
LAST-MODIFIED:20240123T205116Z
UID:10000394-1707472800-1707476400@www.med.unc.edu
SUMMARY:CompMed Research in Progress
DESCRIPTION:Presenter: Harlin Lee\, Ph.D.\, Assistant Professor\, School of Data Science and Society \nTalk Title: ” Self-supervised learning in multimodal pediatric sleep signals”
URL:https://www.med.unc.edu/compmed/event/compmed-research-in-progress-52/
LOCATION:Mary Ellen Jones 3116\, 116 Manning Drive\, Chapel Hill\, NC\, 27599\, United States
ATTACH;FMTTYPE=image/jpeg:https://www.med.unc.edu/compmed/wp-content/uploads/sites/852/2024/01/Harlin-Lee.jpg
END:VEVENT
BEGIN:VEVENT
DTSTART;TZID=America/New_York:20240202T100000
DTEND;TZID=America/New_York:20240202T110000
DTSTAMP:20260424T121928
CREATED:20240208T225432Z
LAST-MODIFIED:20240208T225500Z
UID:10000395-1706868000-1706871600@www.med.unc.edu
SUMMARY:CompMed Research in Progress
DESCRIPTION:Presenter: Yash Agrawal (Perou Lab) \nTalk Title: Analysis of gene expression features correlating with survival from the GEICAM/2013-02 PEARL trial with Cox regression and high-dimensional modeling
URL:https://www.med.unc.edu/compmed/event/compmed-research-in-progress-53/
LOCATION:Mary Ellen Jones 3116\, 116 Manning Drive\, Chapel Hill\, NC\, 27599\, United States
ATTACH;FMTTYPE=image/jpeg:https://www.med.unc.edu/compmed/wp-content/uploads/sites/852/2024/02/Yash-Agrawal.jpg
END:VEVENT
END:VCALENDAR