BEGIN:VCALENDAR
VERSION:2.0
PRODID:-//Core Facilities - ECPv6.15.18//NONSGML v1.0//EN
CALSCALE:GREGORIAN
METHOD:PUBLISH
X-ORIGINAL-URL:https://www.med.unc.edu/corefacilities
X-WR-CALDESC:Events for Core Facilities
REFRESH-INTERVAL;VALUE=DURATION:PT1H
X-Robots-Tag:noindex
X-PUBLISHED-TTL:PT1H
BEGIN:VTIMEZONE
TZID:America/New_York
BEGIN:DAYLIGHT
TZOFFSETFROM:-0500
TZOFFSETTO:-0400
TZNAME:EDT
DTSTART:20180311T070000
END:DAYLIGHT
BEGIN:STANDARD
TZOFFSETFROM:-0400
TZOFFSETTO:-0500
TZNAME:EST
DTSTART:20181104T060000
END:STANDARD
BEGIN:DAYLIGHT
TZOFFSETFROM:-0500
TZOFFSETTO:-0400
TZNAME:EDT
DTSTART:20190310T070000
END:DAYLIGHT
BEGIN:STANDARD
TZOFFSETFROM:-0400
TZOFFSETTO:-0500
TZNAME:EST
DTSTART:20191103T060000
END:STANDARD
BEGIN:DAYLIGHT
TZOFFSETFROM:-0500
TZOFFSETTO:-0400
TZNAME:EDT
DTSTART:20200308T070000
END:DAYLIGHT
BEGIN:STANDARD
TZOFFSETFROM:-0400
TZOFFSETTO:-0500
TZNAME:EST
DTSTART:20201101T060000
END:STANDARD
END:VTIMEZONE
BEGIN:VEVENT
DTSTART;TZID=America/New_York:20191108T150000
DTEND;TZID=America/New_York:20191108T170000
DTSTAMP:20260424T152955
CREATED:20191031T181457Z
LAST-MODIFIED:20191031T185309Z
UID:10000149-1573225200-1573232400@www.med.unc.edu
SUMMARY:Cryo-EM Core Open House
DESCRIPTION:In conjunction with UNC Research Week\, the Cryo EM core is holding an open house.  Stop by the new Cryo EM Core Facility and meet Dr. Joshua Strauss\, Core Director\, and visit the Talos Actica Cryo electron microscope machine and learn about its capabilities.
URL:https://www.med.unc.edu/corefacilities/event/cryo-em-core-open-house/
LOCATION:Glaxo Research Building\, lower floor room 008\, 101 Mason Farm Road\, Chapel Hill
END:VEVENT
END:VCALENDAR