BEGIN:VCALENDAR
VERSION:2.0
PRODID:-//Core Facilities - ECPv6.15.18//NONSGML v1.0//EN
CALSCALE:GREGORIAN
METHOD:PUBLISH
X-ORIGINAL-URL:https://www.med.unc.edu/corefacilities
X-WR-CALDESC:Events for Core Facilities
REFRESH-INTERVAL;VALUE=DURATION:PT1H
X-Robots-Tag:noindex
X-PUBLISHED-TTL:PT1H
BEGIN:VTIMEZONE
TZID:America/New_York
BEGIN:DAYLIGHT
TZOFFSETFROM:-0500
TZOFFSETTO:-0400
TZNAME:EDT
DTSTART:20210314T070000
END:DAYLIGHT
BEGIN:STANDARD
TZOFFSETFROM:-0400
TZOFFSETTO:-0500
TZNAME:EST
DTSTART:20211107T060000
END:STANDARD
BEGIN:DAYLIGHT
TZOFFSETFROM:-0500
TZOFFSETTO:-0400
TZNAME:EDT
DTSTART:20220313T070000
END:DAYLIGHT
BEGIN:STANDARD
TZOFFSETFROM:-0400
TZOFFSETTO:-0500
TZNAME:EST
DTSTART:20221106T060000
END:STANDARD
BEGIN:DAYLIGHT
TZOFFSETFROM:-0500
TZOFFSETTO:-0400
TZNAME:EDT
DTSTART:20230312T070000
END:DAYLIGHT
BEGIN:STANDARD
TZOFFSETFROM:-0400
TZOFFSETTO:-0500
TZNAME:EST
DTSTART:20231105T060000
END:STANDARD
BEGIN:DAYLIGHT
TZOFFSETFROM:-0500
TZOFFSETTO:-0400
TZNAME:EDT
DTSTART:20240310T070000
END:DAYLIGHT
BEGIN:STANDARD
TZOFFSETFROM:-0400
TZOFFSETTO:-0500
TZNAME:EST
DTSTART:20241103T060000
END:STANDARD
END:VTIMEZONE
BEGIN:VEVENT
DTSTART;TZID=America/New_York:20230523T110000
DTEND;TZID=America/New_York:20230523T120000
DTSTAMP:20260424T231432
CREATED:20230516T191636Z
LAST-MODIFIED:20230516T191636Z
UID:10000200-1684839600-1684843200@www.med.unc.edu
SUMMARY:Introduction to Protocols.io Workshop
DESCRIPTION:Introduction to protocols.io\nTuesday\, May 23 at 11:00 am in Room 3116 MEJ\nPresented by Gabriel Gasque\, PhD\n\n\nResearch papers and protocol organization in labs often lack detailed instructions for repeating experiments. protocols.io is an open-access platform for researchers to collaboratively create step-by-step\, interactive and dynamic protocols that can be run on mobile or web. Researchers can share protocols with colleagues\, collaborators\, the scientific community or make them public\, with ease and efficiency. Real-time communication and interaction keep protocols up to date with versioning\, forking/copying\, Q&A\, and troubleshooting. Public protocols receive a DOI and allow open communication with authors and researchers to encourage efficient experimentation and reproducibility. Join this seminar in person or via Zoom to learn more about protocols.io.\n\n \n\n\nThis one-hour seminar will include:\n\n\n \n\n\n1. Introduction to protocol.io’s mission and key functionality\n\n\n2. How to create your own protocols\, share methods with others\, and how to publish protocols\n\n\n3. Q&A \n \n\nCalendar invite\, Zoom link\, and sign-up details to follow.
URL:https://www.med.unc.edu/corefacilities/event/introduction-to-protocols-io-workshop/
LOCATION:Mary Ellen Jones Room 3116
END:VEVENT
BEGIN:VEVENT
DTSTART;TZID=America/New_York:20220920T100000
DTEND;TZID=America/New_York:20220920T120000
DTSTAMP:20260424T231432
CREATED:20220825T172234Z
LAST-MODIFIED:20220825T172234Z
UID:10000176-1663668000-1663675200@www.med.unc.edu
SUMMARY:Neuroscience Microscopy Core and Leica Microsystems: Partner in Microscopy Celebration
DESCRIPTION:
URL:https://www.med.unc.edu/corefacilities/event/neuroscience-microscopy-core-and-leica-microsystems-partner-in-microscopy-celebration/
LOCATION:Mary Ellen Jones Room 3116
END:VEVENT
END:VCALENDAR