BEGIN:VCALENDAR
VERSION:2.0
PRODID:-//Office of Faculty Affairs and Leadership Development - ECPv6.15.18//NONSGML v1.0//EN
CALSCALE:GREGORIAN
METHOD:PUBLISH
X-ORIGINAL-URL:https://www.med.unc.edu/facultyaffairs
X-WR-CALDESC:Events for Office of Faculty Affairs and Leadership Development
REFRESH-INTERVAL;VALUE=DURATION:PT1H
X-Robots-Tag:noindex
X-PUBLISHED-TTL:PT1H
BEGIN:VTIMEZONE
TZID:America/New_York
BEGIN:DAYLIGHT
TZOFFSETFROM:-0500
TZOFFSETTO:-0400
TZNAME:EDT
DTSTART:20170312T070000
END:DAYLIGHT
BEGIN:STANDARD
TZOFFSETFROM:-0400
TZOFFSETTO:-0500
TZNAME:EST
DTSTART:20171105T060000
END:STANDARD
BEGIN:DAYLIGHT
TZOFFSETFROM:-0500
TZOFFSETTO:-0400
TZNAME:EDT
DTSTART:20180311T070000
END:DAYLIGHT
BEGIN:STANDARD
TZOFFSETFROM:-0400
TZOFFSETTO:-0500
TZNAME:EST
DTSTART:20181104T060000
END:STANDARD
BEGIN:DAYLIGHT
TZOFFSETFROM:-0500
TZOFFSETTO:-0400
TZNAME:EDT
DTSTART:20190310T070000
END:DAYLIGHT
BEGIN:STANDARD
TZOFFSETFROM:-0400
TZOFFSETTO:-0500
TZNAME:EST
DTSTART:20191103T060000
END:STANDARD
END:VTIMEZONE
BEGIN:VEVENT
DTSTART;TZID=America/New_York:20180322T163000
DTEND;TZID=America/New_York:20180322T173000
DTSTAMP:20260424T182314
CREATED:20180111T174050Z
LAST-MODIFIED:20180111T174050Z
UID:10001439-1521736200-1521739800@www.med.unc.edu
SUMMARY:Academy of Educators Community Conversation
DESCRIPTION:The Academy of Educators invites all members to attend the third Community Conversation of the academic year.
URL:https://www.med.unc.edu/facultyaffairs/event/academy-of-educators-community-conversation-2/
LOCATION:Bondurant Hall 2020
END:VEVENT
BEGIN:VEVENT
DTSTART;TZID=America/New_York:20180305T120000
DTEND;TZID=America/New_York:20180305T130000
DTSTAMP:20260424T182314
CREATED:20180111T173605Z
LAST-MODIFIED:20180111T173711Z
UID:10001438-1520251200-1520254800@www.med.unc.edu
SUMMARY:Faculty Development Workshop: Support Struggling Students
DESCRIPTION:Join colleagues Neva Howard\, MD\, MS\, Deborah Ingersoll\, PhD.\, Alice D. Ma\, MD\, and Allison Schad\, LCSWA\, LCASA\, for an interactive panel featuring their unique perspectives on and expertise supporting struggling students. Light refreshments will be provided. \nThis workshop is open to Academy of Educators members and the broader UNC School of Medicine Community. Please register here.
URL:https://www.med.unc.edu/facultyaffairs/event/faculty-development-workshop-support-struggling-students/
LOCATION:Bondurant Hall 2035
END:VEVENT
END:VCALENDAR