BEGIN:VCALENDAR
VERSION:2.0
PRODID:-//Office of Faculty Affairs and Leadership Development - ECPv6.15.18//NONSGML v1.0//EN
CALSCALE:GREGORIAN
METHOD:PUBLISH
X-ORIGINAL-URL:https://www.med.unc.edu/facultyaffairs
X-WR-CALDESC:Events for Office of Faculty Affairs and Leadership Development
REFRESH-INTERVAL;VALUE=DURATION:PT1H
X-Robots-Tag:noindex
X-PUBLISHED-TTL:PT1H
BEGIN:VTIMEZONE
TZID:America/New_York
BEGIN:DAYLIGHT
TZOFFSETFROM:-0500
TZOFFSETTO:-0400
TZNAME:EDT
DTSTART:20220313T070000
END:DAYLIGHT
BEGIN:STANDARD
TZOFFSETFROM:-0400
TZOFFSETTO:-0500
TZNAME:EST
DTSTART:20221106T060000
END:STANDARD
BEGIN:DAYLIGHT
TZOFFSETFROM:-0500
TZOFFSETTO:-0400
TZNAME:EDT
DTSTART:20230312T070000
END:DAYLIGHT
BEGIN:STANDARD
TZOFFSETFROM:-0400
TZOFFSETTO:-0500
TZNAME:EST
DTSTART:20231105T060000
END:STANDARD
BEGIN:DAYLIGHT
TZOFFSETFROM:-0500
TZOFFSETTO:-0400
TZNAME:EDT
DTSTART:20240310T070000
END:DAYLIGHT
BEGIN:STANDARD
TZOFFSETFROM:-0400
TZOFFSETTO:-0500
TZNAME:EST
DTSTART:20241103T060000
END:STANDARD
BEGIN:DAYLIGHT
TZOFFSETFROM:-0500
TZOFFSETTO:-0400
TZNAME:EDT
DTSTART:20250309T070000
END:DAYLIGHT
BEGIN:STANDARD
TZOFFSETFROM:-0400
TZOFFSETTO:-0500
TZNAME:EST
DTSTART:20251102T060000
END:STANDARD
END:VTIMEZONE
BEGIN:VEVENT
DTSTART;TZID=America/New_York:20240314T120000
DTEND;TZID=America/New_York:20240314T133000
DTSTAMP:20260424T095030
CREATED:20231114T181626Z
LAST-MODIFIED:20240312T133911Z
UID:10002419-1710417600-1710423000@www.med.unc.edu
SUMMARY:Conflict Engagement as a Leadership Competency - *CME credit offered*
DESCRIPTION:Join the University Ombuds Office for a presentation and discussion of conflict in the workplace.\nThis workshop will provide attendees with resources and tools to approach conflict situations as opportunities for professional development and personal growth. \nFALD Professional Development Series and the Office of the Dean Presents welcomes you to join us a presentation presented by the University Ombuds Office. \n\n\nLearn how to\n\nGain a working definition of conflict and be introduced to strategies for decreasing the likelihood of escalated conflict;\nAnalyze the role of leaders in engaging workplace conflict constructively; and\nIncrease familiarity with the Ombuds Office as a supportive resource for navigating challenging situations\n\n\nI just wanted to reach out to say Thanks for putting this together for us.  I found it really helpful and I really enjoyed the Ombuds – they were quite funny and it was refreshing! \n– UNC School of Medicine attendee \n  \n\nRegister Now!\n\n  \n\nFacilitators\nDawn Osborne-Adams was appointed University Ombuds and Director of the Ombuds Office on August 1\, 2018. \nDawn feels fortunate to serve in this role and is committed to offering excellent ombuds services to everyone who works\, studies and lives at Carolina. She supports efforts to advance the mission of the University and its goal of being a great public university that welcomes and values all members of the campus community and treats everyone with respect\, fairness\, and kindness. \nDawn has devoted her professional life to helping individuals and organizations develop constructive approaches to challenging situations. Before joining Carolina\, Dawn served as a consultant Ombuds at Shell Oil Company\, University Ombudsman at Binghamton University (a campus of the State University of New York)\, an alternative dispute resolution administrator and law clerk for the United States Federal Court and an attorney working in the public interest. \nDawn earned her B.S. from Georgetown University and her J.D. from New York University School of Law. She also holds a certificate in dispute resolution from the Straus Institute at Pepperdine University School of Law. \n  \n \nJoshua Canzona joins Carolina as Associate Ombuds after three years of service as the founding ombudsman at The University of North Carolina School of the Arts. \nBorn and raised in rural North Carolina\, Josh is proud to serve a university committed to enhancing the quality of life for communities across the state through education\, research\, and service. \nJosh taught public high school in Raleigh before working in higher education for the last decade in a variety of staff\, faculty\, and administrator roles. He also values civic engagement and received a Winston Under 40 Leadership Award from the Winston-Salem Chamber of Commerce for service in support of the arts and on government committees advancing social justice and anti-poverty initiatives. \nAs a scholar\, Josh maintains research and writing interests in Muslim-Christian understanding and the comparative study of Christian and Islamic mysticism.\nJosh earned a PhD from Georgetown University\, an EdM from the Harvard Graduate School of Education\, an MTS from Harvard Divinity School\, an MA from The University of Chicago\, and a BA from Loyola University of New Orleans. \n\nCME Information\nAccreditation Statement \nThe School of Medicine of the University of North Carolina at Chapel Hill is accredited by the Accreditation Council for Continuing Medical Education (ACCME) to provide continuing medical education for physicians. \nCredit Statement \nThe School of Medicine of the University of North Carolina at Chapel Hill designates this live activity for a maximum of 1.5 AMA PRA Category 1 Credit(s)™. Physicians should claim only the credit commensurate with the extent of their participation in the activity. \nDisclosure statement \nThis activity has been planned and implemented under the sole supervision of Joshua Canzone and Dawn Osborne-Adams in association with the UNC Office of Continuing Professional Development (CPD). The planners / presenters and CPD staff have no relevant financial relationships with ineligible companies as defined by the ACCME.\nMore about the University Ombuds Office\nPlease visit the University Ombuds Office website to learn more.
URL:https://www.med.unc.edu/facultyaffairs/event/conflict-engagement-as-a-leadership-competency-2/
LOCATION:Zoom
CATEGORIES:Communication
END:VEVENT
BEGIN:VEVENT
DTSTART;TZID=America/New_York:20231130T120000
DTEND;TZID=America/New_York:20231130T130000
DTSTAMP:20260424T095030
CREATED:20230912T210548Z
LAST-MODIFIED:20231205T225415Z
UID:10002407-1701345600-1701349200@www.med.unc.edu
SUMMARY:Conflict Engagement as a Leadership Competency
DESCRIPTION:Join the University Ombuds Office for a presentation and discussion of conflict in the workplace.\nThis workshop will provide attendees with resources and tools to approach conflict situations as opportunities for professional development and personal growth. \nFALD Professional Development Series and the Office of the Dean Presents welcomes you to join us for lunch and a presentation presented by the University Ombuds Office. \n\n\nLearn how to\n\nGain a working definition of conflict and be introduced to strategies for decreasing the likelihood of escalated conflict;\nAnalyze the role of leaders in engaging workplace conflict constructively; and\nIncrease familiarity with the Ombuds Office as a supportive resource for navigating challenging situations\n\n  \n\nWait List Registration \nThis event is at capacity. Please complete the form to be added to the wait list.  We will be in touch if a space becomes available. \n \n  \n\nBefore the session\nPlease join us for lunch. Boxed lunch will be served from 11:30 am – noon. \n\nFacilitators\nDawn Osborne-Adams was appointed University Ombuds and Director of the Ombuds Office on August 1\, 2018. \nDawn feels fortunate to serve in this role and is committed to offering excellent ombuds services to everyone who works\, studies and lives at Carolina. She supports efforts to advance the mission of the University and its goal of being a great public university that welcomes and values all members of the campus community and treats everyone with respect\, fairness\, and kindness. \nDawn has devoted her professional life to helping individuals and organizations develop constructive approaches to challenging situations. Before joining Carolina\, Dawn served as a consultant Ombuds at Shell Oil Company\, University Ombudsman at Binghamton University (a campus of the State University of New York)\, an alternative dispute resolution administrator and law clerk for the United States Federal Court and an attorney working in the public interest. \nDawn earned her B.S. from Georgetown University and her J.D. from New York University School of Law. She also holds a certificate in dispute resolution from the Straus Institute at Pepperdine University School of Law. \n  \n \nJoshua Canzona joins Carolina as Associate Ombuds after three years of service as the founding ombudsman at The University of North Carolina School of the Arts. \nBorn and raised in rural North Carolina\, Josh is proud to serve a university committed to enhancing the quality of life for communities across the state through education\, research\, and service. \nJosh taught public high school in Raleigh before working in higher education for the last decade in a variety of staff\, faculty\, and administrator roles. He also values civic engagement and received a Winston Under 40 Leadership Award from the Winston-Salem Chamber of Commerce for service in support of the arts and on government committees advancing social justice and anti-poverty initiatives. \nAs a scholar\, Josh maintains research and writing interests in Muslim-Christian understanding and the comparative study of Christian and Islamic mysticism.\nJosh earned a PhD from Georgetown University\, an EdM from the Harvard Graduate School of Education\, an MTS from Harvard Divinity School\, an MA from The University of Chicago\, and a BA from Loyola University of New Orleans. \n\nMore about the University Ombuds Office\nPlease visit the University Ombuds Office website to learn more. \nSession Resources\nOmbuds SoM Presentation Conflict Engagement as a Leadership Competency.Nov 2023.Final \nConflict Engagement Leadership Resource Handout
URL:https://www.med.unc.edu/facultyaffairs/event/conflict-engagement-as-a-leadership-competency/
LOCATION:Kirkland Auditorium\, Koury Oral Health Sciences Building
CATEGORIES:Communication
END:VEVENT
END:VCALENDAR