BEGIN:VCALENDAR
VERSION:2.0
PRODID:-//Office of Faculty Affairs and Leadership Development - ECPv6.15.18//NONSGML v1.0//EN
CALSCALE:GREGORIAN
METHOD:PUBLISH
X-ORIGINAL-URL:https://www.med.unc.edu/facultyaffairs
X-WR-CALDESC:Events for Office of Faculty Affairs and Leadership Development
REFRESH-INTERVAL;VALUE=DURATION:PT1H
X-Robots-Tag:noindex
X-PUBLISHED-TTL:PT1H
BEGIN:VTIMEZONE
TZID:America/New_York
BEGIN:DAYLIGHT
TZOFFSETFROM:-0500
TZOFFSETTO:-0400
TZNAME:EDT
DTSTART:20160313T070000
END:DAYLIGHT
BEGIN:STANDARD
TZOFFSETFROM:-0400
TZOFFSETTO:-0500
TZNAME:EST
DTSTART:20161106T060000
END:STANDARD
BEGIN:DAYLIGHT
TZOFFSETFROM:-0500
TZOFFSETTO:-0400
TZNAME:EDT
DTSTART:20170312T070000
END:DAYLIGHT
BEGIN:STANDARD
TZOFFSETFROM:-0400
TZOFFSETTO:-0500
TZNAME:EST
DTSTART:20171105T060000
END:STANDARD
BEGIN:DAYLIGHT
TZOFFSETFROM:-0500
TZOFFSETTO:-0400
TZNAME:EDT
DTSTART:20180311T070000
END:DAYLIGHT
BEGIN:STANDARD
TZOFFSETFROM:-0400
TZOFFSETTO:-0500
TZNAME:EST
DTSTART:20181104T060000
END:STANDARD
END:VTIMEZONE
BEGIN:VEVENT
DTSTART;TZID=America/New_York:20171218T120000
DTEND;TZID=America/New_York:20171218T130000
DTSTAMP:20260424T210057
CREATED:20171129T144032Z
LAST-MODIFIED:20171129T144032Z
UID:10001345-1513598400-1513602000@www.med.unc.edu
SUMMARY:Peer-to-Peer Walk In Clinic
DESCRIPTION:The Academy of Educators invites you to join their monthly Peer-to-Peer Walk In Clinic. Experienced faculty members will be available to assist members with a variety of teaching practices such as building course materials\, creating assessments and providing feedback. This is a great opportunity to ask questions and share your own ideas with your peers.
URL:https://www.med.unc.edu/facultyaffairs/event/peer-to-peer-walk-in-clinic/
LOCATION:Bondurant Hall 2030
END:VEVENT
BEGIN:VEVENT
DTSTART;TZID=America/New_York:20171121T120000
DTEND;TZID=America/New_York:20171121T130000
DTSTAMP:20260424T210057
CREATED:20171103T125758Z
LAST-MODIFIED:20171103T125842Z
UID:10001333-1511265600-1511269200@www.med.unc.edu
SUMMARY:Mentoring Junior Faculty
DESCRIPTION:Join us on Tuesday\, November 21 for an hour-long session on mentoring junior faculty\, hosted by the Academy of Educators. \nSpeakers: Susan Girdler\, PhD\, Professor of Psychiatry and Psychology and Cristin Colford\, MD\, FACP\, Associate Professor of Medicine \n 
URL:https://www.med.unc.edu/facultyaffairs/event/mentoring-junior-faculty/
LOCATION:Bondurant Hall 2030
ORGANIZER;CN="Ellen Hayon":MAILTO:Ellen_Hayon@med.unc.edu
END:VEVENT
END:VCALENDAR