BEGIN:VCALENDAR
VERSION:2.0
PRODID:-//Office of Faculty Affairs and Leadership Development - ECPv6.15.18//NONSGML v1.0//EN
CALSCALE:GREGORIAN
METHOD:PUBLISH
X-ORIGINAL-URL:https://www.med.unc.edu/facultyaffairs
X-WR-CALDESC:Events for Office of Faculty Affairs and Leadership Development
REFRESH-INTERVAL;VALUE=DURATION:PT1H
X-Robots-Tag:noindex
X-PUBLISHED-TTL:PT1H
BEGIN:VTIMEZONE
TZID:America/New_York
BEGIN:DAYLIGHT
TZOFFSETFROM:-0500
TZOFFSETTO:-0400
TZNAME:EDT
DTSTART:20170312T070000
END:DAYLIGHT
BEGIN:STANDARD
TZOFFSETFROM:-0400
TZOFFSETTO:-0500
TZNAME:EST
DTSTART:20171105T060000
END:STANDARD
BEGIN:DAYLIGHT
TZOFFSETFROM:-0500
TZOFFSETTO:-0400
TZNAME:EDT
DTSTART:20180311T070000
END:DAYLIGHT
BEGIN:STANDARD
TZOFFSETFROM:-0400
TZOFFSETTO:-0500
TZNAME:EST
DTSTART:20181104T060000
END:STANDARD
BEGIN:DAYLIGHT
TZOFFSETFROM:-0500
TZOFFSETTO:-0400
TZNAME:EDT
DTSTART:20190310T070000
END:DAYLIGHT
BEGIN:STANDARD
TZOFFSETFROM:-0400
TZOFFSETTO:-0500
TZNAME:EST
DTSTART:20191103T060000
END:STANDARD
END:VTIMEZONE
BEGIN:VEVENT
DTSTART;TZID=America/New_York:20180521T120000
DTEND;TZID=America/New_York:20180521T130000
DTSTAMP:20260425T220806
CREATED:20180111T172918Z
LAST-MODIFIED:20180111T173000Z
UID:10001436-1526904000-1526907600@www.med.unc.edu
SUMMARY:Peer-to-Peer Walk In Clinic
DESCRIPTION:Hosted by the Academy of Educators\, these clinics will feature experienced faculty members who can assist you with a variety of teaching practices such as building course materials\, creating assessments and providing feedback. This is a great opportunity to ask questions and share your own ideas with your peers!
URL:https://www.med.unc.edu/facultyaffairs/event/peer-to-peer-walk-in-clinic-2/2018-05-21/
LOCATION:Bondurant Hall 2035
END:VEVENT
BEGIN:VEVENT
DTSTART;TZID=America/New_York:20180402T120000
DTEND;TZID=America/New_York:20180402T130000
DTSTAMP:20260425T220806
CREATED:20180312T192723Z
LAST-MODIFIED:20180312T192833Z
UID:10001450-1522670400-1522674000@www.med.unc.edu
SUMMARY:Academy of Educators Faculty Development Workshop: Simulation
DESCRIPTION:Join colleagues Benny L. Joyner Jr.\, MD\, MPH and Kimberly Blasius\, MD for an interactive simulation workshop on Monday\, April 2nd from 12 – 1 PM in Bonudrant Hall 2035. \nLight refreshments will be provided. This workshop is open to Academy of Educators members and the broader UNC School of Medicine Community. Click here to register!
URL:https://www.med.unc.edu/facultyaffairs/event/academy-of-educators-faculty-development-workshop-simulation/
LOCATION:Bondurant Hall 2035
END:VEVENT
BEGIN:VEVENT
DTSTART;TZID=America/New_York:20180305T120000
DTEND;TZID=America/New_York:20180305T130000
DTSTAMP:20260425T220806
CREATED:20180111T173605Z
LAST-MODIFIED:20180111T173711Z
UID:10001438-1520251200-1520254800@www.med.unc.edu
SUMMARY:Faculty Development Workshop: Support Struggling Students
DESCRIPTION:Join colleagues Neva Howard\, MD\, MS\, Deborah Ingersoll\, PhD.\, Alice D. Ma\, MD\, and Allison Schad\, LCSWA\, LCASA\, for an interactive panel featuring their unique perspectives on and expertise supporting struggling students. Light refreshments will be provided. \nThis workshop is open to Academy of Educators members and the broader UNC School of Medicine Community. Please register here.
URL:https://www.med.unc.edu/facultyaffairs/event/faculty-development-workshop-support-struggling-students/
LOCATION:Bondurant Hall 2035
END:VEVENT
END:VCALENDAR