BEGIN:VCALENDAR
VERSION:2.0
PRODID:-//Office of Faculty Affairs and Leadership Development - ECPv6.15.18//NONSGML v1.0//EN
CALSCALE:GREGORIAN
METHOD:PUBLISH
X-ORIGINAL-URL:https://www.med.unc.edu/facultyaffairs
X-WR-CALDESC:Events for Office of Faculty Affairs and Leadership Development
REFRESH-INTERVAL;VALUE=DURATION:PT1H
X-Robots-Tag:noindex
X-PUBLISHED-TTL:PT1H
BEGIN:VTIMEZONE
TZID:America/New_York
BEGIN:DAYLIGHT
TZOFFSETFROM:-0500
TZOFFSETTO:-0400
TZNAME:EDT
DTSTART:20170312T070000
END:DAYLIGHT
BEGIN:STANDARD
TZOFFSETFROM:-0400
TZOFFSETTO:-0500
TZNAME:EST
DTSTART:20171105T060000
END:STANDARD
BEGIN:DAYLIGHT
TZOFFSETFROM:-0500
TZOFFSETTO:-0400
TZNAME:EDT
DTSTART:20180311T070000
END:DAYLIGHT
BEGIN:STANDARD
TZOFFSETFROM:-0400
TZOFFSETTO:-0500
TZNAME:EST
DTSTART:20181104T060000
END:STANDARD
BEGIN:DAYLIGHT
TZOFFSETFROM:-0500
TZOFFSETTO:-0400
TZNAME:EDT
DTSTART:20190310T070000
END:DAYLIGHT
BEGIN:STANDARD
TZOFFSETFROM:-0400
TZOFFSETTO:-0500
TZNAME:EST
DTSTART:20191103T060000
END:STANDARD
END:VTIMEZONE
BEGIN:VEVENT
DTSTART;TZID=America/New_York:20180408T080000
DTEND;TZID=America/New_York:20180414T170000
DTSTAMP:20260425T141450
CREATED:20180320T184303Z
LAST-MODIFIED:20180331T223227Z
UID:10001298-1523174400-1523725200@www.med.unc.edu
SUMMARY:Franklin Street Yoga
DESCRIPTION:Beginning today\, Franklin Street Yoga is generously offering a week of free yoga! Let them know you are there for National Doctor’s Week\, and you’ll be ready to challenge your mind and strengthen your spirit. Namaste! \nThe Courtyard\n431 W. Franklin Street\, Suite 410\nChapel Hill\, NC 27516\nDirections \nNote: The parking lot is a metered town lot. Parking on the street on S. Roberson towards Cameron is free after 4pm. Sunday is free. \nUNC Physician Appreciation Week
URL:https://www.med.unc.edu/facultyaffairs/event/franklin-street-yoga/
LOCATION:Franklin Street Yoga\, 431 W. Franklin Street\, Suite 410\, Chapel Hill\, NC\, 27516\, United States
CATEGORIES:Training
GEO:35.9100984;-79.0628725
X-APPLE-STRUCTURED-LOCATION;VALUE=URI;X-ADDRESS=Franklin Street Yoga 431 W. Franklin Street Suite 410 Chapel Hill NC 27516 United States;X-APPLE-RADIUS=500;X-TITLE=431 W. Franklin Street\, Suite 410:geo:-79.0628725,35.9100984
END:VEVENT
END:VCALENDAR