BEGIN:VCALENDAR
VERSION:2.0
PRODID:-//Office of Faculty Affairs and Leadership Development - ECPv6.15.18//NONSGML v1.0//EN
CALSCALE:GREGORIAN
METHOD:PUBLISH
X-ORIGINAL-URL:https://www.med.unc.edu/facultyaffairs
X-WR-CALDESC:Events for Office of Faculty Affairs and Leadership Development
REFRESH-INTERVAL;VALUE=DURATION:PT1H
X-Robots-Tag:noindex
X-PUBLISHED-TTL:PT1H
BEGIN:VTIMEZONE
TZID:America/New_York
BEGIN:DAYLIGHT
TZOFFSETFROM:-0500
TZOFFSETTO:-0400
TZNAME:EDT
DTSTART:20170312T070000
END:DAYLIGHT
BEGIN:STANDARD
TZOFFSETFROM:-0400
TZOFFSETTO:-0500
TZNAME:EST
DTSTART:20171105T060000
END:STANDARD
BEGIN:DAYLIGHT
TZOFFSETFROM:-0500
TZOFFSETTO:-0400
TZNAME:EDT
DTSTART:20180311T070000
END:DAYLIGHT
BEGIN:STANDARD
TZOFFSETFROM:-0400
TZOFFSETTO:-0500
TZNAME:EST
DTSTART:20181104T060000
END:STANDARD
BEGIN:DAYLIGHT
TZOFFSETFROM:-0500
TZOFFSETTO:-0400
TZNAME:EDT
DTSTART:20190310T070000
END:DAYLIGHT
BEGIN:STANDARD
TZOFFSETFROM:-0400
TZOFFSETTO:-0500
TZNAME:EST
DTSTART:20191103T060000
END:STANDARD
END:VTIMEZONE
BEGIN:VEVENT
DTSTART;TZID=America/New_York:20180322T110000
DTEND;TZID=America/New_York:20180322T140000
DTSTAMP:20260424T233547
CREATED:20180228T143435Z
LAST-MODIFIED:20180228T143435Z
UID:10001442-1521716400-1521727200@www.med.unc.edu
SUMMARY:Researcher Appreciation Day
DESCRIPTION:The Office of Research\, Office of Faculty Affairs & Leadership Development and the School of Medicine Wellness Committee would like to invite all research faculty and technical staff to join us for Researcher Appreciation Day on Thursday\, March 22\, 2018 between 11 AM – 2 PM! \nHosted in the basement floor of MBRB\, the event will feature complimentary 10-minute massages\, meditation and breathing workshops\, raffle prizes from local vendors and healthy snacks in addition to other wellness resources. \nWe hope you’ll take time out of your day to recharge\, connect with others\, and enjoy a small thank you from us for the work that you do! \n \n  \n  \n 
URL:https://www.med.unc.edu/facultyaffairs/event/researcher-appreciation-day/
LOCATION:MBRB Basement Lobby
END:VEVENT
END:VCALENDAR