BEGIN:VCALENDAR
VERSION:2.0
PRODID:-//Office of Faculty Affairs and Leadership Development - ECPv6.15.18//NONSGML v1.0//EN
CALSCALE:GREGORIAN
METHOD:PUBLISH
X-ORIGINAL-URL:https://www.med.unc.edu/facultyaffairs
X-WR-CALDESC:Events for Office of Faculty Affairs and Leadership Development
REFRESH-INTERVAL;VALUE=DURATION:PT1H
X-Robots-Tag:noindex
X-PUBLISHED-TTL:PT1H
BEGIN:VTIMEZONE
TZID:America/New_York
BEGIN:DAYLIGHT
TZOFFSETFROM:-0500
TZOFFSETTO:-0400
TZNAME:EDT
DTSTART:20230312T070000
END:DAYLIGHT
BEGIN:STANDARD
TZOFFSETFROM:-0400
TZOFFSETTO:-0500
TZNAME:EST
DTSTART:20231105T060000
END:STANDARD
BEGIN:DAYLIGHT
TZOFFSETFROM:-0500
TZOFFSETTO:-0400
TZNAME:EDT
DTSTART:20240310T070000
END:DAYLIGHT
BEGIN:STANDARD
TZOFFSETFROM:-0400
TZOFFSETTO:-0500
TZNAME:EST
DTSTART:20241103T060000
END:STANDARD
BEGIN:DAYLIGHT
TZOFFSETFROM:-0500
TZOFFSETTO:-0400
TZNAME:EDT
DTSTART:20250309T070000
END:DAYLIGHT
BEGIN:STANDARD
TZOFFSETFROM:-0400
TZOFFSETTO:-0500
TZNAME:EST
DTSTART:20251102T060000
END:STANDARD
END:VTIMEZONE
BEGIN:VEVENT
DTSTART;TZID=America/New_York:20241028T173000
DTEND;TZID=America/New_York:20241028T183000
DTSTAMP:20260424T140331
CREATED:20240627T191212Z
LAST-MODIFIED:20240816T171322Z
UID:10002446-1730136600-1730140200@www.med.unc.edu
SUMMARY:Walk and Talk with APWIMS
DESCRIPTION:Lacking in self care? \nLooking for a supportive space to share your thoughts and seek support? \nNeed a walking buddy? \nWe welcome everyone at the School of Medicine to take some time for self-care and join us as we discuss topics that matter to us while promoting physical well-being. Participants will enjoyed a leisurely one-mile walk on a trial on or near campus providing a scenic backdrop for vibrant conversations. \nMeeting place:  The Forest Theatre \nRain date: October 30\, 5:30 pm \n  \n\nRegister Now!\nTarget audience: All SOM faculty and staff\n \n\n\nWalking leader\n  \nJacqueline “Jackie” Herrfeldt Riely\, MD\, MS \nAssistant Clinical Professor\nObstetrics and Gynecology \n  \n  \n  \n  \n  \n\n 
URL:https://www.med.unc.edu/facultyaffairs/event/walkandtalk1/
LOCATION:The Forest Theatre\, 123 S Boundary St\, Chapel Hill\, NC\, 27514
CATEGORIES:Communication
END:VEVENT
END:VCALENDAR