BEGIN:VCALENDAR
VERSION:2.0
PRODID:-//PRIME POCUS Learning Network - ECPv6.15.18//NONSGML v1.0//EN
CALSCALE:GREGORIAN
METHOD:PUBLISH
X-ORIGINAL-URL:https://www.med.unc.edu/fammed/prime
X-WR-CALDESC:Events for PRIME POCUS Learning Network
REFRESH-INTERVAL;VALUE=DURATION:PT1H
X-Robots-Tag:noindex
X-PUBLISHED-TTL:PT1H
BEGIN:VTIMEZONE
TZID:America/New_York
BEGIN:DAYLIGHT
TZOFFSETFROM:-0500
TZOFFSETTO:-0400
TZNAME:EDT
DTSTART:20250309T070000
END:DAYLIGHT
BEGIN:STANDARD
TZOFFSETFROM:-0400
TZOFFSETTO:-0500
TZNAME:EST
DTSTART:20251102T060000
END:STANDARD
BEGIN:DAYLIGHT
TZOFFSETFROM:-0500
TZOFFSETTO:-0400
TZNAME:EDT
DTSTART:20260308T070000
END:DAYLIGHT
BEGIN:STANDARD
TZOFFSETFROM:-0400
TZOFFSETTO:-0500
TZNAME:EST
DTSTART:20261101T060000
END:STANDARD
BEGIN:DAYLIGHT
TZOFFSETFROM:-0500
TZOFFSETTO:-0400
TZNAME:EDT
DTSTART:20270314T070000
END:DAYLIGHT
BEGIN:STANDARD
TZOFFSETFROM:-0400
TZOFFSETTO:-0500
TZNAME:EST
DTSTART:20271107T060000
END:STANDARD
END:VTIMEZONE
BEGIN:VEVENT
DTSTART;TZID=America/New_York:20261120T080000
DTEND;TZID=America/New_York:20261121T170000
DTSTAMP:20260424T194906
CREATED:20260319T165243Z
LAST-MODIFIED:20260319T172258Z
UID:10000008-1795161600-1795280400@www.med.unc.edu
SUMMARY:2-Day POCUS Workshop | Tiers 1-3 | Tulane
DESCRIPTION:The two-day workshop builds on the content of the one-day course and then incorporates all Tier 3 and select Tier 4 applications from Project FOCUS. In addition\, learners are introduced to foundational cardiac POCUS skills\, expanding their diagnostic capabilities in primary care.
URL:https://www.med.unc.edu/fammed/prime/workshop/2-day-pocus-workshop-tiers-1-3-tulane/
LOCATION:Tulane Center for Advanced Medical Simulation and Team Training\, 131 S Robertson St. 3rd Floor\, New Orleans\, LA\, 70112\, United States
CATEGORIES:2-Day Workshop
END:VEVENT
END:VCALENDAR