BEGIN:VCALENDAR
VERSION:2.0
PRODID:-//Department of Family Medicine - ECPv6.15.18//NONSGML v1.0//EN
CALSCALE:GREGORIAN
METHOD:PUBLISH
X-ORIGINAL-URL:https://www.med.unc.edu/fammed
X-WR-CALDESC:Events for Department of Family Medicine
REFRESH-INTERVAL;VALUE=DURATION:PT1H
X-Robots-Tag:noindex
X-PUBLISHED-TTL:PT1H
BEGIN:VTIMEZONE
TZID:America/New_York
BEGIN:DAYLIGHT
TZOFFSETFROM:-0500
TZOFFSETTO:-0400
TZNAME:EDT
DTSTART:20170312T070000
END:DAYLIGHT
BEGIN:STANDARD
TZOFFSETFROM:-0400
TZOFFSETTO:-0500
TZNAME:EST
DTSTART:20171105T060000
END:STANDARD
BEGIN:DAYLIGHT
TZOFFSETFROM:-0500
TZOFFSETTO:-0400
TZNAME:EDT
DTSTART:20180311T070000
END:DAYLIGHT
BEGIN:STANDARD
TZOFFSETFROM:-0400
TZOFFSETTO:-0500
TZNAME:EST
DTSTART:20181104T060000
END:STANDARD
BEGIN:DAYLIGHT
TZOFFSETFROM:-0500
TZOFFSETTO:-0400
TZNAME:EDT
DTSTART:20190310T070000
END:DAYLIGHT
BEGIN:STANDARD
TZOFFSETFROM:-0400
TZOFFSETTO:-0500
TZNAME:EST
DTSTART:20191103T060000
END:STANDARD
BEGIN:DAYLIGHT
TZOFFSETFROM:-0500
TZOFFSETTO:-0400
TZNAME:EDT
DTSTART:20200308T070000
END:DAYLIGHT
BEGIN:STANDARD
TZOFFSETFROM:-0400
TZOFFSETTO:-0500
TZNAME:EST
DTSTART:20201101T060000
END:STANDARD
BEGIN:DAYLIGHT
TZOFFSETFROM:-0500
TZOFFSETTO:-0400
TZNAME:EDT
DTSTART:20210314T070000
END:DAYLIGHT
BEGIN:STANDARD
TZOFFSETFROM:-0400
TZOFFSETTO:-0500
TZNAME:EST
DTSTART:20211107T060000
END:STANDARD
END:VTIMEZONE
BEGIN:VEVENT
DTSTART;TZID=America/New_York:20201111T080000
DTEND;TZID=America/New_York:20201111T090000
DTSTAMP:20260422T105516
CREATED:20201016T204135Z
LAST-MODIFIED:20201016T204307Z
UID:10000016-1605081600-1605085200@www.med.unc.edu
SUMMARY:Ghazaleh Moayedi\, DO\, MPH\, FACOG - Complex Family Planning Specialist
DESCRIPTION:If you are interested in joining this Grand Rounds session via Webex\, please contact Reid Johnson to register.
URL:https://www.med.unc.edu/fammed/event/ghazaleh-moayedi-do-mph-facog-complex-family-planning-specialist/
LOCATION:UNC Family Medicine\, 590 Manning Drive\, Chapel Hill\, NC\, 27599-7595
CATEGORIES:Grand Rounds
GEO:35.89866;-79.0378815
X-APPLE-STRUCTURED-LOCATION;VALUE=URI;X-ADDRESS=UNC Family Medicine 590 Manning Drive Chapel Hill NC 27599-7595;X-APPLE-RADIUS=500;X-TITLE=590 Manning Drive:geo:-79.0378815,35.89866
END:VEVENT
BEGIN:VEVENT
DTSTART;VALUE=DATE:20180413
DTEND;VALUE=DATE:20180415
DTSTAMP:20260422T105516
CREATED:20180303T193859Z
LAST-MODIFIED:20180313T193506Z
UID:10000012-1523577600-1523750399@www.med.unc.edu
SUMMARY:2018 Alumni & Friends Weekend
DESCRIPTION:This years Alumnia & Friends weekend will feature the Second Annual John T. Henley Lectureby Warren Newton MD\, MPH “Innovation in Chronic Disease Prevention and Management.” Alumni of UNC Family Medicine’s Preventive Medicine Program are welcome! \nThe Alumni & Friends Weekend is a wonderful opportunity to reconnect with classmates and faculty\, make new friends and learn from amazing educators on many topics from the latest clinical innovation to a discussion of challenges and opportunities in treatment and prevention of chronic illness. Register now! \nJust some of the activities you can look forward to include (full schedule here): \n\nThe Second Annual John T. Henley Lecture: Leadership and Professionalism: What do they mean for Family Physicians in April\, 2018? by Warren Newton\, MD\, MPH\, President and CEO Elect\, American Board of Family Medicine; Director of NC AHEC. Moderated by Cristy Page\, MD\, MPH\, Chair of UNC Family Medicine.\nBreakfast with physician writers Nicole Swiner\, MD\, Peter Curtis\, MD\, Peter Rizzolo\, MD\, and Jamila Battle\, MD\nSpecial rapid-fire “Open Mic” session of alumni presentations moderated by Sam Weir\, MD\nSpecial Reception and Dinner for alumni and faculty\n8 hours of CME
URL:https://www.med.unc.edu/fammed/education/alumni-friends-weekend/
LOCATION:UNC Family Medicine\, 590 Manning Drive\, Chapel Hill\, NC\, 27599-7595
CATEGORIES:homepage event
ATTACH;FMTTYPE=image/jpeg:https://www.med.unc.edu/fammed/wp-content/uploads/sites/454/2018/03/Alumni-reunion-pic--e1521042154297.jpeg
GEO:35.89866;-79.0378815
X-APPLE-STRUCTURED-LOCATION;VALUE=URI;X-ADDRESS=UNC Family Medicine 590 Manning Drive Chapel Hill NC 27599-7595;X-APPLE-RADIUS=500;X-TITLE=590 Manning Drive:geo:-79.0378815,35.89866
END:VEVENT
END:VCALENDAR