BEGIN:VCALENDAR
VERSION:2.0
PRODID:-//Finance and Business Operations - ECPv6.15.18//NONSGML v1.0//EN
CALSCALE:GREGORIAN
METHOD:PUBLISH
X-ORIGINAL-URL:https://www.med.unc.edu/fbo
X-WR-CALDESC:Events for Finance and Business Operations
REFRESH-INTERVAL;VALUE=DURATION:PT1H
X-Robots-Tag:noindex
X-PUBLISHED-TTL:PT1H
BEGIN:VTIMEZONE
TZID:America/New_York
BEGIN:DAYLIGHT
TZOFFSETFROM:-0500
TZOFFSETTO:-0400
TZNAME:EDT
DTSTART:20230312T070000
END:DAYLIGHT
BEGIN:STANDARD
TZOFFSETFROM:-0400
TZOFFSETTO:-0500
TZNAME:EST
DTSTART:20231105T060000
END:STANDARD
BEGIN:DAYLIGHT
TZOFFSETFROM:-0500
TZOFFSETTO:-0400
TZNAME:EDT
DTSTART:20240310T070000
END:DAYLIGHT
BEGIN:STANDARD
TZOFFSETFROM:-0400
TZOFFSETTO:-0500
TZNAME:EST
DTSTART:20241103T060000
END:STANDARD
BEGIN:DAYLIGHT
TZOFFSETFROM:-0500
TZOFFSETTO:-0400
TZNAME:EDT
DTSTART:20250309T070000
END:DAYLIGHT
BEGIN:STANDARD
TZOFFSETFROM:-0400
TZOFFSETTO:-0500
TZNAME:EST
DTSTART:20251102T060000
END:STANDARD
END:VTIMEZONE
BEGIN:VEVENT
DTSTART;TZID=America/New_York:20240822T130000
DTEND;TZID=America/New_York:20240822T140000
DTSTAMP:20260424T095358
CREATED:20240304T154438Z
LAST-MODIFIED:20240726T182427Z
UID:10001576-1724331600-1724335200@www.med.unc.edu
SUMMARY:Concur~ Booking Travel
DESCRIPTION:Zoom Link: https://zoom.us/j/93813651510
URL:https://www.med.unc.edu/fbo/events/concur-booking-travel-2/
END:VEVENT
BEGIN:VEVENT
DTSTART;TZID=America/New_York:20240829T100000
DTEND;TZID=America/New_York:20240829T110000
DTSTAMP:20260424T095358
CREATED:20240726T182542Z
LAST-MODIFIED:20240805T150943Z
UID:10001585-1724925600-1724929200@www.med.unc.edu
SUMMARY:Departmental Workflow Work Session
DESCRIPTION:Link: https://zoom.us/j/98320829352
URL:https://www.med.unc.edu/fbo/events/departmental-workflow-work-session/
END:VEVENT
BEGIN:VEVENT
DTSTART;TZID=America/New_York:20240905T130000
DTEND;TZID=America/New_York:20240905T140000
DTSTAMP:20260424T095358
CREATED:20240903T125509Z
LAST-MODIFIED:20240905T143456Z
UID:10001587-1725541200-1725544800@www.med.unc.edu
SUMMARY:Creating a Request Training
DESCRIPTION:Link: https://zoom.us/j/96285810895
URL:https://www.med.unc.edu/fbo/events/creating-a-request-training/
END:VEVENT
BEGIN:VEVENT
DTSTART;TZID=America/New_York:20240912T130000
DTEND;TZID=America/New_York:20240912T140000
DTSTAMP:20260424T095358
CREATED:20240903T125648Z
LAST-MODIFIED:20240905T143424Z
UID:10001588-1726146000-1726149600@www.med.unc.edu
SUMMARY:Creating/Linking an Expense Report Training
DESCRIPTION:Link: https://zoom.us/j/3104963136?omn=91287400164
URL:https://www.med.unc.edu/fbo/events/creating-linking-an-expense-report-training/
END:VEVENT
BEGIN:VEVENT
DTSTART;TZID=America/New_York:20240917T110000
DTEND;TZID=America/New_York:20240917T120000
DTSTAMP:20260424T095358
CREATED:20240903T125956Z
LAST-MODIFIED:20240903T125956Z
UID:10001591-1726570800-1726574400@www.med.unc.edu
SUMMARY:Concur MythBusters Training
DESCRIPTION:Link: https://zoom.us/j/91226769364
URL:https://www.med.unc.edu/fbo/events/concur-mythbusters-training-2/
END:VEVENT
BEGIN:VEVENT
DTSTART;TZID=America/New_York:20240919T130000
DTEND;TZID=America/New_York:20240919T140000
DTSTAMP:20260424T095358
CREATED:20240903T125739Z
LAST-MODIFIED:20240905T143329Z
UID:10001589-1726750800-1726754400@www.med.unc.edu
SUMMARY:Personal Days with Business Travel Training
DESCRIPTION:Link: https://zoom.us/j/94245847353
URL:https://www.med.unc.edu/fbo/events/personal-days-with-business-travel/
END:VEVENT
BEGIN:VEVENT
DTSTART;TZID=America/New_York:20240926T130000
DTEND;TZID=America/New_York:20240926T140000
DTSTAMP:20260424T095358
CREATED:20240903T125855Z
LAST-MODIFIED:20240905T143300Z
UID:10001590-1727355600-1727359200@www.med.unc.edu
SUMMARY:Booking Travel Training
DESCRIPTION:Link: https://zoom.us/j/93813651510
URL:https://www.med.unc.edu/fbo/events/booking-travel-training/
END:VEVENT
END:VCALENDAR